BEGIN:VCALENDAR
PRODID:NingEventWidget-v1
VERSION:2.0
METHOD:PUBLISH
BEGIN:VTIMEZONE
TZID:America/New_York
X-LIC-LOCATION:America/New_York
BEGIN:DAYLIGHT
TZOFFSETFROM:-0500
TZOFFSETTO:-0400
TZNAME:EDT
DTSTART:19700308T020000
RRULE:FREQ=YEARLY;BYMONTH=3;BYDAY=2SU
END:DAYLIGHT
BEGIN:STANDARD
TZOFFSETFROM:-0400
TZOFFSETTO:-0500
TZNAME:EST
DTSTART:19701101T020000
RRULE:FREQ=YEARLY;BYMONTH=11;BYDAY=1SU
END:STANDARD
END:VTIMEZONE
BEGIN:VEVENT
UID:2938326:Event:147289
DTSTAMP:20260422T065028Z
SUMMARY:Hike: Tripod Rock Mystery
DESCRIPTION:Bundle up YPs, this late winter we are venturing out to in
 vestigate one of New Jerseyâ€™s mysteries, the Tripod Rock.Â  Weird NJ
  reports that there are theories that this rock was purposefully balan
 ced by prehistoric humans while others give all the credit to glacial 
 movement.Â  Read up here on what to watch out for then grab your boots
 , water bottle, and lots of layers and meet us for a winter romp to th
 e rock.\n\nÂ \nSpecs:The hike is classified as moderate- some uphill a
 nd downhill parts.The hike is about 4 miles long and will take 2 to 2.
 5 hours.Member Cost:$5 for the first 5 to buy a ticket$10 for the next
  6-25 to buy a ticket$20 at the door (so please register online)Non-Me
 mber Cost:$20 online and at the doorTickets:There are a limited number
  of Tickets for sale. Tickets are not mailed, but your name will be ke
 pt at the door. Actual hike is subject to change depending on weather 
 conditions, fallen trees, etc. All sales are final.Sweeper:If the grou
 p size is larger than 10, we are going to look for a volunteer to act 
 as a sweeper.Hike Leader:Dave will be leading this hike.He not be wait
 ing for late comers; in fairness to those who arrive on time, the hike
  will start on time.What to bring:Hiking boots and 2 liters of waterar
 e required.Please dress in layers that are not made out of cotton. Cot
 ton, when wet, does not dry and can make you feel much colder. Synthet
 ic fiber outdoor wear is always ideal in all weather conditions and al
 l seasons.Consider bringing a snack as well if you may get hungry whil
 e hiking.Inclement Weather:Heavy precipitation (rain or snow) will can
 cel this hike. Also, the forecasted high for the day will have to be a
 bove 32 degrees and no standing snow cover on the ground. Please check
  your inbox for updates and the NJYP.org calendar. Tickets will be ref
 unded.Directions:Head north on I-287. Follow I-287 north until exit 45
 : Boonton (Wooton St).Â  At the end of the exit ramp, go straight unti
 l the stop sign then make a left onto Wooton St.Â  Follow Wooton St. f
 or a bit (big uphill) until you see the blinking red light which is a 
 4 way stop.Â  At that light, make a right onto Boonton Ave (Rt. 511).Â
   Follow 511 for approx 2.7 miles and be mindful that there is a quick
  right and left turn to stay on Rt. 511 at some point. Youâ€™ll see th
 e park on the left.Â  Then parking lot entrance is opposite of Mars Ct
  on the right side.Google Maps Link:http://goo.gl/maps/6GK6How to find
  the group:Meet in the parking lot next to the visitorâ€™s center buil
 ding.Â  If that lot is full, park on Mars Court and carefully walk acr
 oss the street to the parking lot.\n\nFor more information visit http:
 //njyp.org/events/hike-tripod-rock-mystery-1
DTSTART;TZID=America/New_York:20110312T103000
DTEND;TZID=America/New_York:20110312T130000
CATEGORIES:"morris county", athletic
LOCATION:Pyramid Mountain Visitors Center
WEBSITE:http://goo.gl/maps/6GK6
URL:http://goo.gl/maps/6GK6
CONTACT:
ORGANIZER;CN="Brian and Mike":http://njyp.org/profile/BrianMike
ATTACH;FMTTYPE="image/jpeg":http://storage.ning.com/topology/rest/1.0/
 file/get/1088680147?profile=original
ATTENDEE;ROLE=REQ-PARTICIPANT;PARTSTAT=ACCEPTED;RSVP=TRUE;CN="rachel i
 rene":http://njyp.org/profile/rachel_irene
ATTENDEE;ROLE=REQ-PARTICIPANT;PARTSTAT=ACCEPTED;RSVP=TRUE;CN=Nita:http
 ://njyp.org/profile/NitaSilimkhan
ATTENDEE;ROLE=REQ-PARTICIPANT;PARTSTAT=ACCEPTED;RSVP=TRUE;CN="Michael 
 Keating":http://njyp.org/profile/MichaelKeating
ATTENDEE;ROLE=REQ-PARTICIPANT;PARTSTAT=ACCEPTED;RSVP=TRUE;CN="Vincent 
 Pittaro":http://njyp.org/profile/VincentPittaroJr
ATTENDEE;ROLE=REQ-PARTICIPANT;PARTSTAT=ACCEPTED;RSVP=TRUE;CN=Chig:http
 ://njyp.org/profile/ChiragAlmoula
ATTENDEE;ROLE=REQ-PARTICIPANT;PARTSTAT=ACCEPTED;RSVP=TRUE;CN="Jessica 
 Gill":http://njyp.org/profile/JessicaGill
ATTENDEE;ROLE=REQ-PARTICIPANT;PARTSTAT=ACCEPTED;RSVP=TRUE;CN=Kristan:h
 ttp://njyp.org/profile/Kristan
ATTENDEE;ROLE=REQ-PARTICIPANT;PARTSTAT=ACCEPTED;RSVP=TRUE;CN=Larry:htt
 p://njyp.org/profile/LarryYang
ATTENDEE;ROLE=REQ-PARTICIPANT;PARTSTAT=ACCEPTED;RSVP=TRUE;CN="joseph m
 atelli":http://njyp.org/profile/josephmatelli
ATTENDEE;ROLE=REQ-PARTICIPANT;PARTSTAT=ACCEPTED;RSVP=TRUE;CN=Melissa:h
 ttp://njyp.org/profile/Melissa117
ATTENDEE;ROLE=REQ-PARTICIPANT;PARTSTAT=ACCEPTED;RSVP=TRUE;CN="Demetriu
 s Fernandes":http://njyp.org/profile/DemetriusFernandes
ATTENDEE;ROLE=REQ-PARTICIPANT;PARTSTAT=ACCEPTED;RSVP=TRUE;CN="Tara Bur
 ns":http://njyp.org/profile/TaraBurns
ATTENDEE;ROLE=REQ-PARTICIPANT;PARTSTAT=ACCEPTED;RSVP=TRUE;CN=Rebecca:h
 ttp://njyp.org/profile/Rebecca
ATTENDEE;ROLE=REQ-PARTICIPANT;PARTSTAT=ACCEPTED;RSVP=TRUE;CN=Keira:htt
 p://njyp.org/profile/Keira
ATTENDEE;ROLE=REQ-PARTICIPANT;PARTSTAT=ACCEPTED;RSVP=TRUE;CN="Julie He
 ":http://njyp.org/profile/JulieHe
ATTENDEE;ROLE=REQ-PARTICIPANT;PARTSTAT=ACCEPTED;RSVP=TRUE;CN=NorthNJDa
 vid:http://njyp.org/profile/NorthNJDavid
ATTENDEE;ROLE=REQ-PARTICIPANT;PARTSTAT=ACCEPTED;RSVP=TRUE;CN="Brian an
 d Mike":http://njyp.org/profile/BrianMike
ATTENDEE;ROLE=REQ-PARTICIPANT;PARTSTAT=TENTATIVE;RSVP=TRUE;CN=akhtar:h
 ttp://njyp.org/profile/nasser
ATTENDEE;ROLE=REQ-PARTICIPANT;PARTSTAT=TENTATIVE;RSVP=TRUE;CN="Devika 
 Bakhshi":http://njyp.org/profile/Devika
ATTENDEE;ROLE=REQ-PARTICIPANT;PARTSTAT=TENTATIVE;RSVP=TRUE;CN=Jennifer
 :http://njyp.org/profile/JenniferGates
ATTENDEE;ROLE=REQ-PARTICIPANT;PARTSTAT=TENTATIVE;RSVP=TRUE;CN=Lizzie:h
 ttp://njyp.org/profile/ElizabethKuhns
ATTENDEE;ROLE=REQ-PARTICIPANT;PARTSTAT=TENTATIVE;RSVP=TRUE;CN=Danielle
 :http://njyp.org/profile/Danielle818
ATTENDEE;ROLE=REQ-PARTICIPANT;PARTSTAT=TENTATIVE;RSVP=TRUE;CN=Chisoo:h
 ttp://njyp.org/profile/Chisoo
ATTENDEE;ROLE=REQ-PARTICIPANT;PARTSTAT=TENTATIVE;RSVP=TRUE;CN=Arthur:h
 ttp://njyp.org/profile/Arthur847
ATTENDEE;ROLE=REQ-PARTICIPANT;PARTSTAT=TENTATIVE;RSVP=TRUE;CN=Amanda:h
 ttp://njyp.org/profile/Amanda710
ATTENDEE;ROLE=REQ-PARTICIPANT;PARTSTAT=TENTATIVE;RSVP=TRUE;CN=Douglas:
 http://njyp.org/profile/Douglas657
ATTENDEE;ROLE=REQ-PARTICIPANT;PARTSTAT=TENTATIVE;RSVP=TRUE;CN="Jeff Ka
 lison":http://njyp.org/profile/JeffKalison
ATTENDEE;ROLE=REQ-PARTICIPANT;PARTSTAT=TENTATIVE;RSVP=TRUE;CN=Robert:h
 ttp://njyp.org/profile/Robert367
ATTENDEE;ROLE=REQ-PARTICIPANT;PARTSTAT=TENTATIVE;RSVP=TRUE;CN=Jason:ht
 tp://njyp.org/profile/Jason358
ATTENDEE;ROLE=REQ-PARTICIPANT;PARTSTAT=TENTATIVE;RSVP=TRUE;CN=Paul:htt
 p://njyp.org/profile/MTown
ATTENDEE;ROLE=REQ-PARTICIPANT;PARTSTAT=TENTATIVE;RSVP=TRUE;CN=Digant:h
 ttp://njyp.org/profile/Digant
END:VEVENT
END:VCALENDAR
