BEGIN:VCALENDAR
PRODID:NingEventWidget-v1
VERSION:2.0
METHOD:PUBLISH
BEGIN:VTIMEZONE
TZID:America/New_York
X-LIC-LOCATION:America/New_York
BEGIN:DAYLIGHT
TZOFFSETFROM:-0500
TZOFFSETTO:-0400
TZNAME:EDT
DTSTART:19700308T020000
RRULE:FREQ=YEARLY;BYMONTH=3;BYDAY=2SU
END:DAYLIGHT
BEGIN:STANDARD
TZOFFSETFROM:-0400
TZOFFSETTO:-0500
TZNAME:EST
DTSTART:19701101T020000
RRULE:FREQ=YEARLY;BYMONTH=11;BYDAY=1SU
END:STANDARD
END:VTIMEZONE
BEGIN:VEVENT
UID:2938326:Event:292464
DTSTAMP:20260420T073853Z
SUMMARY:Hike: Turkey Burner at Turkey Swamp
DESCRIPTION:Turkey and yams and stuffing oh my! Work off that Thanksgi
 ving Day meal (and the leftovers) with us on this moderate 7 mile hike
 . The fresh air and long winding paths will keep you healthy and stron
 g while the Young Professionals who will be hiking by your side will k
 eep you entertained. Afterwards we will venture out for a light lunch 
 and warm drinks with new friends who were made along the way.\nPS, The
  first one to spot a turkey along the trail will win a ticket to a fut
 ure hike.\n \n\nMember Cost:\n$5 for the first 5\n$10 for the next 6 t
 o 25\n$20 at the door\n\nNon-Member Cost:\n$20 online and at the door.
 \n\nSpecs:\nThe hike is classified as moderate due to length.\nThe tot
 al length of the hike will be about 7 miles.  \nWe will walk at a mod
 erate pace.\nThe hike should take 3 – 3.5 hours.\nAs with all hikes 
 you must be in good, athletic shape.\n\nSweeper:\nIf the group size is
  larger than 10, we are going to look for a volunteer to act as a swee
 per. Sweepers will walk at the end of the hike line and will make sure
  the group stays together.\n\nHike Leader:\nKeira will be leading this
  hike. She will start the hike on time so please arrive on time.\n\nWh
 at to bring:\nHiking boots and at least 2 liters of water (required).\
 nWe will stop for lunch/snack about half way through the hike so we re
 commend you bring something to eat.  \nWe also recommend tissues, pla
 stic bags for garbage, and similar items.\n\nInclement Weather:\nHeavy
  precipitation will cancel this hike; drizzle will not. Please check y
 our inbox for updates and the NJYP.org calendar. Tickets will be refun
 ded.\n\nFinding the Group:\nMeet in the Nomoco Road Parking Area, whic
 h is a sand lot accessible directly from Nomoco Road PROMPTLY at 10:30
 .  Please allow extra travel time as many of these parks are harder t
 o find.\n\nMap:\nhttp://maps.google.com/maps?q=40.182742,-74.31387&sll
 =40.184573,-74.31128&sspn=0.006295,0.006295&num=1&t=h&vpsrc=0&z=19&iwl
 oc=near\n\nDriving Directions:\nThe following directions are to the ma
 in park entrance – then follow the last bullet to the Nomoco Road Pa
 rking Area (approximate address 143 Nomoco Road, Freehold, NJ).  We w
 ill meet in the Nomoco Road Parking Area, which is a sand lot accessib
 le directly from Nomoco Road.  \n•    NJ Turnpike to Exit 7A to 
 Interstate 195 east. Follow I-195 east. Follow I-195 to exit 22. Turn 
 left onto Jackson Mills Rd. north. Follow Jackson Mills Rd. to Georgia
  Rd., turn left and follow 1.7 miles to main park entrance.\n•   
  Garden State Parkway to Exit 98 to Interstate 195 west. I-195 west to
  Exit 22. Turn right onto Jackson Mills Rd. north; follow Jackson Mill
 s Rd. to Georgia Rd.; turn left and follow 1.7 miles to main park entr
 ance.\n•    State Hwy. 9 to route 524 west. Follow 524 west to Ge
 orgia Rd., turn left and follow Georgia Rd. 1.7 miles to main entrance
 .  \n•    Nomoco Activity Area Is located 1.5 miles past the mai
 n park entrance. Continue south on Georgia Rd. to Nomoco Rd.; turn rig
 ht and follow signs to Activity Area.  We are parking at the sand par
 king lot on Nomoco Road – there are two signs for Nomoco Activity Ar
 ea, so don’t be confused and turn into the activity area!\n\nFor mor
 e information visit http://njyp.org/events/hike-turkey-burner-at-turke
 y-swamp
DTSTART;TZID=America/New_York:20111127T103000
DTEND;TZID=America/New_York:20111127T140000
CATEGORIES:"monmouth county", athletic, turkey
LOCATION:Turkey Swamp
WEBSITE:http://maps.google.com/maps?q=40.182742,-74.31387&sll=40.18457
 3,-74.31128&sspn=0.006295,0.006295&num=1&t=h&vpsrc=0&z=19&iwloc=near
URL:http://maps.google.com/maps?q=40.182742,-74.31387&sll=40.184573,-7
 4.31128&sspn=0.006295,0.006295&num=1&t=h&vpsrc=0&z=19&iwloc=near
CONTACT:
ORGANIZER;CN="Brian and Mike":http://njyp.org/profile/BrianMike
ATTACH;FMTTYPE="image/jpeg":http://storage.ning.com/topology/rest/1.0/
 file/get/1088620811?profile=original
ATTENDEE;ROLE=REQ-PARTICIPANT;PARTSTAT=ACCEPTED;RSVP=TRUE;CN="Heather 
 Sears":http://njyp.org/profile/HeatherSears
ATTENDEE;ROLE=REQ-PARTICIPANT;PARTSTAT=ACCEPTED;RSVP=TRUE;CN=John:http
 ://njyp.org/profile/JohnE
ATTENDEE;ROLE=REQ-PARTICIPANT;PARTSTAT=ACCEPTED;RSVP=TRUE;CN="Jim Perr
 y":http://njyp.org/profile/JamesMPerry
ATTENDEE;ROLE=REQ-PARTICIPANT;PARTSTAT=ACCEPTED;RSVP=TRUE;CN=Keri:http
 ://njyp.org/profile/Keri690
ATTENDEE;ROLE=REQ-PARTICIPANT;PARTSTAT=ACCEPTED;RSVP=TRUE;CN=Jess:http
 ://njyp.org/profile/jfreed919
ATTENDEE;ROLE=REQ-PARTICIPANT;PARTSTAT=ACCEPTED;RSVP=TRUE;CN="Gregory 
 Egan":http://njyp.org/profile/GregoryEgan
ATTENDEE;ROLE=REQ-PARTICIPANT;PARTSTAT=ACCEPTED;RSVP=TRUE;CN=Amanda:ht
 tp://njyp.org/profile/Amanda710
ATTENDEE;ROLE=REQ-PARTICIPANT;PARTSTAT=ACCEPTED;RSVP=TRUE;CN=Keira:htt
 p://njyp.org/profile/Keira
ATTENDEE;ROLE=REQ-PARTICIPANT;PARTSTAT=ACCEPTED;RSVP=TRUE;CN="Brian an
 d Mike":http://njyp.org/profile/BrianMike
ATTENDEE;ROLE=REQ-PARTICIPANT;PARTSTAT=TENTATIVE;RSVP=TRUE;CN=Jenn:htt
 p://njyp.org/profile/Jenn856
ATTENDEE;ROLE=REQ-PARTICIPANT;PARTSTAT=TENTATIVE;RSVP=TRUE;CN="Jennife
 r Redmond":http://njyp.org/profile/JenniferRedmond
ATTENDEE;ROLE=REQ-PARTICIPANT;PARTSTAT=TENTATIVE;RSVP=TRUE;CN=Danielle
 :http://njyp.org/profile/Danielle818
ATTENDEE;ROLE=REQ-PARTICIPANT;PARTSTAT=TENTATIVE;RSVP=TRUE;CN=Sara:htt
 p://njyp.org/profile/SaraLevenstein
ATTENDEE;ROLE=REQ-PARTICIPANT;PARTSTAT=TENTATIVE;RSVP=TRUE;CN=Claudia:
 http://njyp.org/profile/Claudia
ATTENDEE;ROLE=REQ-PARTICIPANT;PARTSTAT=TENTATIVE;RSVP=TRUE;CN=Larry:ht
 tp://njyp.org/profile/LarryYang
ATTENDEE;ROLE=REQ-PARTICIPANT;PARTSTAT=TENTATIVE;RSVP=TRUE;CN="Nelly G
 alan":http://njyp.org/profile/NellyGalan
END:VEVENT
END:VCALENDAR
