BEGIN:VCALENDAR
PRODID:NingEventWidget-v1
VERSION:2.0
METHOD:PUBLISH
BEGIN:VTIMEZONE
TZID:America/New_York
X-LIC-LOCATION:America/New_York
BEGIN:DAYLIGHT
TZOFFSETFROM:-0500
TZOFFSETTO:-0400
TZNAME:EDT
DTSTART:19700308T020000
RRULE:FREQ=YEARLY;BYMONTH=3;BYDAY=2SU
END:DAYLIGHT
BEGIN:STANDARD
TZOFFSETFROM:-0400
TZOFFSETTO:-0500
TZNAME:EST
DTSTART:19701101T020000
RRULE:FREQ=YEARLY;BYMONTH=11;BYDAY=1SU
END:STANDARD
END:VTIMEZONE
BEGIN:VEVENT
UID:2938326:Event:292161
DTSTAMP:20260420T060045Z
SUMMARY:Hike: Turkey Burner on Turkey Mountain
DESCRIPTION:Turkey and yams and stuffing oh my! Work off that Thanksgi
 ving Day meal (and the leftovers) with us on this moderate 5 mile hike
 . The fresh air and up and down hills will keep you healthy and strong
  while the Young Professionals who will be hiking by your side will ke
 ep you entertained. Afterwards we will venture out for a light lunch a
 nd warm drinks with new friends who were made along the way. PS, The f
 irst one to spot a turkey along the trail will win a ticket to a futur
 e hike.\n \n\nMember Cost:\n$5 for the first 5\n$10 for the next 6 to 
 25\n$20 at the door\n\nNon-Member Cost:\n$20 online and at the door.\n
 \nTickets:\nThere are a limited number of Tickets for sale. Tickets ar
 e not mailed, but your name will be kept at the door. All sales are fi
 nal.\n\nSpecs:\nThe hike is classified as moderate and is about 5.2 mi
 les long.\nThe hike should take about 3 hours.\nAs with all hikes you 
 must be in good, athletic shape.\n\nHike Leader:\nDavid will be leadin
 g this hike. David will not be waiting for late people.  In fairness 
 to those who arrive on time, the hike will start on time.\n\nSweeper:\
 nIf the group size is larger than 10, we are going to look for a volun
 teer to act as a sweeper. Sweepers will walk at the end of the hike li
 ne and will make sure the group stays together.\n\nWhat to bring:\nHik
 ing boots and water (required).\nSnacks, a light lunch, etc.\nToilet p
 aper, tissues, plastic bags for garbage, etc.\nNon-cotton layers to we
 ar.\n\nInclement Weather:\nDrizze will not cancel this hike but heavy 
 rain may. Please check your inbox for updates and the NJYP.org calenda
 r. Tickets will be refunded. Extreme heat may also cancel this hike.\n
 \nDirections:\nTake Interstate Route 287 South to Exit 47 (Montville, 
 Lincoln Park), and turn left at the bottom of the ramp onto Main Road 
 (U.S. Route 202). Continue on Main Road as the road makes two sharp tu
 rns – first to the left, then to the right. In 0.6 mile, just before
  reaching a fire station, turn right onto Taylortown Road. Continue on
  Taylortown Road for 1.8 miles until it ends at Boonton Avenue (County
  Route 511). Turn right onto Boonton Avenue and continue for 0.7 mile 
 to the entrance to the Pyramid Mountain County Park Natural Historic A
 rea, on the left side of the road, opposite the Mars Park Corporate Ce
 nter.\n\nGoogle map link:\nhttp://maps.google.com/maps?daddr=Boonton+A
 ve%2FCounty+Rd+511+S&hl=en&ll=40.951576,-74.386797&spn=0.037534,0.0551
 89&sll=40.954265,-74.388208&sspn=0.037532,0.055189&geocode=FUHKcAId3eu
 Q-w&vpsrc=6&mra=mr&t=m&z=14\n\nFor more information visit http://njyp.
 org/events/hike-turkey-burner-on-turkey-mountain
DTSTART;TZID=America/New_York:20111126T103000
DTEND;TZID=America/New_York:20111126T133000
CATEGORIES:"morris county", athletic, turkey
LOCATION:Turkey Mountain at Pyramid Mountain
WEBSITE:http://maps.google.com/maps?daddr=Boonton+Ave%2FCounty+Rd+511+
 S&hl=en&ll=40.951576,-74.386797&spn=0.037534,0.055189&sll=40.954265,-7
 4.388208&sspn=0.037532,0.055189&geocode=FUHKcAId3euQ-w&vpsrc=6&mra=mr&
 t=m&z=14
URL:http://maps.google.com/maps?daddr=Boonton+Ave%2FCounty+Rd+511+S&hl
 =en&ll=40.951576,-74.386797&spn=0.037534,0.055189&sll=40.954265,-74.38
 8208&sspn=0.037532,0.055189&geocode=FUHKcAId3euQ-w&vpsrc=6&mra=mr&t=m&
 z=14
CONTACT:
ORGANIZER;CN="Brian and Mike":http://njyp.org/profile/BrianMike
ATTACH;FMTTYPE="image/jpeg":http://storage.ning.com/topology/rest/1.0/
 file/get/1088620811?profile=original
ATTENDEE;ROLE=REQ-PARTICIPANT;PARTSTAT=ACCEPTED;RSVP=TRUE;CN="Jessica 
 Gill":http://njyp.org/profile/JessicaGill
ATTENDEE;ROLE=REQ-PARTICIPANT;PARTSTAT=ACCEPTED;RSVP=TRUE;CN="Heather 
 Sears":http://njyp.org/profile/HeatherSears
ATTENDEE;ROLE=REQ-PARTICIPANT;PARTSTAT=ACCEPTED;RSVP=TRUE;CN=Keira:htt
 p://njyp.org/profile/Keira
ATTENDEE;ROLE=REQ-PARTICIPANT;PARTSTAT=ACCEPTED;RSVP=TRUE;CN=Kristan:h
 ttp://njyp.org/profile/Kristan
ATTENDEE;ROLE=REQ-PARTICIPANT;PARTSTAT=ACCEPTED;RSVP=TRUE;CN=Timo:http
 ://njyp.org/profile/Timo
ATTENDEE;ROLE=REQ-PARTICIPANT;PARTSTAT=ACCEPTED;RSVP=TRUE;CN=Larry:htt
 p://njyp.org/profile/LarryYang
ATTENDEE;ROLE=REQ-PARTICIPANT;PARTSTAT=ACCEPTED;RSVP=TRUE;CN="Nelly Ga
 lan":http://njyp.org/profile/NellyGalan
ATTENDEE;ROLE=REQ-PARTICIPANT;PARTSTAT=ACCEPTED;RSVP=TRUE;CN=NorthNJDa
 vid:http://njyp.org/profile/NorthNJDavid
ATTENDEE;ROLE=REQ-PARTICIPANT;PARTSTAT=ACCEPTED;RSVP=TRUE;CN="Brian an
 d Mike":http://njyp.org/profile/BrianMike
ATTENDEE;ROLE=REQ-PARTICIPANT;PARTSTAT=TENTATIVE;RSVP=TRUE;CN=Laura:ht
 tp://njyp.org/profile/Laura56
ATTENDEE;ROLE=REQ-PARTICIPANT;PARTSTAT=TENTATIVE;RSVP=TRUE;CN="Jennife
 r Redmond":http://njyp.org/profile/JenniferRedmond
ATTENDEE;ROLE=REQ-PARTICIPANT;PARTSTAT=TENTATIVE;RSVP=TRUE;CN=Thomas:h
 ttp://njyp.org/profile/Thomas633
ATTENDEE;ROLE=REQ-PARTICIPANT;PARTSTAT=TENTATIVE;RSVP=TRUE;CN=Patricia
 :http://njyp.org/profile/TrishaOSha
ATTENDEE;ROLE=REQ-PARTICIPANT;PARTSTAT=TENTATIVE;RSVP=TRUE;CN=Sara:htt
 p://njyp.org/profile/SaraLevenstein
ATTENDEE;ROLE=REQ-PARTICIPANT;PARTSTAT=TENTATIVE;RSVP=TRUE;CN=Amanda:h
 ttp://njyp.org/profile/Amanda710
END:VEVENT
END:VCALENDAR
