BEGIN:VCALENDAR
PRODID:NingEventWidget-v1
VERSION:2.0
METHOD:PUBLISH
BEGIN:VTIMEZONE
TZID:America/New_York
X-LIC-LOCATION:America/New_York
BEGIN:DAYLIGHT
TZOFFSETFROM:-0500
TZOFFSETTO:-0400
TZNAME:EDT
DTSTART:19700308T020000
RRULE:FREQ=YEARLY;BYMONTH=3;BYDAY=2SU
END:DAYLIGHT
BEGIN:STANDARD
TZOFFSETFROM:-0400
TZOFFSETTO:-0500
TZNAME:EST
DTSTART:19701101T020000
RRULE:FREQ=YEARLY;BYMONTH=11;BYDAY=1SU
END:STANDARD
END:VTIMEZONE
BEGIN:VEVENT
UID:2938326:Event:9890
DTSTAMP:20260421T084651Z
SUMMARY:Hike: Turkey Mountain
DESCRIPTION:Join other NJYP Hikers for this mid-summer loop hike. We w
 ill travel up Turkey Mountain until we get to our goal, the panoramic 
 viewpoint! Bring a camera, bring a lunch, and bring lots of water!\n\n
 Specs:\nThe hike is classified as moderate and is about 5.2 miles long
 .\nThe hike should take 3 hours.\nAs with all hikes you must be in goo
 d, athletic shape.\n\n\nRSVP (to the right) and we will let you know w
 hen tix are almost gone, when prices are going up, if there are any ch
 anges, etc.\n\nMember Cost:\n$5 for the first 10 to buy a ticket\n$10 
 for the next 11-25 to buy a ticket\n$20 at the door (so please registe
 r online)\n\nNon-Member Cost:\n$20 online and at the door\n\nPremium M
 ember Cost:\nFREE for Premium Members but please register online\n\nTi
 ckets:\nThere are a limited number of Tickets for sale.\nTickets are n
 ot mailed, but your name will be kept at the door.\nAll sales are fina
 l.\n\nSweeper:\nIf the group is large we are going to look for 2 volun
 teers to act as sweepers. Sweepers will walk at the end of the hike li
 ne and will make sure the group stays together.\n\nHike Leader:\nNoah 
 will be leading this hike.\n\nWhat to bring:\nHiking boots and water (
 required).\nSnacks, a light lunch, etc.\nToilet paper, tissues, plasti
 c bags for garbage, etc.\n\nInclement Weather:\nDrizze will not cancel
  this hike but heavy rain may. Please check your inbox for updates and
  the NJYP.org calendar. Tickets will be refunded. Extreme heat may als
 o cancel this hike.\n\nDirections:\nTake Interstate Route 287 South to
  Exit 47 (Montville, Lincoln Park), and turn left at the bottom of the
  ramp onto Main Road (U.S. Route 202). Continue on Main Road as the ro
 ad makes two sharp turns – first to the left, then to the right. In 
 0.6 mile, just before reaching a fire station, turn right onto Taylort
 own Road. Continue on Taylortown Road for 1.8 miles until it ends at B
 oonton Avenue (County Route 511). Turn right onto Boonton Avenue and c
 ontinue for 0.7 mile to the entrance to the Pyramid Mountain County Pa
 rk Natural Historic Area, on the left side of the road, opposite the M
 ars Park Corporate Center.\n\nIf you want to use google maps search fo
 r Mars Ct at Boonton Ave, Montville, NJ\n\nFor more information visit 
 http://njyp.org/events/hike-turkey-mountain
DTSTART;TZID=America/New_York:20090801T103000
DTEND;TZID=America/New_York:20090801T133000
CATEGORIES:"morris county", athletic
LOCATION:Turkey Mountain at Pyramid Mountain
WEBSITE:http://maps.google.com/maps?f=q&source=s_q&hl=en&geocode=&q=Ma
 rs+ct++and+Boonton+ave+montville,nj&sll=40.947022,-74.38699&sspn=0.003
 776,0.00854&gl=us&ie=UTF8&ll=40.947848,-74.387226&spn=0.007553,0.01708
 &z=16
URL:http://maps.google.com/maps?f=q&source=s_q&hl=en&geocode=&q=Mars+c
 t++and+Boonton+ave+montville,nj&sll=40.947022,-74.38699&sspn=0.003776,
 0.00854&gl=us&ie=UTF8&ll=40.947848,-74.387226&spn=0.007553,0.01708&z=1
 6
CONTACT:
ORGANIZER;CN="Brian and Mike":http://njyp.org/profile/BrianMike
ATTACH;FMTTYPE="image/jpeg":http://storage.ning.com/topology/rest/1.0/
 file/get/1088543377?profile=original
ATTENDEE;ROLE=REQ-PARTICIPANT;PARTSTAT=ACCEPTED;RSVP=TRUE;CN=Tonye:htt
 p://njyp.org/profile/Tonye
ATTENDEE;ROLE=REQ-PARTICIPANT;PARTSTAT=ACCEPTED;RSVP=TRUE;CN="David Ei
 senberg":http://njyp.org/profile/DavidEisenberg
ATTENDEE;ROLE=REQ-PARTICIPANT;PARTSTAT=ACCEPTED;RSVP=TRUE;CN=John:http
 ://njyp.org/profile/JohnCastro
ATTENDEE;ROLE=REQ-PARTICIPANT;PARTSTAT=ACCEPTED;RSVP=TRUE;CN="Jesse Bl
 ondin":http://njyp.org/profile/JesseBlondin
ATTENDEE;ROLE=REQ-PARTICIPANT;PARTSTAT=ACCEPTED;RSVP=TRUE;CN="Chris G"
 :http://njyp.org/profile/ChrisG
ATTENDEE;ROLE=REQ-PARTICIPANT;PARTSTAT=ACCEPTED;RSVP=TRUE;CN="Dave B":
 http://njyp.org/profile/daveb
ATTENDEE;ROLE=REQ-PARTICIPANT;PARTSTAT=ACCEPTED;RSVP=TRUE;CN="Janelle 
 Randall":http://njyp.org/profile/JanelleRandall
ATTENDEE;ROLE=REQ-PARTICIPANT;PARTSTAT=ACCEPTED;RSVP=TRUE;CN="Thomas R
 einer":http://njyp.org/profile/ThomasReiner
ATTENDEE;ROLE=REQ-PARTICIPANT;PARTSTAT=ACCEPTED;RSVP=TRUE;CN="Jenny M"
 :http://njyp.org/profile/JennyMulcahy
ATTENDEE;ROLE=REQ-PARTICIPANT;PARTSTAT=ACCEPTED;RSVP=TRUE;CN="Lillian 
 T.":http://njyp.org/profile/LillianT
ATTENDEE;ROLE=REQ-PARTICIPANT;PARTSTAT=ACCEPTED;RSVP=TRUE;CN="Virginia
  Roberts":http://njyp.org/profile/VirginiaRoberts
ATTENDEE;ROLE=REQ-PARTICIPANT;PARTSTAT=ACCEPTED;RSVP=TRUE;CN=Simon:htt
 p://njyp.org/profile/Simon
ATTENDEE;ROLE=REQ-PARTICIPANT;PARTSTAT=ACCEPTED;RSVP=TRUE;CN=Dori:http
 ://njyp.org/profile/DoriPatterson
ATTENDEE;ROLE=REQ-PARTICIPANT;PARTSTAT=ACCEPTED;RSVP=TRUE;CN=Becky:htt
 p://njyp.org/profile/BeckyCapuano
ATTENDEE;ROLE=REQ-PARTICIPANT;PARTSTAT=ACCEPTED;RSVP=TRUE;CN=Noah:http
 ://njyp.org/profile/NoahFine
ATTENDEE;ROLE=REQ-PARTICIPANT;PARTSTAT=ACCEPTED;RSVP=TRUE;CN="Brian an
 d Mike":http://njyp.org/profile/BrianMike
ATTENDEE;ROLE=REQ-PARTICIPANT;PARTSTAT=TENTATIVE;RSVP=TRUE;CN="Hermeli
 nda Saez":http://njyp.org/profile/HermelindaSaez
ATTENDEE;ROLE=REQ-PARTICIPANT;PARTSTAT=TENTATIVE;RSVP=TRUE;CN=Jennifer
 :http://njyp.org/profile/Jennifer234
ATTENDEE;ROLE=REQ-PARTICIPANT;PARTSTAT=TENTATIVE;RSVP=TRUE;CN=Zhenya:h
 ttp://njyp.org/profile/ZhenyaKucsma
ATTENDEE;ROLE=REQ-PARTICIPANT;PARTSTAT=TENTATIVE;RSVP=TRUE;CN=Sarah:ht
 tp://njyp.org/profile/Sarah
ATTENDEE;ROLE=REQ-PARTICIPANT;PARTSTAT=TENTATIVE;RSVP=TRUE;CN="Rhandi 
 L":http://njyp.org/profile/RhandiL
ATTENDEE;ROLE=REQ-PARTICIPANT;PARTSTAT=TENTATIVE;RSVP=TRUE;CN=Kevin:ht
 tp://njyp.org/profile/Kevin
ATTENDEE;ROLE=REQ-PARTICIPANT;PARTSTAT=TENTATIVE;RSVP=TRUE;CN=Jon:http
 ://njyp.org/profile/Jon
ATTENDEE;ROLE=REQ-PARTICIPANT;PARTSTAT=TENTATIVE;RSVP=TRUE;CN=Rob:http
 ://njyp.org/profile/RobertSens
ATTENDEE;ROLE=REQ-PARTICIPANT;PARTSTAT=TENTATIVE;RSVP=TRUE;CN=Karen:ht
 tp://njyp.org/profile/Karen
ATTENDEE;ROLE=REQ-PARTICIPANT;PARTSTAT=TENTATIVE;RSVP=TRUE;CN="Peter E
 skow":http://njyp.org/profile/PeterEskow
ATTENDEE;ROLE=REQ-PARTICIPANT;PARTSTAT=TENTATIVE;RSVP=TRUE;CN="Laura L
 abriola":http://njyp.org/profile/LauraLabriola
END:VEVENT
END:VCALENDAR
