BEGIN:VCALENDAR
PRODID:NingEventWidget-v1
VERSION:2.0
METHOD:PUBLISH
BEGIN:VTIMEZONE
TZID:America/New_York
X-LIC-LOCATION:America/New_York
BEGIN:DAYLIGHT
TZOFFSETFROM:-0500
TZOFFSETTO:-0400
TZNAME:EDT
DTSTART:19700308T020000
RRULE:FREQ=YEARLY;BYMONTH=3;BYDAY=2SU
END:DAYLIGHT
BEGIN:STANDARD
TZOFFSETFROM:-0400
TZOFFSETTO:-0500
TZNAME:EST
DTSTART:19701101T020000
RRULE:FREQ=YEARLY;BYMONTH=11;BYDAY=1SU
END:STANDARD
END:VTIMEZONE
BEGIN:VEVENT
UID:2938326:Event:541133
DTSTAMP:20260420T234444Z
SUMMARY:Hike: Turkey Trot
DESCRIPTION:Get your daily vitamin D with us on this moderate 4.5 mile
  hike. The fresh air and long winding paths will keep you healthy and 
 strong while the Young Professionals who will be hiking by your side w
 ill keep you entertained. Afterwards we will venture out for a light l
 unch and cold drinks with new friends who were made along the way. PS,
  The first one to spot a turkey along the trail will win a ticket to a
  future hike Specs: Difficulty level is 2.9, http://www.njyp.org/page/
 hike-ratings About 3 hours. About 4.5 miles long. As with all hikes yo
 u must be in reasonable athletic shape.\nMember Cost: $10 online $20 a
 t the door (so please register online) Non-Member Cost: $20 online and
  at the door Tickets: There are a limited number of Tickets for sale. 
 Tickets are not mailed, but your name will be kept at the door. Actual
  hike is subject to change depending on weather conditions, fallen tre
 es, etc. All sales are final. Sweeper: If the group is large we are go
 ing to look for 2 volunteers to act as sweepers. Sweepers will walk at
  the end of the hike line and will make sure the group stays together.
  Hike Leader: Maren will be leading this hike. What to bring: Hiking b
 oots (expect mud). 2 Liters of Water (required). Snacks, a light lunch
 , etc. Layers if it is cold. Toilet paper, tissues, plastic bags for g
 arbage, etc. Inclement Weather: Rain might cancel this hike. Please ch
 eck your inbox for updates and the NJYP.org calendar. Tickets will be 
 refunded. Finding the Group: Meet the group in the SANDY RUN parking a
 rea. Please be on time, we will not wait for latecomers. Directions: h
 ttp://co.monmouth.nj.us/documents/130/turkey_swamp_park_oct_2013.pdf\n
 The following directions are to the main park entrance – then follow
  the signs to the Sandy Run Parking Area. • NJ Turnpike to Exit 7A t
 o Interstate 195 east. Follow I-195 east. Follow I-195 to exit 22. Tur
 n left onto Jackson Mills Rd. north. Follow Jackson Mills Rd. to Georg
 ia Rd., turn left and follow 1.7 miles to main park entrance. • Gard
 en State Parkway to Exit 98 to Interstate 195 west. I-195 west to Exit
  22. Turn right onto Jackson Mills Rd. north; follow Jackson Mills Rd.
  to Georgia Rd.; turn left and follow 1.7 miles to main park entrance.
  • State Hwy. 9 to route 524 west. Follow 524 west to Georgia Rd., t
 urn left and follow Georgia Rd. 1.7 miles to main entrance.\n\nFor mor
 e information visit http://njyp.org/events/hike-turkey-trot
DTSTART;TZID=America/New_York:20140426T103000
DTEND;TZID=America/New_York:20140426T133000
CATEGORIES:"monmouth county", athletic
LOCATION:Turkey Swamp
WEBSITE:http://co.monmouth.nj.us/documents/130/turkey_swamp_park_oct_2
 013.pdf
URL:http://co.monmouth.nj.us/documents/130/turkey_swamp_park_oct_2013.
 pdf
CONTACT:
ORGANIZER;CN="Brian and Mike":http://njyp.org/profile/BrianMike
ATTACH;FMTTYPE="image/jpeg":http://storage.ning.com/topology/rest/1.0/
 file/get/1088620811?profile=original
ATTENDEE;ROLE=REQ-PARTICIPANT;PARTSTAT=ACCEPTED;RSVP=TRUE;CN=Jen:http:
 //njyp.org/profile/Jen824
ATTENDEE;ROLE=REQ-PARTICIPANT;PARTSTAT=ACCEPTED;RSVP=TRUE;CN=Nicole:ht
 tp://njyp.org/profile/Nicole267
ATTENDEE;ROLE=REQ-PARTICIPANT;PARTSTAT=ACCEPTED;RSVP=TRUE;CN=Pete:http
 ://njyp.org/profile/Pete
ATTENDEE;ROLE=REQ-PARTICIPANT;PARTSTAT=ACCEPTED;RSVP=TRUE;CN=John:http
 ://njyp.org/profile/JohnE
ATTENDEE;ROLE=REQ-PARTICIPANT;PARTSTAT=ACCEPTED;RSVP=TRUE;CN=Alicia:ht
 tp://njyp.org/profile/Alicia999
ATTENDEE;ROLE=REQ-PARTICIPANT;PARTSTAT=ACCEPTED;RSVP=TRUE;CN=Vinay:htt
 p://njyp.org/profile/Vinay961
ATTENDEE;ROLE=REQ-PARTICIPANT;PARTSTAT=ACCEPTED;RSVP=TRUE;CN="Lorraine
  Weitz":http://njyp.org/profile/LorraineWeitz
ATTENDEE;ROLE=REQ-PARTICIPANT;PARTSTAT=ACCEPTED;RSVP=TRUE;CN=Maren:htt
 p://njyp.org/profile/Maren160
ATTENDEE;ROLE=REQ-PARTICIPANT;PARTSTAT=ACCEPTED;RSVP=TRUE;CN="Brian an
 d Mike":http://njyp.org/profile/BrianMike
ATTENDEE;ROLE=REQ-PARTICIPANT;PARTSTAT=TENTATIVE;RSVP=TRUE;CN=Micah:ht
 tp://njyp.org/profile/Micah602
ATTENDEE;ROLE=REQ-PARTICIPANT;PARTSTAT=TENTATIVE;RSVP=TRUE;CN=Kavita:h
 ttp://njyp.org/profile/Kavita
ATTENDEE;ROLE=REQ-PARTICIPANT;PARTSTAT=TENTATIVE;RSVP=TRUE;CN=Stephani
 e:http://njyp.org/profile/Stephanie783
END:VEVENT
END:VCALENDAR
