BEGIN:VCALENDAR
PRODID:NingEventWidget-v1
VERSION:2.0
METHOD:PUBLISH
BEGIN:VTIMEZONE
TZID:America/New_York
X-LIC-LOCATION:America/New_York
BEGIN:DAYLIGHT
TZOFFSETFROM:-0500
TZOFFSETTO:-0400
TZNAME:EDT
DTSTART:19700308T020000
RRULE:FREQ=YEARLY;BYMONTH=3;BYDAY=2SU
END:DAYLIGHT
BEGIN:STANDARD
TZOFFSETFROM:-0400
TZOFFSETTO:-0500
TZNAME:EST
DTSTART:19701101T020000
RRULE:FREQ=YEARLY;BYMONTH=11;BYDAY=1SU
END:STANDARD
END:VTIMEZONE
BEGIN:VEVENT
UID:2938326:Event:576293
DTSTAMP:20260420T040900Z
SUMMARY:Hike: Washington's Crossing with Habitat for Humanity Young Pr
 ofessionals
DESCRIPTION:Get your daily vitamin D with us on this moderate 5 mile h
 ike. This is a joint hike between NJ Young Professionals and the Young
  Professionals of Habitat for Humanity of Trenton.  The fresh air an
 d long winding paths will keep you healthy and strong while the Young 
 Professionals who will be hiking by your side will keep you entertaine
 d. Afterwards we will venture out for a light lunch and cold drinks wi
 th new friends who were made along the way.\n Specs: Difficulty level 
 is 2.3, http://www.njyp.org/page/hike-ratings About 4.4 to 5 miles lo
 ng. As with all hikes you must be in reasonable athletic shape.  \n\nM
 ember Cost: $10 online $20 at the door (so please register online)\n\n
 Non-Member Cost: $20 online and at the door  Tickets: There are a limi
 ted number of Tickets for sale. Tickets are not mailed, but your name 
 will be kept at the door. Actual hike is subject to change depending o
 n weather conditions, fallen trees, etc. All sales are final.  Sweeper
 : If the group is large we are going to look for 2 volunteers to act a
 s sweepers. Sweepers will walk at the end of the hike line and will ma
 ke sure the group stays together.  Hike Leader: Maren will be leading 
 this hike. She will start the hike on time and will not wait for latec
 omers.  What to bring: Hiking boots (expect mud if there was recent ra
 in). 2 Liters of Water (required). Snacks, a light lunch, etc. Toilet 
 paper, tissues, plastic bags for garbage, etc. Bug spray and please dr
 ess appropriately for possible ticks.  Inclement Weather: Rain might c
 ancel this hike. Please check your inbox for updates and the NJYP.org 
 calendar. Tickets will be refunded.  Finding the Group: Meet the group
  in the parking area. Please be on time, we will not wait for latecome
 rs.  Directions: From Interstate 95, take Route 29 north. Follow the s
 igns to the park. Parking Lot pin drop - http://goo.gl/maps/9TeZr\n\n
 For more information visit http://njyp.org/events/hike-washington-s-cr
 ossing
DTSTART;TZID=America/New_York:20140628T103000
DTEND;TZID=America/New_York:20140628T133000
CATEGORIES:"mercer county", athletic
LOCATION:Washington's Crossing State Park
WEBSITE:http://goo.gl/maps/9TeZr
URL:http://goo.gl/maps/9TeZr
CONTACT:
ORGANIZER;CN="Brian and Mike":http://njyp.org/profile/BrianMike
ATTACH;FMTTYPE="image/jpeg":http://storage.ning.com/topology/rest/1.0/
 file/get/1088595906?profile=original
ATTENDEE;ROLE=REQ-PARTICIPANT;PARTSTAT=ACCEPTED;RSVP=TRUE;CN="Lorraine
  Weitz":http://njyp.org/profile/LorraineWeitz
ATTENDEE;ROLE=REQ-PARTICIPANT;PARTSTAT=ACCEPTED;RSVP=TRUE;CN=Maren:htt
 p://njyp.org/profile/Maren160
ATTENDEE;ROLE=REQ-PARTICIPANT;PARTSTAT=ACCEPTED;RSVP=TRUE;CN=Pete:http
 ://njyp.org/profile/Pete
ATTENDEE;ROLE=REQ-PARTICIPANT;PARTSTAT=ACCEPTED;RSVP=TRUE;CN=Peter:htt
 p://njyp.org/profile/PeterMcDonnell
ATTENDEE;ROLE=REQ-PARTICIPANT;PARTSTAT=ACCEPTED;RSVP=TRUE;CN="Karrin P
 erez":http://njyp.org/profile/KarrinPerez
ATTENDEE;ROLE=REQ-PARTICIPANT;PARTSTAT=ACCEPTED;RSVP=TRUE;CN="Brian an
 d Mike":http://njyp.org/profile/BrianMike
ATTENDEE;ROLE=REQ-PARTICIPANT;PARTSTAT=TENTATIVE;RSVP=TRUE;CN=James:ht
 tp://njyp.org/profile/JamesShow
ATTENDEE;ROLE=REQ-PARTICIPANT;PARTSTAT=TENTATIVE;RSVP=TRUE;CN=Rhiannon
 :http://njyp.org/profile/Rhiannon
ATTENDEE;ROLE=REQ-PARTICIPANT;PARTSTAT=TENTATIVE;RSVP=TRUE;CN=Laavanya
 :http://njyp.org/profile/LaavanyaPasupuleti
END:VEVENT
END:VCALENDAR
