BEGIN:VCALENDAR
PRODID:NingEventWidget-v1
VERSION:2.0
METHOD:PUBLISH
BEGIN:VTIMEZONE
TZID:America/New_York
X-LIC-LOCATION:America/New_York
BEGIN:DAYLIGHT
TZOFFSETFROM:-0500
TZOFFSETTO:-0400
TZNAME:EDT
DTSTART:19700308T020000
RRULE:FREQ=YEARLY;BYMONTH=3;BYDAY=2SU
END:DAYLIGHT
BEGIN:STANDARD
TZOFFSETFROM:-0400
TZOFFSETTO:-0500
TZNAME:EST
DTSTART:19701101T020000
RRULE:FREQ=YEARLY;BYMONTH=11;BYDAY=1SU
END:STANDARD
END:VTIMEZONE
BEGIN:VEVENT
UID:2938326:Event:14038
DTSTAMP:20260422T113236Z
SUMMARY:Hike: Watchung Reservation
DESCRIPTION:Located in the hills of Union County, Watchung offers a we
 lcome break to those living in nearby city and suburban areas. Watchun
 g Reservation is the only Union County Park that has over 10 miles of 
 hiking trails and lots of beautiful scenery to go with it. Please join
  us on our little adventure into the woods where we will get to see a 
 little bit of everything!\n\nSpecs:\nThe hike is classified as moderat
 e.\nThe total length of the hike will be between 5 and 6 miles long an
 d we will walk at an easy to medium pace.\nThe hike should take about 
 3 hours.\n\nAs with all hikes you must be in good athletic shape.\n\n\
 nRSVP (to the right) and we will let you know when tix are almost gone
 , when prices are going up, if there are any changes, etc.\n\nMember C
 ost:\n$5 for the first 10 to buy a ticket\n$10 for the next 11-25 to b
 uy a ticket\n$20 at the door (so please register online)\n\nNon-Member
  Cost:\n$20 online and at the door\n\nSweeper:\nWe are going to look f
 or 2 volunteers to act as a sweeper. Sweepers will walk at the end of 
 the hike line and will make sure the group stays together.\n\nHike Lea
 der:\nDavid will be leading this hike.\n\nWhat to bring:\nHiking boots
  and 2 liters of water are required. It is recommended you also bring 
 lunch/snacks to eat along the way.\n\nInclement Weather:\nHeavy precip
 itation will cancel this hike; drizzle will not. Please check your inb
 ox for updates and the NJYP.org calendar. Tickets will be refunded.\n\
 nHow to find the Group:\nMeet in the parking lot. Please be on time as
  we cannot wait for those who get lost or hit traffic.\n\n\nDirections
 :\n\nVIA ROUTE 78 WEST:\n\n1. Take Rt. 78 West to exit 43 (New Provide
 nce/Berkeley Heights).\n2. Turn right at first light onto McMane Avenu
 e.\n3. At T-intersection, turn left onto Glenside Avenue.\n4. Go 1.2 m
 iles and turn right into the Watchung Reservation (Rt. 645 – W.R Tra
 cey Dr.).\n5. Proceed past Lake Surprise, uphill and straight past loo
 p picnic area to the wooded traffic circle.\n6. At traffic circle take
  the first right (Summit Ln) and proceed ½ mile (you will bear right 
 and merge onto New Providence Rd.). Parking lot is on the right.\n\n\n
 VIA ROUTE 78 EAST\n\n1. Take Rt. 78 East to exit 44 (New Providence/Be
 rkeley Heights).\n2. Turn left at the traffic light onto Glenside Aven
 ue.\n3. Go 1.2 miles and turn right into the Watchung Reservation (Rt.
  645 – W.R Tracey Dr.).\n4. Proceed past Lake Surprise, uphill and s
 traight past loop picnic area to the wooded traffic circle.\n5. At tra
 ffic circle take the first right (Summit Ln) and proceed ½ mile (you 
 will bear right and merge onto New Providence Rd.). Parking lot is on 
 the right.\n\nFor more information visit http://njyp.org/events/hike-w
 atchung-reservation
DTSTART;TZID=America/New_York:20090913T100000
DTEND;TZID=America/New_York:20090913T123000
CATEGORIES:"union county", athletic
LOCATION:Watchung Reservation
WEBSITE:http://maps.google.com/maps?f=d&source=s_d&saddr=&daddr=40.682
 603,-74.37279&hl=en&geocode=&mra=dme&mrcr=0&mrsp=1&sz=18&sll=40.683392
 ,-74.3705&sspn=0.003027,0.004812&ie=UTF8&ll=40.681891,-74.370918&spn=0
 .012107,0.019248&z=16
URL:http://maps.google.com/maps?f=d&source=s_d&saddr=&daddr=40.682603,
 -74.37279&hl=en&geocode=&mra=dme&mrcr=0&mrsp=1&sz=18&sll=40.683392,-74
 .3705&sspn=0.003027,0.004812&ie=UTF8&ll=40.681891,-74.370918&spn=0.012
 107,0.019248&z=16
CONTACT:
ORGANIZER;CN="Brian and Mike":http://njyp.org/profile/BrianMike
ATTACH;FMTTYPE="image/jpeg":http://storage.ning.com/topology/rest/1.0/
 file/get/1088552367?profile=original
ATTENDEE;ROLE=REQ-PARTICIPANT;PARTSTAT=ACCEPTED;RSVP=TRUE;CN=John:http
 ://njyp.org/profile/JohnCastro
ATTENDEE;ROLE=REQ-PARTICIPANT;PARTSTAT=ACCEPTED;RSVP=TRUE;CN=Simon:htt
 p://njyp.org/profile/Simon
ATTENDEE;ROLE=REQ-PARTICIPANT;PARTSTAT=ACCEPTED;RSVP=TRUE;CN=Kevin:htt
 p://njyp.org/profile/Kevin
ATTENDEE;ROLE=REQ-PARTICIPANT;PARTSTAT=ACCEPTED;RSVP=TRUE;CN="Cindy B"
 :http://njyp.org/profile/CindyBale
ATTENDEE;ROLE=REQ-PARTICIPANT;PARTSTAT=ACCEPTED;RSVP=TRUE;CN="Kristin 
 Kopec":http://njyp.org/profile/KristinKopec
ATTENDEE;ROLE=REQ-PARTICIPANT;PARTSTAT=ACCEPTED;RSVP=TRUE;CN="Neel Aro
 on":http://njyp.org/profile/NeelAroon
ATTENDEE;ROLE=REQ-PARTICIPANT;PARTSTAT=ACCEPTED;RSVP=TRUE;CN=NorthNJDa
 vid:http://njyp.org/profile/NorthNJDavid
ATTENDEE;ROLE=REQ-PARTICIPANT;PARTSTAT=TENTATIVE;RSVP=TRUE;CN=Lani:htt
 p://njyp.org/profile/lani
ATTENDEE;ROLE=REQ-PARTICIPANT;PARTSTAT=TENTATIVE;RSVP=TRUE;CN=David:ht
 tp://njyp.org/profile/DavidKuhn
ATTENDEE;ROLE=REQ-PARTICIPANT;PARTSTAT=TENTATIVE;RSVP=TRUE;CN="Marc Se
 menta":http://njyp.org/profile/MarcSementa
ATTENDEE;ROLE=REQ-PARTICIPANT;PARTSTAT=TENTATIVE;RSVP=TRUE;CN="A D Y":
 http://njyp.org/profile/ADY
ATTENDEE;ROLE=REQ-PARTICIPANT;PARTSTAT=TENTATIVE;RSVP=TRUE;CN="Lillian
  T.":http://njyp.org/profile/LillianT
ATTENDEE;ROLE=REQ-PARTICIPANT;PARTSTAT=TENTATIVE;RSVP=TRUE;CN="Rhandi 
 L":http://njyp.org/profile/RhandiL
ATTENDEE;ROLE=REQ-PARTICIPANT;PARTSTAT=TENTATIVE;RSVP=TRUE;CN="rachel 
 irene":http://njyp.org/profile/rachel_irene
END:VEVENT
END:VCALENDAR
