BEGIN:VCALENDAR
PRODID:NingEventWidget-v1
VERSION:2.0
METHOD:PUBLISH
BEGIN:VTIMEZONE
TZID:America/New_York
X-LIC-LOCATION:America/New_York
BEGIN:DAYLIGHT
TZOFFSETFROM:-0500
TZOFFSETTO:-0400
TZNAME:EDT
DTSTART:19700308T020000
RRULE:FREQ=YEARLY;BYMONTH=3;BYDAY=2SU
END:DAYLIGHT
BEGIN:STANDARD
TZOFFSETFROM:-0400
TZOFFSETTO:-0500
TZNAME:EST
DTSTART:19701101T020000
RRULE:FREQ=YEARLY;BYMONTH=11;BYDAY=1SU
END:STANDARD
END:VTIMEZONE
BEGIN:VEVENT
UID:2938326:Event:351558
DTSTAMP:20260420T004148Z
SUMMARY:Hike: Watchung Warm-Up
DESCRIPTION:No need to join the Fresh Air Fund, Union County scraped o
 ut some wilderness in the middle of the suburban sprawl.  Join us we 
 skip, hop, and hike through the woods and past the deserted Village of
  Feltville and along the shores of Lake Surprise! \n   Member Cost
 : $5 for the first 5 $10 for the next 6 to 25 $20 at the door   Non-
 Member Cost: $20 online and at the door.   Tickets: There are a limi
 ted number of Tickets for sale. Tickets are not mailed, but your name 
 will be kept at the door. All sales are final.   Specs: The hike is 
 classified as moderate. Hike will be about 5.5 miles long and we will 
 walk at an easy to medium pace. The hike should take about 3.5 hours. 
 As with all hikes you must be in good athletic shape.   Sweeper: If 
 the group size is larger than 10, we are going to look for a volunteer
  to act as a sweeper. Sweepers will walk at the end of the hike line a
 nd will make sure the group stays together.   Hike Leader: David wil
 l be leading this hike.   What to bring: Hiking boots and water (req
 uired). We recommend a light snack, tissues, plastic bags for garbage,
  and similar items.   Inclement Weather: Heavy precipitation will ca
 ncel this hike; drizzle will not. Please check your inbox for updates 
 and the NJYP.org calendar. Tickets will be refunded.   Finding the G
 roup: Meet in the parking lot adjacent to the “Trailside Nature & Sc
 ience Center\".  Please leave extra early as many of these parks are 
 harder to find. As a courtesy to the others this hike will start on ti
 me.     Directions, http://g.co/maps/fuc82:   VIA ROUTE 78 WES
 T:   1. Take Rt. 78 West to exit 43 (New Providence/Berkeley Heights
 ). 2. Turn right at first light onto McMane Avenue. 3. At T-intersecti
 on, turn left onto Glenside Avenue. 4. Go 1.2 miles and turn right int
 o the Watchung Reservation (Rt. 645 – W.R Tracey Dr.). 5. Proceed pa
 st Lake Surprise, uphill and straight past loop picnic area to the woo
 ded traffic circle. 6. At traffic circle take the first right (Summit 
 Ln) and proceed ½ mile (you will bear right and merge onto New Provid
 ence Rd.). Parking lot is on the right.     VIA ROUTE 78 EAST   
 1. Take Rt. 78 East to exit 44 (New Providence/Berkeley Heights). 2. T
 urn left at the traffic light onto Glenside Avenue. 3. Go 1.2 miles an
 d turn right into the Watchung Reservation (Rt. 645 – W.R Tracey Dr.
 ). 4. Proceed past Lake Surprise, uphill and straight past loop picnic
  area to the wooded traffic circle. 5. At traffic circle take the firs
 t right (Summit Ln) and proceed ½ mile (you will bear right and merge
  onto New Providence Rd.). Parking lot is on the right.\n\nFor more in
 formation visit http://njyp.org/events/hike-watchung-warm-up
DTSTART;TZID=America/New_York:20120609T103000
DTEND;TZID=America/New_York:20120609T140000
CATEGORIES:"union county", athletic
LOCATION:Watchung Reservation
WEBSITE:http://g.co/maps/fuc82
URL:http://g.co/maps/fuc82
CONTACT:
ORGANIZER;CN="Brian and Mike":http://njyp.org/profile/BrianMike
ATTACH;FMTTYPE="image/jpeg":http://storage.ning.com/topology/rest/1.0/
 file/get/1088680901?profile=original
ATTENDEE;ROLE=REQ-PARTICIPANT;PARTSTAT=ACCEPTED;RSVP=TRUE;CN=Reza:http
 ://njyp.org/profile/Reza
ATTENDEE;ROLE=REQ-PARTICIPANT;PARTSTAT=ACCEPTED;RSVP=TRUE;CN=Farzad:ht
 tp://njyp.org/profile/Farzad
ATTENDEE;ROLE=REQ-PARTICIPANT;PARTSTAT=ACCEPTED;RSVP=TRUE;CN=Pamela:ht
 tp://njyp.org/profile/Pamela791
ATTENDEE;ROLE=REQ-PARTICIPANT;PARTSTAT=ACCEPTED;RSVP=TRUE;CN=Kinnari:h
 ttp://njyp.org/profile/KinnariDesai
ATTENDEE;ROLE=REQ-PARTICIPANT;PARTSTAT=ACCEPTED;RSVP=TRUE;CN=Eric:http
 ://njyp.org/profile/Eric980
ATTENDEE;ROLE=REQ-PARTICIPANT;PARTSTAT=ACCEPTED;RSVP=TRUE;CN=Keri:http
 ://njyp.org/profile/Keri690
ATTENDEE;ROLE=REQ-PARTICIPANT;PARTSTAT=ACCEPTED;RSVP=TRUE;CN=Kim:http:
 //njyp.org/profile/Kim17
ATTENDEE;ROLE=REQ-PARTICIPANT;PARTSTAT=ACCEPTED;RSVP=TRUE;CN=Victoria:
 http://njyp.org/profile/Victoria727
ATTENDEE;ROLE=REQ-PARTICIPANT;PARTSTAT=ACCEPTED;RSVP=TRUE;CN="Janelle 
 Randall":http://njyp.org/profile/JanelleRandall
ATTENDEE;ROLE=REQ-PARTICIPANT;PARTSTAT=ACCEPTED;RSVP=TRUE;CN=Faris:htt
 p://njyp.org/profile/Faris
ATTENDEE;ROLE=REQ-PARTICIPANT;PARTSTAT=ACCEPTED;RSVP=TRUE;CN=Margarita
 :http://njyp.org/profile/Margarita
ATTENDEE;ROLE=REQ-PARTICIPANT;PARTSTAT=ACCEPTED;RSVP=TRUE;CN="Gregory 
 Egan":http://njyp.org/profile/GregoryEgan
ATTENDEE;ROLE=REQ-PARTICIPANT;PARTSTAT=ACCEPTED;RSVP=TRUE;CN=Elizabeth
 :http://njyp.org/profile/Elizabeth495
ATTENDEE;ROLE=REQ-PARTICIPANT;PARTSTAT=ACCEPTED;RSVP=TRUE;CN="Lisa Vel
 asquez":http://njyp.org/profile/LisaVelasquez
ATTENDEE;ROLE=REQ-PARTICIPANT;PARTSTAT=ACCEPTED;RSVP=TRUE;CN=Kevin:htt
 p://njyp.org/profile/Kevin84
ATTENDEE;ROLE=REQ-PARTICIPANT;PARTSTAT=ACCEPTED;RSVP=TRUE;CN=Fernando:
 http://njyp.org/profile/Fernando530
ATTENDEE;ROLE=REQ-PARTICIPANT;PARTSTAT=ACCEPTED;RSVP=TRUE;CN=NorthNJDa
 vid:http://njyp.org/profile/NorthNJDavid
ATTENDEE;ROLE=REQ-PARTICIPANT;PARTSTAT=ACCEPTED;RSVP=TRUE;CN=Anita:htt
 p://njyp.org/profile/Anita
ATTENDEE;ROLE=REQ-PARTICIPANT;PARTSTAT=ACCEPTED;RSVP=TRUE;CN="Brian an
 d Mike":http://njyp.org/profile/BrianMike
ATTENDEE;ROLE=REQ-PARTICIPANT;PARTSTAT=TENTATIVE;RSVP=TRUE;CN=Larry:ht
 tp://njyp.org/profile/LarryYang
ATTENDEE;ROLE=REQ-PARTICIPANT;PARTSTAT=TENTATIVE;RSVP=TRUE;CN="Meredit
 h Stone":http://njyp.org/profile/MeredithStone
ATTENDEE;ROLE=REQ-PARTICIPANT;PARTSTAT=TENTATIVE;RSVP=TRUE;CN=Amanda:h
 ttp://njyp.org/profile/Amanda710
ATTENDEE;ROLE=REQ-PARTICIPANT;PARTSTAT=TENTATIVE;RSVP=TRUE;CN="Dennis 
 Lee":http://njyp.org/profile/leeden
ATTENDEE;ROLE=REQ-PARTICIPANT;PARTSTAT=TENTATIVE;RSVP=TRUE;CN=Peter:ht
 tp://njyp.org/profile/PeterMcDonnell
ATTENDEE;ROLE=REQ-PARTICIPANT;PARTSTAT=TENTATIVE;RSVP=TRUE;CN=David:ht
 tp://njyp.org/profile/DavidCollins
END:VEVENT
END:VCALENDAR
