BEGIN:VCALENDAR
PRODID:NingEventWidget-v1
VERSION:2.0
METHOD:PUBLISH
BEGIN:VTIMEZONE
TZID:America/New_York
X-LIC-LOCATION:America/New_York
BEGIN:DAYLIGHT
TZOFFSETFROM:-0500
TZOFFSETTO:-0400
TZNAME:EDT
DTSTART:19700308T020000
RRULE:FREQ=YEARLY;BYMONTH=3;BYDAY=2SU
END:DAYLIGHT
BEGIN:STANDARD
TZOFFSETFROM:-0400
TZOFFSETTO:-0500
TZNAME:EST
DTSTART:19701101T020000
RRULE:FREQ=YEARLY;BYMONTH=11;BYDAY=1SU
END:STANDARD
END:VTIMEZONE
BEGIN:VEVENT
UID:2938326:Event:156816
DTSTAMP:20260420T041004Z
SUMMARY:Hike: Watchung Warm-Up
DESCRIPTION:Located in the hills of Union County, Watchung offers a we
 lcome break to those living in nearby city and suburban areas. Watchun
 g Reservation is the only Union County Park that has over 10 miles of 
 hiking trails and lots of beautiful scenery to go with it. Please join
  us on our little adventure into the woods where we will get to see a 
 little bit of everything!\n   Member Cost: $5 for the first 5 $10 for 
 the next 6 to 25 $20 at the door  Non-Member Cost: $20 online and at t
 he door.  Tickets: There are a limited number of Tickets for sale. Tic
 kets are not mailed, but your name will be kept at the door. All sales
  are final.  Specs: The hike is classified as moderate. Hike will be a
 bout 5.5 miles long and we will walk at an easy to medium pace. The hi
 ke should take about 3 hours. As with all hikes you must be in good at
 hletic shape.  Sweeper: If the group size is larger than 10, we are go
 ing to look for a volunteer to act as a sweeper. Sweepers will walk at
  the end of the hike line and will make sure the group stays together.
   Hike Leader: Keira will be leading this hike.  What to bring: Hiking
  boots and water (required). We recommend a light snack, tissues, plas
 tic bags for garbage, and similar items.  Inclement Weather: Heavy pre
 cipitation will cancel this hike; drizzle will not. Please check your 
 inbox for updates and the NJYP.org calendar. Tickets will be refunded.
   Finding the Group: Meet in the parking lot adjacent to the “Trails
 ide Nature & Science Center\".  Please leave extra early as many of t
 hese parks are harder to find. As a courtesy to the others this hike w
 ill start on time.   Directions:  VIA ROUTE 78 WEST:  1. Take Rt. 78 W
 est to exit 43 (New Providence/Berkeley Heights). 2. Turn right at fir
 st light onto McMane Avenue. 3. At T-intersection, turn left onto Glen
 side Avenue. 4. Go 1.2 miles and turn right into the Watchung Reservat
 ion (Rt. 645 – W.R Tracey Dr.). 5. Proceed past Lake Surprise, uphil
 l and straight past loop picnic area to the wooded traffic circle. 6. 
 At traffic circle take the first right (Summit Ln) and proceed ½ mile
  (you will bear right and merge onto New Providence Rd.). Parking lot 
 is on the right.   VIA ROUTE 78 EAST  1. Take Rt. 78 East to exit 44 (
 New Providence/Berkeley Heights). 2. Turn left at the traffic light on
 to Glenside Avenue. 3. Go 1.2 miles and turn right into the Watchung R
 eservation (Rt. 645 – W.R Tracey Dr.). 4. Proceed past Lake Surprise
 , uphill and straight past loop picnic area to the wooded traffic circ
 le. 5. At traffic circle take the first right (Summit Ln) and proceed 
 ½ mile (you will bear right and merge onto New Providence Rd.). Parki
 ng lot is on the right.\n\nFor more information visit http://njyp.org/
 events/hike-watchung-warmup
DTSTART;TZID=America/New_York:20110403T103000
DTEND;TZID=America/New_York:20110403T133000
CATEGORIES:"union county", athletic
LOCATION:Watchung Reservation
WEBSITE:http://goo.gl/maps/QvvD
URL:http://goo.gl/maps/QvvD
CONTACT:
ORGANIZER;CN="Brian and Mike":http://njyp.org/profile/BrianMike
ATTACH;FMTTYPE="image/jpeg":http://storage.ning.com/topology/rest/1.0/
 file/get/1088680901?profile=original
ATTENDEE;ROLE=REQ-PARTICIPANT;PARTSTAT=ACCEPTED;RSVP=TRUE;CN=David:htt
 p://njyp.org/profile/DavidKuhn
ATTENDEE;ROLE=REQ-PARTICIPANT;PARTSTAT=ACCEPTED;RSVP=TRUE;CN=Nita:http
 ://njyp.org/profile/NitaSilimkhan
ATTENDEE;ROLE=REQ-PARTICIPANT;PARTSTAT=ACCEPTED;RSVP=TRUE;CN=Phillip:h
 ttp://njyp.org/profile/Phillip725
ATTENDEE;ROLE=REQ-PARTICIPANT;PARTSTAT=ACCEPTED;RSVP=TRUE;CN=Cyrielle:
 http://njyp.org/profile/Cyrielle
ATTENDEE;ROLE=REQ-PARTICIPANT;PARTSTAT=ACCEPTED;RSVP=TRUE;CN=Peter:htt
 p://njyp.org/profile/PeterMcDonnell
ATTENDEE;ROLE=REQ-PARTICIPANT;PARTSTAT=ACCEPTED;RSVP=TRUE;CN=Jessica:h
 ttp://njyp.org/profile/upsidedownhotel
ATTENDEE;ROLE=REQ-PARTICIPANT;PARTSTAT=ACCEPTED;RSVP=TRUE;CN=Jimmy:htt
 p://njyp.org/profile/Jimmy
ATTENDEE;ROLE=REQ-PARTICIPANT;PARTSTAT=ACCEPTED;RSVP=TRUE;CN=Chris:htt
 p://njyp.org/profile/ce
ATTENDEE;ROLE=REQ-PARTICIPANT;PARTSTAT=ACCEPTED;RSVP=TRUE;CN=Jonathan:
 http://njyp.org/profile/Jonathan
ATTENDEE;ROLE=REQ-PARTICIPANT;PARTSTAT=ACCEPTED;RSVP=TRUE;CN=David:htt
 p://njyp.org/profile/David847
ATTENDEE;ROLE=REQ-PARTICIPANT;PARTSTAT=ACCEPTED;RSVP=TRUE;CN=Chig:http
 ://njyp.org/profile/ChiragAlmoula
ATTENDEE;ROLE=REQ-PARTICIPANT;PARTSTAT=ACCEPTED;RSVP=TRUE;CN="Rob M":h
 ttp://njyp.org/profile/RobM
ATTENDEE;ROLE=REQ-PARTICIPANT;PARTSTAT=ACCEPTED;RSVP=TRUE;CN=Kristan:h
 ttp://njyp.org/profile/Kristan
ATTENDEE;ROLE=REQ-PARTICIPANT;PARTSTAT=ACCEPTED;RSVP=TRUE;CN=Larry:htt
 p://njyp.org/profile/LarryYang
ATTENDEE;ROLE=REQ-PARTICIPANT;PARTSTAT=ACCEPTED;RSVP=TRUE;CN="Amanda E
 lizabeth Arena":http://njyp.org/profile/AmandaElizabethArena
ATTENDEE;ROLE=REQ-PARTICIPANT;PARTSTAT=ACCEPTED;RSVP=TRUE;CN=Keira:htt
 p://njyp.org/profile/Keira
ATTENDEE;ROLE=REQ-PARTICIPANT;PARTSTAT=ACCEPTED;RSVP=TRUE;CN="Brian an
 d Mike":http://njyp.org/profile/BrianMike
ATTENDEE;ROLE=REQ-PARTICIPANT;PARTSTAT=TENTATIVE;RSVP=TRUE;CN=Kevin:ht
 tp://njyp.org/profile/Kevin84
ATTENDEE;ROLE=REQ-PARTICIPANT;PARTSTAT=TENTATIVE;RSVP=TRUE;CN=Carmela:
 http://njyp.org/profile/Carmela
ATTENDEE;ROLE=REQ-PARTICIPANT;PARTSTAT=TENTATIVE;RSVP=TRUE;CN=Vinodh:h
 ttp://njyp.org/profile/Vinodh
ATTENDEE;ROLE=REQ-PARTICIPANT;PARTSTAT=TENTATIVE;RSVP=TRUE;CN=Drew:htt
 p://njyp.org/profile/AndrewCoughlan
ATTENDEE;ROLE=REQ-PARTICIPANT;PARTSTAT=TENTATIVE;RSVP=TRUE;CN="Tony Pa
 nariello":http://njyp.org/profile/TonyPanariello
ATTENDEE;ROLE=REQ-PARTICIPANT;PARTSTAT=TENTATIVE;RSVP=TRUE;CN="John B"
 :http://njyp.org/profile/johnb
ATTENDEE;ROLE=REQ-PARTICIPANT;PARTSTAT=TENTATIVE;RSVP=TRUE;CN=Arthur:h
 ttp://njyp.org/profile/Arthur847
ATTENDEE;ROLE=REQ-PARTICIPANT;PARTSTAT=TENTATIVE;RSVP=TRUE;CN=NorthNJD
 avid:http://njyp.org/profile/NorthNJDavid
ATTENDEE;ROLE=REQ-PARTICIPANT;PARTSTAT=TENTATIVE;RSVP=TRUE;CN=Martin:h
 ttp://njyp.org/profile/Martin
ATTENDEE;ROLE=REQ-PARTICIPANT;PARTSTAT=TENTATIVE;RSVP=TRUE;CN=Mike:htt
 p://njyp.org/profile/Michael863
ATTENDEE;ROLE=REQ-PARTICIPANT;PARTSTAT=TENTATIVE;RSVP=TRUE;CN="Claudia
  Persichilli":http://njyp.org/profile/ClaudiaPersichilli
ATTENDEE;ROLE=REQ-PARTICIPANT;PARTSTAT=TENTATIVE;RSVP=TRUE;CN=Digant:h
 ttp://njyp.org/profile/Digant
ATTENDEE;ROLE=REQ-PARTICIPANT;PARTSTAT=TENTATIVE;RSVP=TRUE;CN=Laavanya
 :http://njyp.org/profile/LaavanyaPasupuleti
ATTENDEE;ROLE=REQ-PARTICIPANT;PARTSTAT=TENTATIVE;RSVP=TRUE;CN=Melissa:
 http://njyp.org/profile/Melissa117
ATTENDEE;ROLE=REQ-PARTICIPANT;PARTSTAT=TENTATIVE;RSVP=TRUE;CN=Anne:htt
 p://njyp.org/profile/Anne
ATTENDEE;ROLE=REQ-PARTICIPANT;PARTSTAT=TENTATIVE;RSVP=TRUE;CN=Jennifer
 :http://njyp.org/profile/Jennifer234
ATTENDEE;ROLE=REQ-PARTICIPANT;PARTSTAT=TENTATIVE;RSVP=TRUE;CN=Jason:ht
 tp://njyp.org/profile/Jason358
END:VEVENT
END:VCALENDAR
