BEGIN:VCALENDAR
PRODID:NingEventWidget-v1
VERSION:2.0
METHOD:PUBLISH
BEGIN:VTIMEZONE
TZID:America/New_York
X-LIC-LOCATION:America/New_York
BEGIN:DAYLIGHT
TZOFFSETFROM:-0500
TZOFFSETTO:-0400
TZNAME:EDT
DTSTART:19700308T020000
RRULE:FREQ=YEARLY;BYMONTH=3;BYDAY=2SU
END:DAYLIGHT
BEGIN:STANDARD
TZOFFSETFROM:-0400
TZOFFSETTO:-0500
TZNAME:EST
DTSTART:19701101T020000
RRULE:FREQ=YEARLY;BYMONTH=11;BYDAY=1SU
END:STANDARD
END:VTIMEZONE
BEGIN:VEVENT
UID:2938326:Event:79351
DTSTAMP:20260420T140541Z
SUMMARY:Hike: Where the Wild Things Are
DESCRIPTION:Often as the day turns into night the animals come out! Fo
 r that reason this hike will start late in the day and end at dusk. Wh
 ile traveling along we will be on the look-out for deer, wild turkeys,
  and other wildlife. Eh, but even if you we don't spot some furry crit
 ters there will be panoramic views over Paterson, Bergen County and th
 e New York City skyline. So join us for this hike that will begin when
  the sun is low in the sky and end just before dark.\n\n\n\nMember Cos
 t:\n$5 for the first 5\n$10 for the next 5-25\n$20 at the door (so ple
 ase register online)\n\nNon-Member Cost:\n$20 online and at the door\n
 \nSpecs:\nThe hike is classified as easy to moderate and is about 2.2 
 miles long.\nThe hike should take 1.5-2 hours.\nAs with all hikes you 
 must be in good, athletic shape.\n\nTickets:\nThere are a limited numb
 er of Tickets for sale. Tickets are not mailed, but your name will be 
 kept at the door. Actual hike is subject to change depending on weathe
 r conditions, fallen trees, etc. All sales are final.\n\nSweeper:\nIf 
 the group is large we are going to look for 2 volunteers to act as swe
 epers. Sweepers will walk at the end of the hike line and will make su
 re the group stays together.\n\nHike Leader:\nNoah will be leading thi
 s hike. Please arrive on time as the hike will start on time.\n\nWhat 
 to bring:\nHiking boots and 3 liters of water (required).\nBring a lig
 ht source.\nBring bug spray and a light snack or meal.\nToilet paper, 
 tissues, plastic bags for garbage, etc.\n\nInclement Weather:\nHeavy r
 ain or extreme heat might cancel this hike. Please check your inbox fo
 r updates and the NJYP.org calendar. Tickets will be refunded.\n\nDire
 ctions:\nTake Interstate Route 80 west to Exit 56 (Squirrelwood Road, 
 West Paterson ). Turn left at the bottom of the ramp onto Squirrelwood
  Road. (If you are coming from the west, take Exit 56A and proceed sou
 th on Squirrelwood Road.) Continue south along Squirrelwood Road for 1
 .3 miles (after 0.5 mile, the road changes its name to Rifle Camp Road
 ), and turn left into Rifle Camp Park. Continue along the park entranc
 e road to its end at a circle near the Nature Center, where parking is
  available.\n\nHow to Find Us:\nMeet the group in the parking lot. The
  hike will start on time.\n\nFor more information visit http://njyp.or
 g/events/hike-where-the-wild-things-are-2
DTSTART;TZID=America/New_York:20100717T183000
DTEND;TZID=America/New_York:20100717T203000
CATEGORIES:"passaic county", athletic
LOCATION:Rifle Camp Park
WEBSITE:http://maps.google.com/maps?f=q&source=s_q&hl=en&geocode=&q=Ri
 fle+Camp+Park,+West+Paterson,+NJ&sll=37.09024,-96.503906&sspn=31.64681
 8,77.431641&ie=UTF8&hq=Rifle+Camp+Park,&hnear=West+Paterson,+NJ&ll=40.
 903653,-74.214535&spn=0.05566,0.151234&z=13&iwloc=A
URL:http://maps.google.com/maps?f=q&source=s_q&hl=en&geocode=&q=Rifle+
 Camp+Park,+West+Paterson,+NJ&sll=37.09024,-96.503906&sspn=31.646818,77
 .431641&ie=UTF8&hq=Rifle+Camp+Park,&hnear=West+Paterson,+NJ&ll=40.9036
 53,-74.214535&spn=0.05566,0.151234&z=13&iwloc=A
CONTACT:
ORGANIZER;CN="Brian and Mike":http://njyp.org/profile/BrianMike
ATTACH;FMTTYPE="image/jpeg":http://storage.ning.com/topology/rest/1.0/
 file/get/1088626106?profile=original
ATTENDEE;ROLE=REQ-PARTICIPANT;PARTSTAT=ACCEPTED;RSVP=TRUE;CN=Jonathan:
 http://njyp.org/profile/Jonathan
ATTENDEE;ROLE=REQ-PARTICIPANT;PARTSTAT=ACCEPTED;RSVP=TRUE;CN=Alexandra
 :http://njyp.org/profile/Alexandra689
ATTENDEE;ROLE=REQ-PARTICIPANT;PARTSTAT=ACCEPTED;RSVP=TRUE;CN="Tim B":h
 ttp://njyp.org/profile/TimBreen
ATTENDEE;ROLE=REQ-PARTICIPANT;PARTSTAT=ACCEPTED;RSVP=TRUE;CN=Keira:htt
 p://njyp.org/profile/Keira
ATTENDEE;ROLE=REQ-PARTICIPANT;PARTSTAT=ACCEPTED;RSVP=TRUE;CN=Elizabeth
 :http://njyp.org/profile/Quirky3
ATTENDEE;ROLE=REQ-PARTICIPANT;PARTSTAT=ACCEPTED;RSVP=TRUE;CN="Keri F-S
 ":http://njyp.org/profile/KeriF
ATTENDEE;ROLE=REQ-PARTICIPANT;PARTSTAT=ACCEPTED;RSVP=TRUE;CN="Shahrooz
  Bhopti":http://njyp.org/profile/speedlike
ATTENDEE;ROLE=REQ-PARTICIPANT;PARTSTAT=ACCEPTED;RSVP=TRUE;CN=Chris:htt
 p://njyp.org/profile/ce
ATTENDEE;ROLE=REQ-PARTICIPANT;PARTSTAT=ACCEPTED;RSVP=TRUE;CN="Karrin P
 erez":http://njyp.org/profile/KarrinPerez
ATTENDEE;ROLE=REQ-PARTICIPANT;PARTSTAT=ACCEPTED;RSVP=TRUE;CN="Dave Don
 io":http://njyp.org/profile/DaveDonio
ATTENDEE;ROLE=REQ-PARTICIPANT;PARTSTAT=ACCEPTED;RSVP=TRUE;CN="Lauren S
 eabrooks":http://njyp.org/profile/LaurenSeabrooks
ATTENDEE;ROLE=REQ-PARTICIPANT;PARTSTAT=ACCEPTED;RSVP=TRUE;CN=Noah:http
 ://njyp.org/profile/NoahFine
ATTENDEE;ROLE=REQ-PARTICIPANT;PARTSTAT=ACCEPTED;RSVP=TRUE;CN=Becky:htt
 p://njyp.org/profile/BeckyCapuano
ATTENDEE;ROLE=REQ-PARTICIPANT;PARTSTAT=ACCEPTED;RSVP=TRUE;CN="Brian an
 d Mike":http://njyp.org/profile/BrianMike
ATTENDEE;ROLE=REQ-PARTICIPANT;PARTSTAT=TENTATIVE;RSVP=TRUE;CN=Jason:ht
 tp://njyp.org/profile/Jason358
ATTENDEE;ROLE=REQ-PARTICIPANT;PARTSTAT=TENTATIVE;RSVP=TRUE;CN=Katherin
 e:http://njyp.org/profile/Katherine
ATTENDEE;ROLE=REQ-PARTICIPANT;PARTSTAT=TENTATIVE;RSVP=TRUE;CN=Monika:h
 ttp://njyp.org/profile/MonikaSymms
ATTENDEE;ROLE=REQ-PARTICIPANT;PARTSTAT=TENTATIVE;RSVP=TRUE;CN=Rebecca:
 http://njyp.org/profile/Rebecca
ATTENDEE;ROLE=REQ-PARTICIPANT;PARTSTAT=TENTATIVE;RSVP=TRUE;CN=Laavanya
 :http://njyp.org/profile/LaavanyaPasupuleti
ATTENDEE;ROLE=REQ-PARTICIPANT;PARTSTAT=TENTATIVE;RSVP=TRUE;CN=Heather:
 http://njyp.org/profile/Heather308
ATTENDEE;ROLE=REQ-PARTICIPANT;PARTSTAT=TENTATIVE;RSVP=TRUE;CN="Lillian
  T.":http://njyp.org/profile/LillianT
ATTENDEE;ROLE=REQ-PARTICIPANT;PARTSTAT=TENTATIVE;RSVP=TRUE;CN="Kevin H
 aughwout":http://njyp.org/profile/KevinHaughwout
ATTENDEE;ROLE=REQ-PARTICIPANT;PARTSTAT=TENTATIVE;RSVP=TRUE;CN=Patricia
 :http://njyp.org/profile/TrishaOSha
ATTENDEE;ROLE=REQ-PARTICIPANT;PARTSTAT=TENTATIVE;RSVP=TRUE;CN=Michele:
 http://njyp.org/profile/MicheleSanto
ATTENDEE;ROLE=REQ-PARTICIPANT;PARTSTAT=TENTATIVE;RSVP=TRUE;CN="Jennife
 r Redmond":http://njyp.org/profile/JenniferRedmond
END:VEVENT
END:VCALENDAR
