BEGIN:VCALENDAR
PRODID:NingEventWidget-v1
VERSION:2.0
METHOD:PUBLISH
BEGIN:VTIMEZONE
TZID:America/New_York
X-LIC-LOCATION:America/New_York
BEGIN:DAYLIGHT
TZOFFSETFROM:-0500
TZOFFSETTO:-0400
TZNAME:EDT
DTSTART:19700308T020000
RRULE:FREQ=YEARLY;BYMONTH=3;BYDAY=2SU
END:DAYLIGHT
BEGIN:STANDARD
TZOFFSETFROM:-0400
TZOFFSETTO:-0500
TZNAME:EST
DTSTART:19701101T020000
RRULE:FREQ=YEARLY;BYMONTH=11;BYDAY=1SU
END:STANDARD
END:VTIMEZONE
BEGIN:VEVENT
UID:2938326:Event:363234
DTSTAMP:20260422T134053Z
SUMMARY:Hike: Where the Wild Things Are
DESCRIPTION:Deer and rabbit and fawn, oh my! This twilight hike will l
 ikely feature friendly furry critters that tend to come out as the sun
  goes down. But regardless of whether we spot any wild things there wi
 ll be beautiful woodlands, ponds, and meadows to gaze upon. After we h
 ave all earned our happy hour we will head over to a local bar for din
 ner and drinks.  ~ The first person to spot a deer and point it out to
  David will earn a complimentary future hike ~  Specs: This easy hike 
 is good for beginners! 4.5 miles in 2 hours at an easy pace. As with a
 ll hikes you must be in reasonable athletic shape.   Member Cost: $5 f
 or the first 10 to buy a ticket $10 for the next 11-25 to buy a ticket
  $20 at the door (so please register online)  Non-Member Cost: $20 onl
 ine and at the door  Sweeper: If the group size is larger than 10, we 
 are going to look for a volunteer to act as a sweeper. Sweepers will w
 alk at the end of the hike line and will make sure the group stays tog
 ether.  Hike Leader: David will be leading this hike. David will not b
 e waiting for late people. In fairness to those who arrive on time, th
 e hike will start on time.  What to bring: Hiking boots are strongly r
 ecommended and 2 liters of water is required. Hiking boots will help k
 eep the mud out of your feet when hiking as the trail may have a few w
 et spots.  Inclement Weather: Heavy precipitation and/or high temps wi
 ll cancel this hike. Please check your inbox for updates and the NJYP.
 org calendar. Tickets will be refunded.  Directions: Take 287 North or
  South to exit 30A. Follow North Maple Ave (it will become South Maple
  Ave) for approx 2.4 -2.6 miles and make a left onto Lord Stirling Rd.
  Follow that for about 1 mile and the park will be on the left.\nDo no
 t use the entrance on South Maple Ave, as those are only the stables. 
  For reference Google maps: \nhttps://maps.google.com/maps?daddr=Lord+
 Stirling+Rd&hl=en&ll=40.695998,-74.524684&spn=0.021963,0.045447&sll=40
 .694834,-74.521294&sspn=0.002745,0.005681&geocode=FfLybAIdd-eO-w&mra=p
 rev&t=m&z=15\n \n\nFor more information visit http://njyp.org/events/
 hike-where-the-wild-things-are-3
DTSTART;TZID=America/New_York:20120803T183000
DTEND;TZID=America/New_York:20120803T203000
CATEGORIES:"somerset county", athletic
LOCATION:Lord Stirling Park
WEBSITE:https://maps.google.com/maps?daddr=Lord+Stirling+Rd&hl=en&ll=4
 0.695998,-74.524684&spn=0.021963,0.045447&sll=40.694834,-74.521294&ssp
 n=0.002745,0.005681&geocode=FfLybAIdd-eO-w&mra=prev&t=m&z=15
URL:https://maps.google.com/maps?daddr=Lord+Stirling+Rd&hl=en&ll=40.69
 5998,-74.524684&spn=0.021963,0.045447&sll=40.694834,-74.521294&sspn=0.
 002745,0.005681&geocode=FfLybAIdd-eO-w&mra=prev&t=m&z=15
CONTACT:
ORGANIZER;CN="Brian and Mike":http://njyp.org/profile/BrianMike
ATTACH;FMTTYPE="image/jpeg":http://storage.ning.com/topology/rest/1.0/
 file/get/1088595906?profile=original
ATTENDEE;ROLE=REQ-PARTICIPANT;PARTSTAT=ACCEPTED;RSVP=TRUE;CN="Louis C.
  Hochman":http://njyp.org/profile/LouisCHochman
ATTENDEE;ROLE=REQ-PARTICIPANT;PARTSTAT=ACCEPTED;RSVP=TRUE;CN=Kevin:htt
 p://njyp.org/profile/Kevin84
ATTENDEE;ROLE=REQ-PARTICIPANT;PARTSTAT=ACCEPTED;RSVP=TRUE;CN=Phillip:h
 ttp://njyp.org/profile/Phillip725
ATTENDEE;ROLE=REQ-PARTICIPANT;PARTSTAT=ACCEPTED;RSVP=TRUE;CN=Eric:http
 ://njyp.org/profile/Eric980
ATTENDEE;ROLE=REQ-PARTICIPANT;PARTSTAT=ACCEPTED;RSVP=TRUE;CN=Larry:htt
 p://njyp.org/profile/LarryYang
ATTENDEE;ROLE=REQ-PARTICIPANT;PARTSTAT=ACCEPTED;RSVP=TRUE;CN="Gregory 
 Egan":http://njyp.org/profile/GregoryEgan
ATTENDEE;ROLE=REQ-PARTICIPANT;PARTSTAT=ACCEPTED;RSVP=TRUE;CN="Nelly Ga
 lan":http://njyp.org/profile/NellyGalan
ATTENDEE;ROLE=REQ-PARTICIPANT;PARTSTAT=ACCEPTED;RSVP=TRUE;CN=Kristan:h
 ttp://njyp.org/profile/Kristan
ATTENDEE;ROLE=REQ-PARTICIPANT;PARTSTAT=ACCEPTED;RSVP=TRUE;CN="Pamela B
 urger":http://njyp.org/profile/PamelaBurger
ATTENDEE;ROLE=REQ-PARTICIPANT;PARTSTAT=ACCEPTED;RSVP=TRUE;CN=Keira:htt
 p://njyp.org/profile/Keira
ATTENDEE;ROLE=REQ-PARTICIPANT;PARTSTAT=ACCEPTED;RSVP=TRUE;CN=Jessica:h
 ttp://njyp.org/profile/upsidedownhotel
ATTENDEE;ROLE=REQ-PARTICIPANT;PARTSTAT=ACCEPTED;RSVP=TRUE;CN=Colleen:h
 ttp://njyp.org/profile/Colleen
ATTENDEE;ROLE=REQ-PARTICIPANT;PARTSTAT=ACCEPTED;RSVP=TRUE;CN=Pamela:ht
 tp://njyp.org/profile/Pamela791
ATTENDEE;ROLE=REQ-PARTICIPANT;PARTSTAT=ACCEPTED;RSVP=TRUE;CN="Brian an
 d Mike":http://njyp.org/profile/BrianMike
ATTENDEE;ROLE=REQ-PARTICIPANT;PARTSTAT=ACCEPTED;RSVP=TRUE;CN=NorthNJDa
 vid:http://njyp.org/profile/NorthNJDavid
ATTENDEE;ROLE=REQ-PARTICIPANT;PARTSTAT=TENTATIVE;RSVP=TRUE;CN=Aaron:ht
 tp://njyp.org/profile/Aaron001
ATTENDEE;ROLE=REQ-PARTICIPANT;PARTSTAT=TENTATIVE;RSVP=TRUE;CN=Lizzie:h
 ttp://njyp.org/profile/ElizabethKuhns
ATTENDEE;ROLE=REQ-PARTICIPANT;PARTSTAT=TENTATIVE;RSVP=TRUE;CN=Celeste:
 http://njyp.org/profile/Celeste201
ATTENDEE;ROLE=REQ-PARTICIPANT;PARTSTAT=TENTATIVE;RSVP=TRUE;CN="Brian M
 elnick":http://njyp.org/profile/Brian1218
ATTENDEE;ROLE=REQ-PARTICIPANT;PARTSTAT=TENTATIVE;RSVP=TRUE;CN="Samir A
 . Shah":http://njyp.org/profile/SamirAShah
ATTENDEE;ROLE=REQ-PARTICIPANT;PARTSTAT=TENTATIVE;RSVP=TRUE;CN=Diana:ht
 tp://njyp.org/profile/Diana437
ATTENDEE;ROLE=REQ-PARTICIPANT;PARTSTAT=TENTATIVE;RSVP=TRUE;CN=Michelle
 :http://njyp.org/profile/Michelle768
ATTENDEE;ROLE=REQ-PARTICIPANT;PARTSTAT=TENTATIVE;RSVP=TRUE;CN=Jennifer
 :http://njyp.org/profile/Jennifer234
ATTENDEE;ROLE=REQ-PARTICIPANT;PARTSTAT=TENTATIVE;RSVP=TRUE;CN=Laavanya
 :http://njyp.org/profile/LaavanyaPasupuleti
ATTENDEE;ROLE=REQ-PARTICIPANT;PARTSTAT=TENTATIVE;RSVP=TRUE;CN=Priya:ht
 tp://njyp.org/profile/Priya
ATTENDEE;ROLE=REQ-PARTICIPANT;PARTSTAT=TENTATIVE;RSVP=TRUE;CN="Kevin H
 aughwout":http://njyp.org/profile/KevinHaughwout
ATTENDEE;ROLE=REQ-PARTICIPANT;PARTSTAT=TENTATIVE;RSVP=TRUE;CN=Amanda:h
 ttp://njyp.org/profile/Amanda710
ATTENDEE;ROLE=REQ-PARTICIPANT;PARTSTAT=TENTATIVE;RSVP=TRUE;CN=Renee:ht
 tp://njyp.org/profile/Renee345
ATTENDEE;ROLE=REQ-PARTICIPANT;PARTSTAT=TENTATIVE;RSVP=TRUE;CN=Gina:htt
 p://njyp.org/profile/Gina815
ATTENDEE;ROLE=REQ-PARTICIPANT;PARTSTAT=TENTATIVE;RSVP=TRUE;CN=Elizabet
 h:http://njyp.org/profile/ElizabethWilliams
ATTENDEE;ROLE=REQ-PARTICIPANT;PARTSTAT=TENTATIVE;RSVP=TRUE;CN=Melissa:
 http://njyp.org/profile/Melissa591
ATTENDEE;ROLE=REQ-PARTICIPANT;PARTSTAT=TENTATIVE;RSVP=TRUE;CN=Elizabet
 h:http://njyp.org/profile/Elizabeth495
ATTENDEE;ROLE=REQ-PARTICIPANT;PARTSTAT=TENTATIVE;RSVP=TRUE;CN="Cindy L
 in":http://njyp.org/profile/CindyLin
ATTENDEE;ROLE=REQ-PARTICIPANT;PARTSTAT=TENTATIVE;RSVP=TRUE;CN="Robin W
 eaver":http://njyp.org/profile/RobinWeaver
ATTENDEE;ROLE=REQ-PARTICIPANT;PARTSTAT=TENTATIVE;RSVP=TRUE;CN=Victoria
 :http://njyp.org/profile/Victoria727
END:VEVENT
END:VCALENDAR
