BEGIN:VCALENDAR
PRODID:NingEventWidget-v1
VERSION:2.0
METHOD:PUBLISH
BEGIN:VTIMEZONE
TZID:America/New_York
X-LIC-LOCATION:America/New_York
BEGIN:DAYLIGHT
TZOFFSETFROM:-0500
TZOFFSETTO:-0400
TZNAME:EDT
DTSTART:19700308T020000
RRULE:FREQ=YEARLY;BYMONTH=3;BYDAY=2SU
END:DAYLIGHT
BEGIN:STANDARD
TZOFFSETFROM:-0400
TZOFFSETTO:-0500
TZNAME:EST
DTSTART:19701101T020000
RRULE:FREQ=YEARLY;BYMONTH=11;BYDAY=1SU
END:STANDARD
END:VTIMEZONE
BEGIN:VEVENT
UID:2938326:Event:10692
DTSTAMP:20260421T222911Z
SUMMARY:Hike: Where the Wild Things Are (easy)
DESCRIPTION:Often as the day turns into night the animals come out! Fo
 r that reason this hike will start late in the day and end at dusk. Wh
 ile traveling along we will be on the look-out for deer, wild turkeys,
  and maybe even some fawn (awwwwww). Eh, but even if you we don't spot
  some furry critters there will be \"panoramic view[s] over Paterson, 
 Bergen County and the New York City skyline.\" So join us for this hik
 e that will begin when the sun is low in the sky and end just before d
 ark.\n\nSpecs:\nThe hike is classified as easy to moderate and is abou
 t 2.2 miles long.\nThe hike should take 1.5-2 hours.\nAs with all hike
 s you must be in good, athletic shape.\n\n\nRSVP (to the right) and we
  will let you know when tix are almost gone, when prices are going up,
  if there are any changes, etc.\n\nMember Cost:\n$5 for the first 10 t
 o buy a ticket\n$10 for the next 11-25 to buy a ticket\n$20 at the doo
 r (so please register online)\n\nNon-Member Cost:\n$20 online and at t
 he door\n\nPremium Member Cost:\nFREE for Premium Members who register
  online\n\nTickets:\nThere are a limited number of Tickets for sale.\n
 Tickets are not mailed, but your name will be kept at the door.\nActua
 l hike is subject to change depending on weather conditions, fallen tr
 ees, etc. All sales are final.\n\nSweeper:\nIf the group is large we a
 re going to look for 2 volunteers to act as sweepers. Sweepers will wa
 lk at the end of the hike line and will make sure the group stays toge
 ther.\n\nHike Leader:\nNoah will be leading this hike.\n\nWhat to brin
 g:\nHiking boots or sneakers\nWater (required).\nSnacks, a light dinne
 r, etc.\nToilet paper, tissues, plastic bags for garbage, etc.\n\nIncl
 ement Weather:\nHeavy rain or extreme heat might cancel this hike. Ple
 ase check your inbox for updates and the NJYP.org calendar. Tickets wi
 ll be refunded.\n\nDirections:\nTake Interstate Route 80 west to Exit 
 56 (Squirrelwood Road, West Paterson ). Turn left at the bottom of the
  ramp onto Squirrelwood Road. (If you are coming from the west, take E
 xit 56A and proceed south on Squirrelwood Road.) Continue south along 
 Squirrelwood Road for 1.3 miles (after 0.5 mile, the road changes its 
 name to Rifle Camp Road), and turn left into Rifle Camp Park. Continue
  along the park entrance road to its end at a circle near the Nature C
 enter, where parking is available.\n\nFor more information visit http:
 //njyp.org/events/hike-where-the-wild-things-are
DTSTART;TZID=America/New_York:20090822T173000
DTEND;TZID=America/New_York:20090822T190000
CATEGORIES:"passaic county", athletic
LOCATION:Rifle Camp Park
WEBSITE:
URL:
CONTACT:
ORGANIZER;CN="Brian and Mike":http://njyp.org/profile/BrianMike
ATTACH;FMTTYPE="image/jpeg":http://storage.ning.com/topology/rest/1.0/
 file/get/1088542368?profile=original
ATTENDEE;ROLE=REQ-PARTICIPANT;PARTSTAT=ACCEPTED;RSVP=TRUE;CN="Jesse Bl
 ondin":http://njyp.org/profile/JesseBlondin
ATTENDEE;ROLE=REQ-PARTICIPANT;PARTSTAT=ACCEPTED;RSVP=TRUE;CN="Amanda T
 aylor":http://njyp.org/profile/AmandaTaylor
ATTENDEE;ROLE=REQ-PARTICIPANT;PARTSTAT=ACCEPTED;RSVP=TRUE;CN="Cindy B"
 :http://njyp.org/profile/CindyBale
ATTENDEE;ROLE=REQ-PARTICIPANT;PARTSTAT=ACCEPTED;RSVP=TRUE;CN=Judy:http
 ://njyp.org/profile/JudyKingsley
ATTENDEE;ROLE=REQ-PARTICIPANT;PARTSTAT=ACCEPTED;RSVP=TRUE;CN="Michael 
 Petracca":http://njyp.org/profile/MichaelPetracca
ATTENDEE;ROLE=REQ-PARTICIPANT;PARTSTAT=ACCEPTED;RSVP=TRUE;CN="Sarah K.
  Ober":http://njyp.org/profile/SarahKOber
ATTENDEE;ROLE=REQ-PARTICIPANT;PARTSTAT=ACCEPTED;RSVP=TRUE;CN="NIcole V
 innal":http://njyp.org/profile/NIcoleVinnal
ATTENDEE;ROLE=REQ-PARTICIPANT;PARTSTAT=ACCEPTED;RSVP=TRUE;CN="David Ei
 senberg":http://njyp.org/profile/DavidEisenberg
ATTENDEE;ROLE=REQ-PARTICIPANT;PARTSTAT=ACCEPTED;RSVP=TRUE;CN="Adrienne
  A. Desch":http://njyp.org/profile/AdrienneADesch
ATTENDEE;ROLE=REQ-PARTICIPANT;PARTSTAT=ACCEPTED;RSVP=TRUE;CN=Eridania:
 http://njyp.org/profile/Eridania
ATTENDEE;ROLE=REQ-PARTICIPANT;PARTSTAT=ACCEPTED;RSVP=TRUE;CN="Neel Aro
 on":http://njyp.org/profile/NeelAroon
ATTENDEE;ROLE=REQ-PARTICIPANT;PARTSTAT=ACCEPTED;RSVP=TRUE;CN="Jenny Ma
 rie":http://njyp.org/profile/JennyMarie82
ATTENDEE;ROLE=REQ-PARTICIPANT;PARTSTAT=ACCEPTED;RSVP=TRUE;CN="Brian an
 d Mike":http://njyp.org/profile/BrianMike
ATTENDEE;ROLE=REQ-PARTICIPANT;PARTSTAT=ACCEPTED;RSVP=TRUE;CN=Noah:http
 ://njyp.org/profile/NoahFine
ATTENDEE;ROLE=REQ-PARTICIPANT;PARTSTAT=TENTATIVE;RSVP=TRUE;CN="Allison
  Froehlich":http://njyp.org/profile/AllisonFroehlich
ATTENDEE;ROLE=REQ-PARTICIPANT;PARTSTAT=TENTATIVE;RSVP=TRUE;CN=Christin
 e:http://njyp.org/profile/Christine429
ATTENDEE;ROLE=REQ-PARTICIPANT;PARTSTAT=TENTATIVE;RSVP=TRUE;CN=Sandy:ht
 tp://njyp.org/profile/Sandy
ATTENDEE;ROLE=REQ-PARTICIPANT;PARTSTAT=TENTATIVE;RSVP=TRUE;CN=Susan:ht
 tp://njyp.org/profile/Susan
ATTENDEE;ROLE=REQ-PARTICIPANT;PARTSTAT=TENTATIVE;RSVP=TRUE;CN=Charity:
 http://njyp.org/profile/CharityLynnFues
ATTENDEE;ROLE=REQ-PARTICIPANT;PARTSTAT=TENTATIVE;RSVP=TRUE;CN="Chris G
 ":http://njyp.org/profile/ChrisG
ATTENDEE;ROLE=REQ-PARTICIPANT;PARTSTAT=TENTATIVE;RSVP=TRUE;CN=Deborah:
 http://njyp.org/profile/Deborah
ATTENDEE;ROLE=REQ-PARTICIPANT;PARTSTAT=TENTATIVE;RSVP=TRUE;CN=Simon:ht
 tp://njyp.org/profile/Simon
ATTENDEE;ROLE=REQ-PARTICIPANT;PARTSTAT=TENTATIVE;RSVP=TRUE;CN=Sarah:ht
 tp://njyp.org/profile/Sarah
ATTENDEE;ROLE=REQ-PARTICIPANT;PARTSTAT=TENTATIVE;RSVP=TRUE;CN=Angela:h
 ttp://njyp.org/profile/Angela
ATTENDEE;ROLE=REQ-PARTICIPANT;PARTSTAT=TENTATIVE;RSVP=TRUE;CN="Jake Er
 nst":http://njyp.org/profile/JakeErnst
ATTENDEE;ROLE=REQ-PARTICIPANT;PARTSTAT=TENTATIVE;RSVP=TRUE;CN="Rhandi 
 L":http://njyp.org/profile/RhandiL
ATTENDEE;ROLE=REQ-PARTICIPANT;PARTSTAT=TENTATIVE;RSVP=TRUE;CN="Dave B"
 :http://njyp.org/profile/daveb
ATTENDEE;ROLE=REQ-PARTICIPANT;PARTSTAT=TENTATIVE;RSVP=TRUE;CN="rachel 
 irene":http://njyp.org/profile/rachel_irene
ATTENDEE;ROLE=REQ-PARTICIPANT;PARTSTAT=TENTATIVE;RSVP=TRUE;CN="Kevin H
 aughwout":http://njyp.org/profile/KevinHaughwout
END:VEVENT
END:VCALENDAR
