BEGIN:VCALENDAR
PRODID:NingEventWidget-v1
VERSION:2.0
METHOD:PUBLISH
BEGIN:VTIMEZONE
TZID:America/New_York
X-LIC-LOCATION:America/New_York
BEGIN:DAYLIGHT
TZOFFSETFROM:-0500
TZOFFSETTO:-0400
TZNAME:EDT
DTSTART:19700308T020000
RRULE:FREQ=YEARLY;BYMONTH=3;BYDAY=2SU
END:DAYLIGHT
BEGIN:STANDARD
TZOFFSETFROM:-0400
TZOFFSETTO:-0500
TZNAME:EST
DTSTART:19701101T020000
RRULE:FREQ=YEARLY;BYMONTH=11;BYDAY=1SU
END:STANDARD
END:VTIMEZONE
BEGIN:VEVENT
UID:2938326:Event:3620
DTSTAMP:20260420T055837Z
SUMMARY:Hillsborough Happy Hour
DESCRIPTION:We are back at Coccola for the June Happy Hour. Last time 
 we were here we really took over the entire bar (and it’s a big bar)
  and I expect we will do it again this time around. Oh, there will als
 o be the same crazy good drink specials such as $4 Sangria and $3 Beer
  Bottles JUST for NJYP!\n\nWho should attend:\nAnyone who is 21-39 yea
 rs old. You do not need to be a paid member of NJYP to attend.\n\nCost
 :\nFREE, but please RSVP so we know you are attending.\n\nWhat to expe
 ct:\nOur Happy Hours are very casual. There are no sign-in tables, no 
 name tags, and no ice breakers. Expect people to walk up to you to int
 roduce themselves and feel free to walk up to others who you do not kn
 ow. Newbies are at EVERY NJYP event so if this is your first, you won'
 t be alone.\n\nDrink Specials:\n$4 Sangrias\n$4 Mojitos\n$4 Glasses of
  house wines\n$6 Specialty Martini’s\n$3 Bottled Beer\n\nDress Code:
 \nNone\n\nNJYP Host:\nIf you can host email Laura@NJYP.org\n\nWebsite:
 \nhttp://coccolarestaurant.com/\n\nFor more information visit http://n
 jyp.org/events/hillsborough-happy-hour
DTSTART;TZID=America/New_York:20090625T180000
DTEND;TZID=America/New_York:20090625T210000
CATEGORIES:"somerset county", social
LOCATION:Coccola
WEBSITE:http://coccolarestaurant.com/
URL:http://coccolarestaurant.com/
CONTACT:
ORGANIZER;CN="Brian and Mike":http://njyp.org/profile/BrianMike
ATTACH;FMTTYPE="image/jpeg":http://storage.ning.com/topology/rest/1.0/
 file/get/1088533030?profile=original
ATTENDEE;ROLE=REQ-PARTICIPANT;PARTSTAT=ACCEPTED;RSVP=TRUE;CN="Tony Pan
 ariello":http://njyp.org/profile/TonyPanariello
ATTENDEE;ROLE=REQ-PARTICIPANT;PARTSTAT=ACCEPTED;RSVP=TRUE;CN="Christin
 e Berry":http://njyp.org/profile/ChristineBerry
ATTENDEE;ROLE=REQ-PARTICIPANT;PARTSTAT=ACCEPTED;RSVP=TRUE;CN=Jessica:h
 ttp://njyp.org/profile/Jessica
ATTENDEE;ROLE=REQ-PARTICIPANT;PARTSTAT=ACCEPTED;RSVP=TRUE;CN="Lozelle 
 Watson":http://njyp.org/profile/LozelleWatson
ATTENDEE;ROLE=REQ-PARTICIPANT;PARTSTAT=ACCEPTED;RSVP=TRUE;CN="Olga Ch"
 :http://njyp.org/profile/OlgaChaban
ATTENDEE;ROLE=REQ-PARTICIPANT;PARTSTAT=ACCEPTED;RSVP=TRUE;CN="Kelly Jo
 nes":http://njyp.org/profile/KellyJones
ATTENDEE;ROLE=REQ-PARTICIPANT;PARTSTAT=ACCEPTED;RSVP=TRUE;CN=matt:http
 ://njyp.org/profile/mattp
ATTENDEE;ROLE=REQ-PARTICIPANT;PARTSTAT=ACCEPTED;RSVP=TRUE;CN="Kokil Ch
 achra":http://njyp.org/profile/KokilChachra
ATTENDEE;ROLE=REQ-PARTICIPANT;PARTSTAT=ACCEPTED;RSVP=TRUE;CN="Keisha S
 obers":http://njyp.org/profile/KeishaSobers
ATTENDEE;ROLE=REQ-PARTICIPANT;PARTSTAT=ACCEPTED;RSVP=TRUE;CN=Sara:http
 ://njyp.org/profile/SaraLevenstein
ATTENDEE;ROLE=REQ-PARTICIPANT;PARTSTAT=ACCEPTED;RSVP=TRUE;CN=Susan:htt
 p://njyp.org/profile/Susan
ATTENDEE;ROLE=REQ-PARTICIPANT;PARTSTAT=ACCEPTED;RSVP=TRUE;CN="Marc Sem
 enta":http://njyp.org/profile/MarcSementa
ATTENDEE;ROLE=REQ-PARTICIPANT;PARTSTAT=ACCEPTED;RSVP=TRUE;CN="Karen S.
 ":http://njyp.org/profile/KarenS
ATTENDEE;ROLE=REQ-PARTICIPANT;PARTSTAT=ACCEPTED;RSVP=TRUE;CN="Vanessa 
 Hansult":http://njyp.org/profile/VanessaHansult
ATTENDEE;ROLE=REQ-PARTICIPANT;PARTSTAT=ACCEPTED;RSVP=TRUE;CN="Heather 
  Kuhn":http://njyp.org/profile/HeatherKuhn
ATTENDEE;ROLE=REQ-PARTICIPANT;PARTSTAT=ACCEPTED;RSVP=TRUE;CN="Bibi B t
 he Nutritionist":http://njyp.org/profile/BibianaBendikova
ATTENDEE;ROLE=REQ-PARTICIPANT;PARTSTAT=ACCEPTED;RSVP=TRUE;CN="Denise O
 liveri":http://njyp.org/profile/DeniseOliveri
ATTENDEE;ROLE=REQ-PARTICIPANT;PARTSTAT=ACCEPTED;RSVP=TRUE;CN=Anne:http
 ://njyp.org/profile/AnneMinkoff
ATTENDEE;ROLE=REQ-PARTICIPANT;PARTSTAT=ACCEPTED;RSVP=TRUE;CN=Kelley:ht
 tp://njyp.org/profile/KelleyBoyle
ATTENDEE;ROLE=REQ-PARTICIPANT;PARTSTAT=ACCEPTED;RSVP=TRUE;CN=Charity:h
 ttp://njyp.org/profile/CharityLynnFues
ATTENDEE;ROLE=REQ-PARTICIPANT;PARTSTAT=ACCEPTED;RSVP=TRUE;CN="JW Scher
 m":http://njyp.org/profile/JWScherm
ATTENDEE;ROLE=REQ-PARTICIPANT;PARTSTAT=ACCEPTED;RSVP=TRUE;CN="Kendall 
 R.":http://njyp.org/profile/KR
ATTENDEE;ROLE=REQ-PARTICIPANT;PARTSTAT=ACCEPTED;RSVP=TRUE;CN="Brian Do
 nnoe":http://njyp.org/profile/BrianDonnoe
ATTENDEE;ROLE=REQ-PARTICIPANT;PARTSTAT=ACCEPTED;RSVP=TRUE;CN="Rob Rizz
 o":http://njyp.org/profile/RobertRizzoJr
ATTENDEE;ROLE=REQ-PARTICIPANT;PARTSTAT=ACCEPTED;RSVP=TRUE;CN="Joshua C
 hermak":http://njyp.org/profile/JoshuaChermak
ATTENDEE;ROLE=REQ-PARTICIPANT;PARTSTAT=ACCEPTED;RSVP=TRUE;CN=Lizzie:ht
 tp://njyp.org/profile/ElizabethKuhns
ATTENDEE;ROLE=REQ-PARTICIPANT;PARTSTAT=ACCEPTED;RSVP=TRUE;CN=Chris:htt
 p://njyp.org/profile/Chris
ATTENDEE;ROLE=REQ-PARTICIPANT;PARTSTAT=ACCEPTED;RSVP=TRUE;CN="Brian an
 d Mike":http://njyp.org/profile/BrianMike
ATTENDEE;ROLE=REQ-PARTICIPANT;PARTSTAT=TENTATIVE;RSVP=TRUE;CN="Lori Bu
 rr":http://njyp.org/profile/LoriBurr
ATTENDEE;ROLE=REQ-PARTICIPANT;PARTSTAT=TENTATIVE;RSVP=TRUE;CN=Susan:ht
 tp://njyp.org/profile/SusanChrusciel
ATTENDEE;ROLE=REQ-PARTICIPANT;PARTSTAT=TENTATIVE;RSVP=TRUE;CN="Doug Be
 man":http://njyp.org/profile/DougBeman
ATTENDEE;ROLE=REQ-PARTICIPANT;PARTSTAT=TENTATIVE;RSVP=TRUE;CN="Gillian
  Deak":http://njyp.org/profile/GillianCraig
ATTENDEE;ROLE=REQ-PARTICIPANT;PARTSTAT=TENTATIVE;RSVP=TRUE;CN="Kristen
  Ann":http://njyp.org/profile/KristenAnn
ATTENDEE;ROLE=REQ-PARTICIPANT;PARTSTAT=TENTATIVE;RSVP=TRUE;CN="laura i
 den":http://njyp.org/profile/lauraiden
ATTENDEE;ROLE=REQ-PARTICIPANT;PARTSTAT=TENTATIVE;RSVP=TRUE;CN=Helen:ht
 tp://njyp.org/profile/Helen
ATTENDEE;ROLE=REQ-PARTICIPANT;PARTSTAT=TENTATIVE;RSVP=TRUE;CN="Jason G
 olieb":http://njyp.org/profile/JasonGolieb
ATTENDEE;ROLE=REQ-PARTICIPANT;PARTSTAT=TENTATIVE;RSVP=TRUE;CN=Caleb:ht
 tp://njyp.org/profile/Olebo
ATTENDEE;ROLE=REQ-PARTICIPANT;PARTSTAT=TENTATIVE;RSVP=TRUE;CN="Christi
 na Seigel":http://njyp.org/profile/ChristinaSeigel
ATTENDEE;ROLE=REQ-PARTICIPANT;PARTSTAT=TENTATIVE;RSVP=TRUE;CN="Sarah M
 unch":http://njyp.org/profile/SarahMunch
ATTENDEE;ROLE=REQ-PARTICIPANT;PARTSTAT=TENTATIVE;RSVP=TRUE;CN="Carrie 
 N.":http://njyp.org/profile/CarrieNeigel
END:VEVENT
END:VCALENDAR
