BEGIN:VCALENDAR
PRODID:NingEventWidget-v1
VERSION:2.0
METHOD:PUBLISH
BEGIN:VTIMEZONE
TZID:America/New_York
X-LIC-LOCATION:America/New_York
BEGIN:DAYLIGHT
TZOFFSETFROM:-0500
TZOFFSETTO:-0400
TZNAME:EDT
DTSTART:19700308T020000
RRULE:FREQ=YEARLY;BYMONTH=3;BYDAY=2SU
END:DAYLIGHT
BEGIN:STANDARD
TZOFFSETFROM:-0400
TZOFFSETTO:-0500
TZNAME:EST
DTSTART:19701101T020000
RRULE:FREQ=YEARLY;BYMONTH=11;BYDAY=1SU
END:STANDARD
END:VTIMEZONE
BEGIN:VEVENT
UID:2938326:Event:720677
DTSTAMP:20260422T082405Z
SUMMARY:Hoboken Happy Hours Joint Rooftop Party
DESCRIPTION:\nEvent is FREE for NJYP members and non-members.\nCome he
 lp us celebrate Hoboken Happy Hour's 2nd birthday at The Dubliner! We 
 will have great drink specials, prizes and giveaways, and CAKE!\nThis 
 is a free event-sign up on EventBrite via the button above. See you on
  the rooftop!\nSee Facebook Event HERE.\n\nNJYP-only Specials TBD\nMem
 ber Cost: FREE\nNon-Member Cost: FREE  Who can attend: Young profess
 ionals, single or married, who are 21-39 years of age.\n\nFor more inf
 ormation visit http://njyp.org/events/hoboken-happy-hours-joint-roofto
 p-party
DTSTART;TZID=America/New_York:20160623T190000
DTEND;TZID=America/New_York:20160623T220000
CATEGORIES:"hudson county", social, friday, feel, good, hoboken, speci
 als, hhh
LOCATION:Dubliner - ROOFTOP
WEBSITE:https://www.facebook.com/events/532019717002472/
URL:https://www.facebook.com/events/532019717002472/
CONTACT:
ORGANIZER;CN="Michael Park":http://njyp.org/profile/MichaelPark
ATTACH;FMTTYPE="image/jpeg":http://storage.ning.com/topology/rest/1.0/
 file/get/1089122226?profile=original
ATTENDEE;ROLE=REQ-PARTICIPANT;PARTSTAT=ACCEPTED;RSVP=TRUE;CN=Jason:htt
 p://njyp.org/profile/Jason792
ATTENDEE;ROLE=REQ-PARTICIPANT;PARTSTAT=ACCEPTED;RSVP=TRUE;CN=Zehra:htt
 p://njyp.org/profile/zkasan83
ATTENDEE;ROLE=REQ-PARTICIPANT;PARTSTAT=ACCEPTED;RSVP=TRUE;CN=Michael:h
 ttp://njyp.org/profile/Michael858
ATTENDEE;ROLE=REQ-PARTICIPANT;PARTSTAT=ACCEPTED;RSVP=TRUE;CN="Noelle S
 tary":http://njyp.org/profile/NoelleStary
ATTENDEE;ROLE=REQ-PARTICIPANT;PARTSTAT=ACCEPTED;RSVP=TRUE;CN="Oenihss 
 Diaz":http://njyp.org/profile/Oenihss
ATTENDEE;ROLE=REQ-PARTICIPANT;PARTSTAT=ACCEPTED;RSVP=TRUE;CN="Michael 
 Park":http://njyp.org/profile/MichaelPark
ATTENDEE;ROLE=REQ-PARTICIPANT;PARTSTAT=TENTATIVE;RSVP=TRUE;CN="Adrita 
 Shamsher":http://njyp.org/profile/AdritaShamsher
ATTENDEE;ROLE=REQ-PARTICIPANT;PARTSTAT=TENTATIVE;RSVP=TRUE;CN="Dana Gu
 rrieri":http://njyp.org/profile/DanaGurrieri
ATTENDEE;ROLE=REQ-PARTICIPANT;PARTSTAT=TENTATIVE;RSVP=TRUE;CN=Angelica
 :http://njyp.org/profile/AngelicaAJ
ATTENDEE;ROLE=REQ-PARTICIPANT;PARTSTAT=TENTATIVE;RSVP=TRUE;CN="Samah J
 uana":http://njyp.org/profile/SamahJuana
END:VEVENT
END:VCALENDAR
