BEGIN:VCALENDAR
PRODID:NingEventWidget-v1
VERSION:2.0
METHOD:PUBLISH
BEGIN:VTIMEZONE
TZID:America/New_York
X-LIC-LOCATION:America/New_York
BEGIN:DAYLIGHT
TZOFFSETFROM:-0500
TZOFFSETTO:-0400
TZNAME:EDT
DTSTART:19700308T020000
RRULE:FREQ=YEARLY;BYMONTH=3;BYDAY=2SU
END:DAYLIGHT
BEGIN:STANDARD
TZOFFSETFROM:-0400
TZOFFSETTO:-0500
TZNAME:EST
DTSTART:19701101T020000
RRULE:FREQ=YEARLY;BYMONTH=11;BYDAY=1SU
END:STANDARD
END:VTIMEZONE
BEGIN:VEVENT
UID:2938326:Event:27923
DTSTAMP:20260420T104607Z
SUMMARY:Holiday Happy Hour
DESCRIPTION:SPECIAL HOLIDAY HAPPY HOUR\nAll year long Happy Hours are 
 totally FREE the Members of NJYP and their guests. However at many of 
 our December Happy Hours we are going to collect a small $5 cover char
 ge from each participant. 100% of the cover charge will be given to th
 e charity of our choice. This year’s charity is a small 501c3 organi
 zation called Team Charity.\n\n--------------------------\n\nWe are ba
 ck at the sexy Tula Lounge for this special Holiday Happy Hour. Join t
 he members of NJYP as we pack the bar with Young Professionals. Expect
  drink specials, new faces, and a Happy Hour that might go on well int
 o the night.\n\nWho should attend:\nAnyone who is 21-39 years old.\n\n
 What to expect:\nOur Happy Hours are very casual. There are no sign-in
  tables, no name tags, and no ice breakers. Expect people to walk up t
 o you to introduce themselves and feel free to walk up to others who y
 ou do not know. Newbies are at EVERY NJYP event so if this is your fir
 st, you won't be alone.\n\nNJYP Host:\nRachel O and Team Charity will 
 be hosting.\n\nDrink Specials:\n$5 drink and $5 appetizers until 7pm.\
 n\nFinding the Group:\nWe are going to take over the bar. Talk to ever
 yone there.\n\nDirections:\nParking is limited in this area so please 
 try to leave extra time for yourself. There are a few lots as well as 
 street spots.\n\nFor more information visit http://njyp.org/events/hol
 iday-happy-hour-1
DTSTART;TZID=America/New_York:20091209T180000
DTEND;TZID=America/New_York:20091209T200000
CATEGORIES:"middlesex county", social, community
LOCATION:Tula Lounge
WEBSITE:http://www.tulalounge.com/
URL:http://www.tulalounge.com/
CONTACT:
ORGANIZER;CN="Brian and Mike":http://njyp.org/profile/BrianMike
ATTACH;FMTTYPE="image/jpeg":http://storage.ning.com/topology/rest/1.0/
 file/get/1088569336?profile=original
ATTENDEE;ROLE=REQ-PARTICIPANT;PARTSTAT=ACCEPTED;RSVP=TRUE;CN="Shahrooz
  Bhopti":http://njyp.org/profile/speedlike
ATTENDEE;ROLE=REQ-PARTICIPANT;PARTSTAT=ACCEPTED;RSVP=TRUE;CN="Leora Gr
 eenhaus":http://njyp.org/profile/LeoraDagani
ATTENDEE;ROLE=REQ-PARTICIPANT;PARTSTAT=ACCEPTED;RSVP=TRUE;CN="Janet St
 evens":http://njyp.org/profile/JanetStevens
ATTENDEE;ROLE=REQ-PARTICIPANT;PARTSTAT=ACCEPTED;RSVP=TRUE;CN="Allison 
 Williams":http://njyp.org/profile/AllisonWilliams
ATTENDEE;ROLE=REQ-PARTICIPANT;PARTSTAT=ACCEPTED;RSVP=TRUE;CN="Nicole F
 ulmino":http://njyp.org/profile/NicoleFulmino
ATTENDEE;ROLE=REQ-PARTICIPANT;PARTSTAT=ACCEPTED;RSVP=TRUE;CN=Bogy:http
 ://njyp.org/profile/BogyP
ATTENDEE;ROLE=REQ-PARTICIPANT;PARTSTAT=ACCEPTED;RSVP=TRUE;CN="Michael 
 Serico":http://njyp.org/profile/MichaelSerico
ATTENDEE;ROLE=REQ-PARTICIPANT;PARTSTAT=ACCEPTED;RSVP=TRUE;CN="Doug Bem
 an":http://njyp.org/profile/DougBeman
ATTENDEE;ROLE=REQ-PARTICIPANT;PARTSTAT=ACCEPTED;RSVP=TRUE;CN="Dennis L
 ee":http://njyp.org/profile/leeden
ATTENDEE;ROLE=REQ-PARTICIPANT;PARTSTAT=ACCEPTED;RSVP=TRUE;CN=sarah:htt
 p://njyp.org/profile/sarah84
ATTENDEE;ROLE=REQ-PARTICIPANT;PARTSTAT=ACCEPTED;RSVP=TRUE;CN="JW Scher
 m":http://njyp.org/profile/JWScherm
ATTENDEE;ROLE=REQ-PARTICIPANT;PARTSTAT=ACCEPTED;RSVP=TRUE;CN=Perry:htt
 p://njyp.org/profile/Perry
ATTENDEE;ROLE=REQ-PARTICIPANT;PARTSTAT=ACCEPTED;RSVP=TRUE;CN="Jose G."
 :http://njyp.org/profile/MrG
ATTENDEE;ROLE=REQ-PARTICIPANT;PARTSTAT=ACCEPTED;RSVP=TRUE;CN=Chris:htt
 p://njyp.org/profile/Chris
ATTENDEE;ROLE=REQ-PARTICIPANT;PARTSTAT=ACCEPTED;RSVP=TRUE;CN="Tiffany 
 Thrasher":http://njyp.org/profile/TiffanyThrasher
ATTENDEE;ROLE=REQ-PARTICIPANT;PARTSTAT=ACCEPTED;RSVP=TRUE;CN="Rachel O
 !":http://njyp.org/profile/RachelOrtiga
ATTENDEE;ROLE=REQ-PARTICIPANT;PARTSTAT=ACCEPTED;RSVP=TRUE;CN=Chig:http
 ://njyp.org/profile/ChiragAlmoula
ATTENDEE;ROLE=REQ-PARTICIPANT;PARTSTAT=ACCEPTED;RSVP=TRUE;CN="Christin
 e Berry":http://njyp.org/profile/ChristineBerry
ATTENDEE;ROLE=REQ-PARTICIPANT;PARTSTAT=ACCEPTED;RSVP=TRUE;CN="Patrick 
 Poblete":http://njyp.org/profile/PatrickPoblete
ATTENDEE;ROLE=REQ-PARTICIPANT;PARTSTAT=ACCEPTED;RSVP=TRUE;CN=Kelley:ht
 tp://njyp.org/profile/KelleyBoyle
ATTENDEE;ROLE=REQ-PARTICIPANT;PARTSTAT=ACCEPTED;RSVP=TRUE;CN="Rachel D
 .":http://njyp.org/profile/RachelD192
ATTENDEE;ROLE=REQ-PARTICIPANT;PARTSTAT=ACCEPTED;RSVP=TRUE;CN="Olga Ch"
 :http://njyp.org/profile/OlgaChaban
ATTENDEE;ROLE=REQ-PARTICIPANT;PARTSTAT=ACCEPTED;RSVP=TRUE;CN="Paul Cam
 uto":http://njyp.org/profile/PaulCamuto
ATTENDEE;ROLE=REQ-PARTICIPANT;PARTSTAT=ACCEPTED;RSVP=TRUE;CN="james mi
 kusi":http://njyp.org/profile/jimbox
ATTENDEE;ROLE=REQ-PARTICIPANT;PARTSTAT=ACCEPTED;RSVP=TRUE;CN=tesh:http
 ://njyp.org/profile/t
ATTENDEE;ROLE=REQ-PARTICIPANT;PARTSTAT=ACCEPTED;RSVP=TRUE;CN="Neelima 
 Choudary":http://njyp.org/profile/NeelimaChoudary
ATTENDEE;ROLE=REQ-PARTICIPANT;PARTSTAT=ACCEPTED;RSVP=TRUE;CN=Sara:http
 ://njyp.org/profile/SaraLevenstein
ATTENDEE;ROLE=REQ-PARTICIPANT;PARTSTAT=ACCEPTED;RSVP=TRUE;CN="Jen Bell
 ":http://njyp.org/profile/jb73
ATTENDEE;ROLE=REQ-PARTICIPANT;PARTSTAT=ACCEPTED;RSVP=TRUE;CN="Marley N
 olan":http://njyp.org/profile/MarleyNolan
ATTENDEE;ROLE=REQ-PARTICIPANT;PARTSTAT=ACCEPTED;RSVP=TRUE;CN="Nick Won
 g":http://njyp.org/profile/NickWong
ATTENDEE;ROLE=REQ-PARTICIPANT;PARTSTAT=TENTATIVE;RSVP=TRUE;CN=Elizabet
 h:http://njyp.org/profile/ElizabethWilliams
ATTENDEE;ROLE=REQ-PARTICIPANT;PARTSTAT=TENTATIVE;RSVP=TRUE;CN="Joao-Pi
 erre Ruth":http://njyp.org/profile/JoaoPierreRuth
ATTENDEE;ROLE=REQ-PARTICIPANT;PARTSTAT=TENTATIVE;RSVP=TRUE;CN="Lauren 
 Seabrooks":http://njyp.org/profile/LaurenSeabrooks
ATTENDEE;ROLE=REQ-PARTICIPANT;PARTSTAT=TENTATIVE;RSVP=TRUE;CN="Ed H":h
 ttp://njyp.org/profile/EdH
ATTENDEE;ROLE=REQ-PARTICIPANT;PARTSTAT=TENTATIVE;RSVP=TRUE;CN="Liz Pol
 lard":http://njyp.org/profile/ElizabethLizPollard
ATTENDEE;ROLE=REQ-PARTICIPANT;PARTSTAT=TENTATIVE;RSVP=TRUE;CN="Jennife
 r L. Campbell":http://njyp.org/profile/JenniferLCampbell
ATTENDEE;ROLE=REQ-PARTICIPANT;PARTSTAT=TENTATIVE;RSVP=TRUE;CN=Monika:h
 ttp://njyp.org/profile/MonikaSymms
ATTENDEE;ROLE=REQ-PARTICIPANT;PARTSTAT=TENTATIVE;RSVP=TRUE;CN="Nishi R
 obert":http://njyp.org/profile/NishiRobert
ATTENDEE;ROLE=REQ-PARTICIPANT;PARTSTAT=TENTATIVE;RSVP=TRUE;CN="Bibi B 
 the Nutritionist":http://njyp.org/profile/BibianaBendikova
ATTENDEE;ROLE=REQ-PARTICIPANT;PARTSTAT=TENTATIVE;RSVP=TRUE;CN=Sherry:h
 ttp://njyp.org/profile/Sherry89
ATTENDEE;ROLE=REQ-PARTICIPANT;PARTSTAT=TENTATIVE;RSVP=TRUE;CN="Janine 
 Salerno":http://njyp.org/profile/JanineSalerno
ATTENDEE;ROLE=REQ-PARTICIPANT;PARTSTAT=TENTATIVE;RSVP=TRUE;CN="Michael
  Roselle":http://njyp.org/profile/MichaelRoselle
ATTENDEE;ROLE=REQ-PARTICIPANT;PARTSTAT=TENTATIVE;RSVP=TRUE;CN=Raul:htt
 p://njyp.org/profile/Raul
ATTENDEE;ROLE=REQ-PARTICIPANT;PARTSTAT=TENTATIVE;RSVP=TRUE;CN="William
  Sandoval":http://njyp.org/profile/WilliamSandoval
ATTENDEE;ROLE=REQ-PARTICIPANT;PARTSTAT=TENTATIVE;RSVP=TRUE;CN=Nathan:h
 ttp://njyp.org/profile/NathanMcMillan
ATTENDEE;ROLE=REQ-PARTICIPANT;PARTSTAT=TENTATIVE;RSVP=TRUE;CN=Gerald:h
 ttp://njyp.org/profile/GeraldFittipaldi
ATTENDEE;ROLE=REQ-PARTICIPANT;PARTSTAT=TENTATIVE;RSVP=TRUE;CN="Elana S
 .":http://njyp.org/profile/Dragonfly
ATTENDEE;ROLE=REQ-PARTICIPANT;PARTSTAT=TENTATIVE;RSVP=TRUE;CN=Susan:ht
 tp://njyp.org/profile/SusanChrusciel
ATTENDEE;ROLE=REQ-PARTICIPANT;PARTSTAT=TENTATIVE;RSVP=TRUE;CN="Rhandi 
 L":http://njyp.org/profile/RhandiL
ATTENDEE;ROLE=REQ-PARTICIPANT;PARTSTAT=TENTATIVE;RSVP=TRUE;CN="Kimberl
 y Bogden":http://njyp.org/profile/KimberlyBogden
ATTENDEE;ROLE=REQ-PARTICIPANT;PARTSTAT=TENTATIVE;RSVP=TRUE;CN="Simone 
 Lyle":http://njyp.org/profile/SimoneLyle
ATTENDEE;ROLE=REQ-PARTICIPANT;PARTSTAT=TENTATIVE;RSVP=TRUE;CN=Sheena:h
 ttp://njyp.org/profile/Sheena
ATTENDEE;ROLE=REQ-PARTICIPANT;PARTSTAT=TENTATIVE;RSVP=TRUE;CN="Neel Ar
 oon":http://njyp.org/profile/NeelAroon
ATTENDEE;ROLE=REQ-PARTICIPANT;PARTSTAT=TENTATIVE;RSVP=TRUE;CN="Nikitas
  M":http://njyp.org/profile/NikitasM
ATTENDEE;ROLE=REQ-PARTICIPANT;PARTSTAT=TENTATIVE;RSVP=TRUE;CN="Kimberl
 y Spinelli":http://njyp.org/profile/KimberlySpinelli
ATTENDEE;ROLE=REQ-PARTICIPANT;PARTSTAT=TENTATIVE;RSVP=TRUE;CN="Kristen
  Ann":http://njyp.org/profile/KristenAnn
END:VEVENT
END:VCALENDAR
