BEGIN:VCALENDAR
PRODID:NingEventWidget-v1
VERSION:2.0
METHOD:PUBLISH
BEGIN:VTIMEZONE
TZID:America/New_York
X-LIC-LOCATION:America/New_York
BEGIN:DAYLIGHT
TZOFFSETFROM:-0500
TZOFFSETTO:-0400
TZNAME:EDT
DTSTART:19700308T020000
RRULE:FREQ=YEARLY;BYMONTH=3;BYDAY=2SU
END:DAYLIGHT
BEGIN:STANDARD
TZOFFSETFROM:-0400
TZOFFSETTO:-0500
TZNAME:EST
DTSTART:19701101T020000
RRULE:FREQ=YEARLY;BYMONTH=11;BYDAY=1SU
END:STANDARD
END:VTIMEZONE
BEGIN:VEVENT
UID:2938326:Event:115226
DTSTAMP:20260420T091511Z
SUMMARY:Holiday Party: Snow and Ice
DESCRIPTION:Due to a rapidly growing guest list this party has been mo
 ved to Perle in New Brunswick. We can now fit over 200 Members and sti
 ll have plenty of space to move!\n\nCelebrate the holiday season at th
 e chic and sexy Perle Lounge. As always the women will be sporting bea
 utiful dresses and the men will be wearing ties and blazers. Together 
 we will mix and mingle while sipping wintry cocktails and eating sweet
  treats. Expect human \"Ice\" breakers, snowy decorations and a night 
 that ends with the kind of music a young professional can dance to. Do
  not miss our last big hoo-rah before the New Year!\n\n\n\nMember Cost
 :\n$5 for the first 25 to register\n$10 for the next 26 to 80 to regis
 ter\n$15 for the next 81 to 150 to register\n$20 at the door\n\nNon-Me
 mber Cost:\n$20 online and at the door.\n\nWho Can Attend:\nSingle and
  married Members of NJYP and their guests. This is a private event tha
 t is not open to the public.\n\nDress Code:\nWomen- Cocktail dresses o
 r nice pant suits. Absolutely no jeans.\nMen- Collared shirts and dres
 s pants are required. You may then pick between a tie or a blazer (or 
 wear both).\n\nIce Breakers:\n5-10 Members will be there to act as “
 Ice Breakers” for the first hour. They will have glow bracelets and 
 will greet you at the door then introduce you to others. Cliques will 
 meet cliques, strangers will meet strangers.\n\nPortraits:\nWe will ha
 ve a photographer present ready to take your portrait. There is no rea
 son to get all dressed up and not have proof!\n\nFinding us:\nWe will 
 have the entire venue exclusively to ourselves.\n\nDirections/Parking:
 \nThey have a large parking deck right next to the entrance. We are st
 arting this party early enough that everyone should be able to find pa
 rking.\nhttp://www.perlenj.com/\n\nFor more information visit http://n
 jyp.org/events/holiday-party-snow-and-ice
DTSTART;TZID=America/New_York:20101218T193000
DTEND;TZID=America/New_York:20101218T223000
CATEGORIES:"middlesex county", social
LOCATION:Perle
WEBSITE:http://www.perlenj.com/
URL:http://www.perlenj.com/
CONTACT:
ORGANIZER;CN="Brian and Mike":http://njyp.org/profile/BrianMike
ATTACH;FMTTYPE="image/jpeg":http://storage.ning.com/topology/rest/1.0/
 file/get/1088663129?profile=original
ATTENDEE;ROLE=REQ-PARTICIPANT;PARTSTAT=ACCEPTED;RSVP=TRUE;CN=Keri:http
 ://njyp.org/profile/Keri690
ATTENDEE;ROLE=REQ-PARTICIPANT;PARTSTAT=ACCEPTED;RSVP=TRUE;CN="Jay Rava
 l":http://njyp.org/profile/JayRaval
ATTENDEE;ROLE=REQ-PARTICIPANT;PARTSTAT=ACCEPTED;RSVP=TRUE;CN=Adrian:ht
 tp://njyp.org/profile/Adrian
ATTENDEE;ROLE=REQ-PARTICIPANT;PARTSTAT=ACCEPTED;RSVP=TRUE;CN="Chip Rob
 inson":http://njyp.org/profile/ChipRobinson
ATTENDEE;ROLE=REQ-PARTICIPANT;PARTSTAT=ACCEPTED;RSVP=TRUE;CN="Justin G
 ross":http://njyp.org/profile/JustinGross
ATTENDEE;ROLE=REQ-PARTICIPANT;PARTSTAT=ACCEPTED;RSVP=TRUE;CN=Benita:ht
 tp://njyp.org/profile/Benita
ATTENDEE;ROLE=REQ-PARTICIPANT;PARTSTAT=ACCEPTED;RSVP=TRUE;CN=Jennifer:
 http://njyp.org/profile/JenniferGates
ATTENDEE;ROLE=REQ-PARTICIPANT;PARTSTAT=ACCEPTED;RSVP=TRUE;CN=Dee:http:
 //njyp.org/profile/Dee
ATTENDEE;ROLE=REQ-PARTICIPANT;PARTSTAT=ACCEPTED;RSVP=TRUE;CN="Mindy Gr
 een":http://njyp.org/profile/MindyScudder
ATTENDEE;ROLE=REQ-PARTICIPANT;PARTSTAT=ACCEPTED;RSVP=TRUE;CN=Solangee:
 http://njyp.org/profile/Solangee
ATTENDEE;ROLE=REQ-PARTICIPANT;PARTSTAT=ACCEPTED;RSVP=TRUE;CN=Rachelle:
 http://njyp.org/profile/Rachelle
ATTENDEE;ROLE=REQ-PARTICIPANT;PARTSTAT=ACCEPTED;RSVP=TRUE;CN=James:htt
 p://njyp.org/profile/James
ATTENDEE;ROLE=REQ-PARTICIPANT;PARTSTAT=ACCEPTED;RSVP=TRUE;CN=Janet:htt
 p://njyp.org/profile/Janet
ATTENDEE;ROLE=REQ-PARTICIPANT;PARTSTAT=ACCEPTED;RSVP=TRUE;CN="Cindy Li
 n":http://njyp.org/profile/CindyLin
ATTENDEE;ROLE=REQ-PARTICIPANT;PARTSTAT=ACCEPTED;RSVP=TRUE;CN="Lisa E":
 http://njyp.org/profile/Lisa816
ATTENDEE;ROLE=REQ-PARTICIPANT;PARTSTAT=ACCEPTED;RSVP=TRUE;CN="Joao-Pie
 rre Ruth":http://njyp.org/profile/JoaoPierreRuth
ATTENDEE;ROLE=REQ-PARTICIPANT;PARTSTAT=ACCEPTED;RSVP=TRUE;CN="Andrea D
 inar":http://njyp.org/profile/AndreaDinar
ATTENDEE;ROLE=REQ-PARTICIPANT;PARTSTAT=ACCEPTED;RSVP=TRUE;CN="Allison 
 Williams":http://njyp.org/profile/AllisonWilliams
ATTENDEE;ROLE=REQ-PARTICIPANT;PARTSTAT=ACCEPTED;RSVP=TRUE;CN=Nicole:ht
 tp://njyp.org/profile/Nicole388
ATTENDEE;ROLE=REQ-PARTICIPANT;PARTSTAT=ACCEPTED;RSVP=TRUE;CN=Bogy:http
 ://njyp.org/profile/BogyP
ATTENDEE;ROLE=REQ-PARTICIPANT;PARTSTAT=ACCEPTED;RSVP=TRUE;CN="Karl  A 
 Kraus":http://njyp.org/profile/KarlAKraus
ATTENDEE;ROLE=REQ-PARTICIPANT;PARTSTAT=ACCEPTED;RSVP=TRUE;CN="Raj Wate
 rs":http://njyp.org/profile/AnujKumar
ATTENDEE;ROLE=REQ-PARTICIPANT;PARTSTAT=ACCEPTED;RSVP=TRUE;CN=Alane:htt
 p://njyp.org/profile/Alane
ATTENDEE;ROLE=REQ-PARTICIPANT;PARTSTAT=ACCEPTED;RSVP=TRUE;CN=Julia:htt
 p://njyp.org/profile/Julia645
ATTENDEE;ROLE=REQ-PARTICIPANT;PARTSTAT=ACCEPTED;RSVP=TRUE;CN=Christina
 :http://njyp.org/profile/ChristinaRyan
ATTENDEE;ROLE=REQ-PARTICIPANT;PARTSTAT=ACCEPTED;RSVP=TRUE;CN="Amy D Or
 tiz":http://njyp.org/profile/AmyDi
ATTENDEE;ROLE=REQ-PARTICIPANT;PARTSTAT=ACCEPTED;RSVP=TRUE;CN="T.J.":ht
 tp://njyp.org/profile/TJEsposito
ATTENDEE;ROLE=REQ-PARTICIPANT;PARTSTAT=ACCEPTED;RSVP=TRUE;CN=Shaun:htt
 p://njyp.org/profile/Shaun0408
ATTENDEE;ROLE=REQ-PARTICIPANT;PARTSTAT=ACCEPTED;RSVP=TRUE;CN="Lori Bur
 r":http://njyp.org/profile/LoriBurr
ATTENDEE;ROLE=REQ-PARTICIPANT;PARTSTAT=ACCEPTED;RSVP=TRUE;CN=John:http
 ://njyp.org/profile/John141
ATTENDEE;ROLE=REQ-PARTICIPANT;PARTSTAT=ACCEPTED;RSVP=TRUE;CN=Robin:htt
 p://njyp.org/profile/Robin226
ATTENDEE;ROLE=REQ-PARTICIPANT;PARTSTAT=ACCEPTED;RSVP=TRUE;CN=Maureen:h
 ttp://njyp.org/profile/Maureen
ATTENDEE;ROLE=REQ-PARTICIPANT;PARTSTAT=ACCEPTED;RSVP=TRUE;CN=Jessica:h
 ttp://njyp.org/profile/Jessica30
ATTENDEE;ROLE=REQ-PARTICIPANT;PARTSTAT=ACCEPTED;RSVP=TRUE;CN=Tracy:htt
 p://njyp.org/profile/Tracy250
ATTENDEE;ROLE=REQ-PARTICIPANT;PARTSTAT=ACCEPTED;RSVP=TRUE;CN=Paul:http
 ://njyp.org/profile/Paul964
ATTENDEE;ROLE=REQ-PARTICIPANT;PARTSTAT=ACCEPTED;RSVP=TRUE;CN="Scott Pa
 tterson":http://njyp.org/profile/ScottPatterson
ATTENDEE;ROLE=REQ-PARTICIPANT;PARTSTAT=ACCEPTED;RSVP=TRUE;CN=Pritesh:h
 ttp://njyp.org/profile/Pritesh
ATTENDEE;ROLE=REQ-PARTICIPANT;PARTSTAT=ACCEPTED;RSVP=TRUE;CN="Derrick 
 B. Norgriff":http://njyp.org/profile/MeetMrGriff
ATTENDEE;ROLE=REQ-PARTICIPANT;PARTSTAT=ACCEPTED;RSVP=TRUE;CN=Joe:http:
 //njyp.org/profile/Joe115
ATTENDEE;ROLE=REQ-PARTICIPANT;PARTSTAT=ACCEPTED;RSVP=TRUE;CN=Lauren:ht
 tp://njyp.org/profile/LaurenBulger
ATTENDEE;ROLE=REQ-PARTICIPANT;PARTSTAT=ACCEPTED;RSVP=TRUE;CN="Ann Voss
 ":http://njyp.org/profile/AnnVoss
ATTENDEE;ROLE=REQ-PARTICIPANT;PARTSTAT=ACCEPTED;RSVP=TRUE;CN=Millie:ht
 tp://njyp.org/profile/Millie
ATTENDEE;ROLE=REQ-PARTICIPANT;PARTSTAT=ACCEPTED;RSVP=TRUE;CN="Lindsay 
 Janel":http://njyp.org/profile/LindsayJanel
ATTENDEE;ROLE=REQ-PARTICIPANT;PARTSTAT=ACCEPTED;RSVP=TRUE;CN=Kimberly:
 http://njyp.org/profile/Kimberly35
ATTENDEE;ROLE=REQ-PARTICIPANT;PARTSTAT=ACCEPTED;RSVP=TRUE;CN=michael:h
 ttp://njyp.org/profile/michael395
ATTENDEE;ROLE=REQ-PARTICIPANT;PARTSTAT=ACCEPTED;RSVP=TRUE;CN=tyler:htt
 p://njyp.org/profile/tyler
ATTENDEE;ROLE=REQ-PARTICIPANT;PARTSTAT=ACCEPTED;RSVP=TRUE;CN="Emily Mo
 nus":http://njyp.org/profile/EmilyMonus
ATTENDEE;ROLE=REQ-PARTICIPANT;PARTSTAT=ACCEPTED;RSVP=TRUE;CN="Scott Li
 chtenstein":http://njyp.org/profile/ScottLichtenstein
ATTENDEE;ROLE=REQ-PARTICIPANT;PARTSTAT=ACCEPTED;RSVP=TRUE;CN="Nathan G
 reenhut":http://njyp.org/profile/NathanGreenhut
ATTENDEE;ROLE=REQ-PARTICIPANT;PARTSTAT=ACCEPTED;RSVP=TRUE;CN="Steve Br
 own":http://njyp.org/profile/SteveBrown
ATTENDEE;ROLE=REQ-PARTICIPANT;PARTSTAT=TENTATIVE;RSVP=TRUE;CN=Jennifer
 :http://njyp.org/profile/JenniferEphraim
ATTENDEE;ROLE=REQ-PARTICIPANT;PARTSTAT=TENTATIVE;RSVP=TRUE;CN=Lissa:ht
 tp://njyp.org/profile/Lissa
ATTENDEE;ROLE=REQ-PARTICIPANT;PARTSTAT=TENTATIVE;RSVP=TRUE;CN="Marc Se
 menta":http://njyp.org/profile/MarcSementa
ATTENDEE;ROLE=REQ-PARTICIPANT;PARTSTAT=TENTATIVE;RSVP=TRUE;CN=Chris:ht
 tp://njyp.org/profile/Christopherp
ATTENDEE;ROLE=REQ-PARTICIPANT;PARTSTAT=TENTATIVE;RSVP=TRUE;CN=Dennis:h
 ttp://njyp.org/profile/Dennis711
ATTENDEE;ROLE=REQ-PARTICIPANT;PARTSTAT=TENTATIVE;RSVP=TRUE;CN=James:ht
 tp://njyp.org/profile/JamesShow
ATTENDEE;ROLE=REQ-PARTICIPANT;PARTSTAT=TENTATIVE;RSVP=TRUE;CN=Steve:ht
 tp://njyp.org/profile/Steve104
ATTENDEE;ROLE=REQ-PARTICIPANT;PARTSTAT=TENTATIVE;RSVP=TRUE;CN=Joella:h
 ttp://njyp.org/profile/Joella
ATTENDEE;ROLE=REQ-PARTICIPANT;PARTSTAT=TENTATIVE;RSVP=TRUE;CN=Lindsey:
 http://njyp.org/profile/Lindsey
ATTENDEE;ROLE=REQ-PARTICIPANT;PARTSTAT=TENTATIVE;RSVP=TRUE;CN="Janice 
 Klein":http://njyp.org/profile/JaniceKlein
ATTENDEE;ROLE=REQ-PARTICIPANT;PARTSTAT=TENTATIVE;RSVP=TRUE;CN="Kristen
  Ann":http://njyp.org/profile/KristenAnn
ATTENDEE;ROLE=REQ-PARTICIPANT;PARTSTAT=TENTATIVE;RSVP=TRUE;CN=Christop
 her:http://njyp.org/profile/Christopher726
ATTENDEE;ROLE=REQ-PARTICIPANT;PARTSTAT=TENTATIVE;RSVP=TRUE;CN=Kelvin:h
 ttp://njyp.org/profile/Kelvin
ATTENDEE;ROLE=REQ-PARTICIPANT;PARTSTAT=TENTATIVE;RSVP=TRUE;CN="Lillian
  T.":http://njyp.org/profile/LillianT
ATTENDEE;ROLE=REQ-PARTICIPANT;PARTSTAT=TENTATIVE;RSVP=TRUE;CN="Ed H":h
 ttp://njyp.org/profile/EdH
ATTENDEE;ROLE=REQ-PARTICIPANT;PARTSTAT=TENTATIVE;RSVP=TRUE;CN="Hemant 
 Pats":http://njyp.org/profile/HemantPats
ATTENDEE;ROLE=REQ-PARTICIPANT;PARTSTAT=TENTATIVE;RSVP=TRUE;CN=Stephani
 e:http://njyp.org/profile/Stephanie407
ATTENDEE;ROLE=REQ-PARTICIPANT;PARTSTAT=TENTATIVE;RSVP=TRUE;CN=Adam:htt
 p://njyp.org/profile/Adam780
ATTENDEE;ROLE=REQ-PARTICIPANT;PARTSTAT=TENTATIVE;RSVP=TRUE;CN=Robert:h
 ttp://njyp.org/profile/Robert367
ATTENDEE;ROLE=REQ-PARTICIPANT;PARTSTAT=TENTATIVE;RSVP=TRUE;CN="Ken S."
 :http://njyp.org/profile/KennethSirower
ATTENDEE;ROLE=REQ-PARTICIPANT;PARTSTAT=TENTATIVE;RSVP=TRUE;CN=Nathan:h
 ttp://njyp.org/profile/NathanMcMillan
ATTENDEE;ROLE=REQ-PARTICIPANT;PARTSTAT=TENTATIVE;RSVP=TRUE;CN=Minesh:h
 ttp://njyp.org/profile/Max
ATTENDEE;ROLE=REQ-PARTICIPANT;PARTSTAT=TENTATIVE;RSVP=TRUE;CN=Will:htt
 p://njyp.org/profile/William
ATTENDEE;ROLE=REQ-PARTICIPANT;PARTSTAT=TENTATIVE;RSVP=TRUE;CN=Olya:htt
 p://njyp.org/profile/Olya
ATTENDEE;ROLE=REQ-PARTICIPANT;PARTSTAT=TENTATIVE;RSVP=TRUE;CN="Chris P
 oorten":http://njyp.org/profile/ChrisPoorten
ATTENDEE;ROLE=REQ-PARTICIPANT;PARTSTAT=TENTATIVE;RSVP=TRUE;CN="Melvin 
 I. Gonzalez":http://njyp.org/profile/MelvinIGonzalez
ATTENDEE;ROLE=REQ-PARTICIPANT;PARTSTAT=TENTATIVE;RSVP=TRUE;CN="Leora G
 reenhaus":http://njyp.org/profile/LeoraDagani
ATTENDEE;ROLE=REQ-PARTICIPANT;PARTSTAT=TENTATIVE;RSVP=TRUE;CN=Nita:htt
 p://njyp.org/profile/NitaSilimkhan
ATTENDEE;ROLE=REQ-PARTICIPANT;PARTSTAT=TENTATIVE;RSVP=TRUE;CN=Angeliqu
 e:http://njyp.org/profile/Angelique
ATTENDEE;ROLE=REQ-PARTICIPANT;PARTSTAT=TENTATIVE;RSVP=TRUE;CN=Ardavan:
 http://njyp.org/profile/Ardavan
ATTENDEE;ROLE=REQ-PARTICIPANT;PARTSTAT=TENTATIVE;RSVP=TRUE;CN=Gail:htt
 p://njyp.org/profile/Gail
ATTENDEE;ROLE=REQ-PARTICIPANT;PARTSTAT=TENTATIVE;RSVP=TRUE;CN=Marisa:h
 ttp://njyp.org/profile/Marisa466
ATTENDEE;ROLE=REQ-PARTICIPANT;PARTSTAT=TENTATIVE;RSVP=TRUE;CN="A D Y":
 http://njyp.org/profile/ADY
ATTENDEE;ROLE=REQ-PARTICIPANT;PARTSTAT=TENTATIVE;RSVP=TRUE;CN=Paul:htt
 p://njyp.org/profile/Paul679
ATTENDEE;ROLE=REQ-PARTICIPANT;PARTSTAT=TENTATIVE;RSVP=TRUE;CN="Jon Ber
 rian":http://njyp.org/profile/JonBerrian
ATTENDEE;ROLE=REQ-PARTICIPANT;PARTSTAT=TENTATIVE;RSVP=TRUE;CN=Gerard:h
 ttp://njyp.org/profile/Gerard
ATTENDEE;ROLE=REQ-PARTICIPANT;PARTSTAT=TENTATIVE;RSVP=TRUE;CN=Leo:http
 ://njyp.org/profile/Leo
ATTENDEE;ROLE=REQ-PARTICIPANT;PARTSTAT=TENTATIVE;RSVP=TRUE;CN=Craig:ht
 tp://njyp.org/profile/Craig547
ATTENDEE;ROLE=REQ-PARTICIPANT;PARTSTAT=TENTATIVE;RSVP=TRUE;CN=Patricia
 :http://njyp.org/profile/TrishaOSha
ATTENDEE;ROLE=REQ-PARTICIPANT;PARTSTAT=TENTATIVE;RSVP=TRUE;CN=Amy:http
 ://njyp.org/profile/Amy346
ATTENDEE;ROLE=REQ-PARTICIPANT;PARTSTAT=TENTATIVE;RSVP=TRUE;CN="Simone 
 Lyle":http://njyp.org/profile/SimoneLyle
ATTENDEE;ROLE=REQ-PARTICIPANT;PARTSTAT=TENTATIVE;RSVP=TRUE;CN=Jeff:htt
 p://njyp.org/profile/Jeff203
ATTENDEE;ROLE=REQ-PARTICIPANT;PARTSTAT=TENTATIVE;RSVP=TRUE;CN="Jennife
 r L. Campbell":http://njyp.org/profile/JenniferLCampbell
ATTENDEE;ROLE=REQ-PARTICIPANT;PARTSTAT=TENTATIVE;RSVP=TRUE;CN=Douglas:
 http://njyp.org/profile/Douglas657
ATTENDEE;ROLE=REQ-PARTICIPANT;PARTSTAT=TENTATIVE;RSVP=TRUE;CN=Chris:ht
 tp://njyp.org/profile/Chris878
ATTENDEE;ROLE=REQ-PARTICIPANT;PARTSTAT=TENTATIVE;RSVP=TRUE;CN="Anu Kha
 re":http://njyp.org/profile/AnuKhare
ATTENDEE;ROLE=REQ-PARTICIPANT;PARTSTAT=TENTATIVE;RSVP=TRUE;CN="Tony Pa
 nariello":http://njyp.org/profile/TonyPanariello
END:VEVENT
END:VCALENDAR
