BEGIN:VCALENDAR
PRODID:NingEventWidget-v1
VERSION:2.0
METHOD:PUBLISH
BEGIN:VTIMEZONE
TZID:America/New_York
X-LIC-LOCATION:America/New_York
BEGIN:DAYLIGHT
TZOFFSETFROM:-0500
TZOFFSETTO:-0400
TZNAME:EDT
DTSTART:19700308T020000
RRULE:FREQ=YEARLY;BYMONTH=3;BYDAY=2SU
END:DAYLIGHT
BEGIN:STANDARD
TZOFFSETFROM:-0400
TZOFFSETTO:-0500
TZNAME:EST
DTSTART:19701101T020000
RRULE:FREQ=YEARLY;BYMONTH=11;BYDAY=1SU
END:STANDARD
END:VTIMEZONE
BEGIN:VEVENT
UID:2938326:Event:739560
DTSTAMP:20260420T115550Z
SUMMARY:Holiday Single Mingle
DESCRIPTION:\r\nSingle Mingles bring together those who are YOUNG, PRO
 FESSIONAL, and, most importantly, UNATTACHED. Come together in your be
 st holiday attire, or maybe even a tacky sweater, to meet great people
 ! This event runs on your charm and finesse, so come out ready to impr
 ess! Make new friends, exchange a few numbers, and stay out a little l
 ate.\r\n\r\nDrink Specials: $3 Miller drafts, $4 house wine, $5 house 
 mixed drinks\r\n\r\nFREE FOOD: Buffet of light appetizers.\r\n\r\nMem
 ber Cost: $5 online, $10 at the door\r\nNon-Member Cost: $10 online, $
 15 at the door.  Who should attend: Single Men and Women ages 21-39\r\
 n  Directions/Parking: Various street parking and garages.\r\n\n\nFor 
 more information visit http://njyp.org/events/holidaysingleming1201201
 8
DTSTART;TZID=America/New_York:20181201T193000
DTEND;TZID=America/New_York:20181201T213000
CATEGORIES:"morris county", social, winter, feel, good, friday, mingle
 , party
LOCATION:Horseshoe Tavern
WEBSITE:https://www.thehorseshoetavern.com
URL:https://www.thehorseshoetavern.com
CONTACT:
ORGANIZER;CN="Brian Melnick":http://njyp.org/profile/Brian1218
ATTACH;FMTTYPE="image/jpeg":https://storage.ning.com/topology/rest/1.0
 /file/get/173214264?profile=original
ATTENDEE;ROLE=REQ-PARTICIPANT;PARTSTAT=ACCEPTED;RSVP=TRUE;CN=Angela:ht
 tp://njyp.org/profile/Angela27
ATTENDEE;ROLE=REQ-PARTICIPANT;PARTSTAT=ACCEPTED;RSVP=TRUE;CN=Igor:http
 ://njyp.org/profile/Igor
ATTENDEE;ROLE=REQ-PARTICIPANT;PARTSTAT=ACCEPTED;RSVP=TRUE;CN=Patrick:h
 ttp://njyp.org/profile/Patrick517
ATTENDEE;ROLE=REQ-PARTICIPANT;PARTSTAT=ACCEPTED;RSVP=TRUE;CN=Tim:http:
 //njyp.org/profile/0ba7sta1qw6hz
ATTENDEE;ROLE=REQ-PARTICIPANT;PARTSTAT=ACCEPTED;RSVP=TRUE;CN=John:http
 ://njyp.org/profile/John91
ATTENDEE;ROLE=REQ-PARTICIPANT;PARTSTAT=ACCEPTED;RSVP=TRUE;CN=Kathleen:
 http://njyp.org/profile/Kathleen943
ATTENDEE;ROLE=REQ-PARTICIPANT;PARTSTAT=ACCEPTED;RSVP=TRUE;CN="Brian Me
 lnick":http://njyp.org/profile/Brian1218
ATTENDEE;ROLE=REQ-PARTICIPANT;PARTSTAT=ACCEPTED;RSVP=TRUE;CN=Atish:htt
 p://njyp.org/profile/Atish
ATTENDEE;ROLE=REQ-PARTICIPANT;PARTSTAT=TENTATIVE;RSVP=TRUE;CN=Anthony:
 http://njyp.org/profile/Anthony524
ATTENDEE;ROLE=REQ-PARTICIPANT;PARTSTAT=TENTATIVE;RSVP=TRUE;CN=Rob:http
 ://njyp.org/profile/Rob586
END:VEVENT
END:VCALENDAR
