BEGIN:VCALENDAR
PRODID:NingEventWidget-v1
VERSION:2.0
METHOD:PUBLISH
BEGIN:VTIMEZONE
TZID:America/New_York
X-LIC-LOCATION:America/New_York
BEGIN:DAYLIGHT
TZOFFSETFROM:-0500
TZOFFSETTO:-0400
TZNAME:EDT
DTSTART:19700308T020000
RRULE:FREQ=YEARLY;BYMONTH=3;BYDAY=2SU
END:DAYLIGHT
BEGIN:STANDARD
TZOFFSETFROM:-0400
TZOFFSETTO:-0500
TZNAME:EST
DTSTART:19701101T020000
RRULE:FREQ=YEARLY;BYMONTH=11;BYDAY=1SU
END:STANDARD
END:VTIMEZONE
BEGIN:VEVENT
UID:2938326:Event:352995
DTSTAMP:20260420T023601Z
SUMMARY:Intro to Blink Boot Camp
DESCRIPTION:Get ready to whip your body into shape with Blink Fitness 
 & NJYP!  At this Intro to Blink Boot Camp, we’ll spend one hour bur
 ning fat while toning & building strength throughout the body.  Perso
 nal trainers will watch the pace, to make sure we don’t break more t
 han a sweat.  After the workout but before lunch, we'll go on a quick
  tour of Blink. Then we’ll walk over to Whole Foods for a hardy, hea
 lthy, and well earned meal (optional).\nWho Can Attend: Dues paying M
 embers of NJYP. If your friend wants to attend please have her join NJ
 YP.   Specs: This will be a beginners class. This will be a private e
 vent just for our organization.  What to bring: Please dress in athlet
 ic clothing, including sneakers. Bring a towel and a bottle of water. 
  Directions: http://www.blinkfitness.com/Locations/Club/Paramus Locate
 d in the Bergen Town Center (the old Bergen Mall). Plenty of parking.\
 n\nFor more information visit http://njyp.org/events/intro-to-blink-bo
 ot-camp-1
DTSTART;TZID=America/New_York:20120610T100000
DTEND;TZID=America/New_York:20120610T110000
CATEGORIES:"bergen county", athletic, bbc
LOCATION:Blink Fitness
WEBSITE:http://www.blinkfitness.com/Locations/Club/Paramus
URL:http://www.blinkfitness.com/Locations/Club/Paramus
CONTACT:
ORGANIZER;CN="Brian and Mike":http://njyp.org/profile/BrianMike
ATTACH;FMTTYPE="image/jpeg":http://storage.ning.com/topology/rest/1.0/
 file/get/1088760414?profile=original
ATTENDEE;ROLE=REQ-PARTICIPANT;PARTSTAT=ACCEPTED;RSVP=TRUE;CN=Jessica:h
 ttp://njyp.org/profile/JessicaNatalizio
ATTENDEE;ROLE=REQ-PARTICIPANT;PARTSTAT=ACCEPTED;RSVP=TRUE;CN=Marisa:ht
 tp://njyp.org/profile/Marisa578
ATTENDEE;ROLE=REQ-PARTICIPANT;PARTSTAT=ACCEPTED;RSVP=TRUE;CN=Emelyn:ht
 tp://njyp.org/profile/Emelyn
ATTENDEE;ROLE=REQ-PARTICIPANT;PARTSTAT=ACCEPTED;RSVP=TRUE;CN=Roy:http:
 //njyp.org/profile/Roy
ATTENDEE;ROLE=REQ-PARTICIPANT;PARTSTAT=TENTATIVE;RSVP=TRUE;CN=Marcus:h
 ttp://njyp.org/profile/MGarf
ATTENDEE;ROLE=REQ-PARTICIPANT;PARTSTAT=TENTATIVE;RSVP=TRUE;CN="Brian a
 nd Mike":http://njyp.org/profile/BrianMike
ATTENDEE;ROLE=REQ-PARTICIPANT;PARTSTAT=TENTATIVE;RSVP=TRUE;CN=Vadim:ht
 tp://njyp.org/profile/Vadim
ATTENDEE;ROLE=REQ-PARTICIPANT;PARTSTAT=TENTATIVE;RSVP=TRUE;CN=Gina:htt
 p://njyp.org/profile/Gina815
ATTENDEE;ROLE=REQ-PARTICIPANT;PARTSTAT=TENTATIVE;RSVP=TRUE;CN=Julie:ht
 tp://njyp.org/profile/Julie942
END:VEVENT
END:VCALENDAR
