BEGIN:VCALENDAR
PRODID:NingEventWidget-v1
VERSION:2.0
METHOD:PUBLISH
BEGIN:VTIMEZONE
TZID:America/New_York
X-LIC-LOCATION:America/New_York
BEGIN:DAYLIGHT
TZOFFSETFROM:-0500
TZOFFSETTO:-0400
TZNAME:EDT
DTSTART:19700308T020000
RRULE:FREQ=YEARLY;BYMONTH=3;BYDAY=2SU
END:DAYLIGHT
BEGIN:STANDARD
TZOFFSETFROM:-0400
TZOFFSETTO:-0500
TZNAME:EST
DTSTART:19701101T020000
RRULE:FREQ=YEARLY;BYMONTH=11;BYDAY=1SU
END:STANDARD
END:VTIMEZONE
BEGIN:VEVENT
UID:2938326:Event:331742
DTSTAMP:20260420T002224Z
SUMMARY:Intro to CrossFit
DESCRIPTION:Come jump, lift, run, and climb with us at CrossFit Stealt
 h in New Brunswick! CrossFit employs a specialized workout regimen use
 d by military special ops units, high school athletes, and even senior
 s looking to exercise.  This will be an introduction to the wide worl
 d of CrossFit, so wear comfortable gym clothes, and get ready to sweat
  with the best.  Who can Attend: This will be a beginners class. Women
  or men who are 21 to 39 years old may participate. This will be a pri
 vate event just for our organization.  What to bring: Please dress in 
 athletic clothing, including sneakers. Bring a towel and a bottle of w
 ater.   Member Cost: $10 online  Non-Member Cost: $20 online  Are you 
 a Sideliner or Player? Go here for ticket discount info, http://www.nj
 yp.org/group/the-better-body-challenge-main-group  Tickets: There are 
 a limited number of Tickets for sale. Tickets are not mailed, but your
  name will be kept at the door. All sales are final.  More About Cross
 Fit: CrossFit is the principal strength and conditioning program for m
 any police academies and tactical teams, firemen, military special ope
 rations units, champion martial artists and hundreds of other elite an
 d professional athletes worldwide. However, it is designed for univers
 al adaptability, making it the perfect application for any committed i
 ndividual regardless of age, gender or ability.  Directions: http://ww
 w.crossfitstealth.com\n*Please note that many GPS systems have 411 Joy
 ce Kilmer Ave located further away from downtown New Brunswick than it
  actually is. 411 Joyce Kilmer Ave is located directly across from Rut
 gers Street. It's a brown building. Go to Unit 4 in the back next to t
 he field (the sign is still in the process of being made).\n\nFor more
  information visit http://njyp.org/events/intro-to-crossfit-1
DTSTART;TZID=America/New_York:20120331T100000
DTEND;TZID=America/New_York:20120331T110000
CATEGORIES:"middlesex county", athletic, bbc
LOCATION:CrossFit Stealth
WEBSITE:http://www.crossfitstealth.com/
URL:http://www.crossfitstealth.com/
CONTACT:
ORGANIZER;CN="Brian and Mike":http://njyp.org/profile/BrianMike
ATTACH;FMTTYPE="image/jpeg":http://storage.ning.com/topology/rest/1.0/
 file/get/1088760414?profile=original
ATTENDEE;ROLE=REQ-PARTICIPANT;PARTSTAT=ACCEPTED;RSVP=TRUE;CN="Cindy Li
 n":http://njyp.org/profile/CindyLin
ATTENDEE;ROLE=REQ-PARTICIPANT;PARTSTAT=ACCEPTED;RSVP=TRUE;CN=Joseph:ht
 tp://njyp.org/profile/Joseph158
ATTENDEE;ROLE=REQ-PARTICIPANT;PARTSTAT=ACCEPTED;RSVP=TRUE;CN=Kirsten:h
 ttp://njyp.org/profile/KirstenSwanson
ATTENDEE;ROLE=REQ-PARTICIPANT;PARTSTAT=ACCEPTED;RSVP=TRUE;CN=Amanda:ht
 tp://njyp.org/profile/Amanda695
ATTENDEE;ROLE=REQ-PARTICIPANT;PARTSTAT=ACCEPTED;RSVP=TRUE;CN=Katie:htt
 p://njyp.org/profile/Katie168
ATTENDEE;ROLE=REQ-PARTICIPANT;PARTSTAT=ACCEPTED;RSVP=TRUE;CN="Janet St
 evens":http://njyp.org/profile/JanetStevens
ATTENDEE;ROLE=REQ-PARTICIPANT;PARTSTAT=ACCEPTED;RSVP=TRUE;CN=Alison:ht
 tp://njyp.org/profile/Alison47
ATTENDEE;ROLE=REQ-PARTICIPANT;PARTSTAT=ACCEPTED;RSVP=TRUE;CN=Sheila:ht
 tp://njyp.org/profile/Sheila
ATTENDEE;ROLE=REQ-PARTICIPANT;PARTSTAT=ACCEPTED;RSVP=TRUE;CN="Brian an
 d Mike":http://njyp.org/profile/BrianMike
ATTENDEE;ROLE=REQ-PARTICIPANT;PARTSTAT=TENTATIVE;RSVP=TRUE;CN="Robin W
 eaver":http://njyp.org/profile/RobinWeaver
ATTENDEE;ROLE=REQ-PARTICIPANT;PARTSTAT=TENTATIVE;RSVP=TRUE;CN="Lauren 
 Laudino":http://njyp.org/profile/LaurenLaudino
ATTENDEE;ROLE=REQ-PARTICIPANT;PARTSTAT=TENTATIVE;RSVP=TRUE;CN="Ines Lo
 pes":http://njyp.org/profile/Inesl
ATTENDEE;ROLE=REQ-PARTICIPANT;PARTSTAT=TENTATIVE;RSVP=TRUE;CN=Rebecca:
 http://njyp.org/profile/Rebecca403
ATTENDEE;ROLE=REQ-PARTICIPANT;PARTSTAT=TENTATIVE;RSVP=TRUE;CN=Crystal:
 http://njyp.org/profile/CrystalRoll
ATTENDEE;ROLE=REQ-PARTICIPANT;PARTSTAT=TENTATIVE;RSVP=TRUE;CN=Dharm:ht
 tp://njyp.org/profile/DharmeshMistry
END:VEVENT
END:VCALENDAR
