BEGIN:VCALENDAR
PRODID:NingEventWidget-v1
VERSION:2.0
METHOD:PUBLISH
BEGIN:VTIMEZONE
TZID:America/New_York
X-LIC-LOCATION:America/New_York
BEGIN:DAYLIGHT
TZOFFSETFROM:-0500
TZOFFSETTO:-0400
TZNAME:EDT
DTSTART:19700308T020000
RRULE:FREQ=YEARLY;BYMONTH=3;BYDAY=2SU
END:DAYLIGHT
BEGIN:STANDARD
TZOFFSETFROM:-0400
TZOFFSETTO:-0500
TZNAME:EST
DTSTART:19701101T020000
RRULE:FREQ=YEARLY;BYMONTH=11;BYDAY=1SU
END:STANDARD
END:VTIMEZONE
BEGIN:VEVENT
UID:2938326:Event:542465
DTSTAMP:20260420T201037Z
SUMMARY:Intro to CrossFit
DESCRIPTION:Come jump, lift, run, and climb with us at CrossFit Stealt
 h in South Plainfield! CrossFit employs a specialized workout regimen 
 used by military special ops units, high school athletes, and even sen
 iors looking to exercise.  This will be an introduction to the wide w
 orld of CrossFit, so wear comfortable gym clothes, and get ready to sw
 eat with the best.  Who can Attend: This is a private class for dues p
 aying Members, http://www.njyp.org/profiles/members/ This is a beginne
 rs class.  What to bring: Please dress in athletic clothing, including
  sneakers. Bring a towel and a bottle of water. Also make sure to fi
 ll out this waiver before the class on April 19th https://www.smart
 waiver.com/w/520ba04c69c27/web/\n\nCost: No cost. You MUST RSVP if you
  plan to attend.\n\nWhat to expect: There will be a group stretch, dyn
 amic warm-up, and beginner workout. During the free class you will al
 so learn what CrossFit is, different membership options, pricing, and 
 how to enroll.\n  Directions: http://www.crossfitstealth.com\nPlease r
 emember we are going to the South Plainfield location.\n\nFor more inf
 ormation visit http://njyp.org/events/intro-to-crossfit-3
DTSTART;TZID=America/New_York:20140419T110000
DTEND;TZID=America/New_York:20140419T120000
CATEGORIES:"middlesex county", athletic, bbc
LOCATION:CrossFit Stealth 2
WEBSITE:http://www.crossfitstealth.com/
URL:http://www.crossfitstealth.com/
CONTACT:
ORGANIZER;CN="Brian and Mike":http://njyp.org/profile/BrianMike
ATTACH;FMTTYPE="image/jpeg":http://storage.ning.com/topology/rest/1.0/
 file/get/1088954671?profile=original
ATTENDEE;ROLE=REQ-PARTICIPANT;PARTSTAT=ACCEPTED;RSVP=TRUE;CN=Laurel:ht
 tp://njyp.org/profile/Laurel
ATTENDEE;ROLE=REQ-PARTICIPANT;PARTSTAT=ACCEPTED;RSVP=TRUE;CN=Erica:htt
 p://njyp.org/profile/Erica105
ATTENDEE;ROLE=REQ-PARTICIPANT;PARTSTAT=ACCEPTED;RSVP=TRUE;CN=Keith:htt
 p://njyp.org/profile/Keith873
ATTENDEE;ROLE=REQ-PARTICIPANT;PARTSTAT=ACCEPTED;RSVP=TRUE;CN=Ant:http:
 //njyp.org/profile/AnthonyAgonias
ATTENDEE;ROLE=REQ-PARTICIPANT;PARTSTAT=ACCEPTED;RSVP=TRUE;CN=Vanessa:h
 ttp://njyp.org/profile/Vanessa505
ATTENDEE;ROLE=REQ-PARTICIPANT;PARTSTAT=ACCEPTED;RSVP=TRUE;CN=Edward:ht
 tp://njyp.org/profile/EKotwica
ATTENDEE;ROLE=REQ-PARTICIPANT;PARTSTAT=ACCEPTED;RSVP=TRUE;CN=Mayra:htt
 p://njyp.org/profile/MayraLopez
ATTENDEE;ROLE=REQ-PARTICIPANT;PARTSTAT=TENTATIVE;RSVP=TRUE;CN=Dejan:ht
 tp://njyp.org/profile/Dejan
ATTENDEE;ROLE=REQ-PARTICIPANT;PARTSTAT=TENTATIVE;RSVP=TRUE;CN=Dave:htt
 p://njyp.org/profile/Dave791
ATTENDEE;ROLE=REQ-PARTICIPANT;PARTSTAT=TENTATIVE;RSVP=TRUE;CN=Micah:ht
 tp://njyp.org/profile/Micah602
ATTENDEE;ROLE=REQ-PARTICIPANT;PARTSTAT=TENTATIVE;RSVP=TRUE;CN=Dennis:h
 ttp://njyp.org/profile/Dennis711
ATTENDEE;ROLE=REQ-PARTICIPANT;PARTSTAT=TENTATIVE;RSVP=TRUE;CN=Evelyn:h
 ttp://njyp.org/profile/Evelyn110
ATTENDEE;ROLE=REQ-PARTICIPANT;PARTSTAT=TENTATIVE;RSVP=TRUE;CN=Ivan:htt
 p://njyp.org/profile/Ivan236
ATTENDEE;ROLE=REQ-PARTICIPANT;PARTSTAT=TENTATIVE;RSVP=TRUE;CN=Rachel:h
 ttp://njyp.org/profile/Rachel686
ATTENDEE;ROLE=REQ-PARTICIPANT;PARTSTAT=TENTATIVE;RSVP=TRUE;CN="Janet S
 tevens":http://njyp.org/profile/JanetStevens
END:VEVENT
END:VCALENDAR
