BEGIN:VCALENDAR
PRODID:NingEventWidget-v1
VERSION:2.0
METHOD:PUBLISH
BEGIN:VTIMEZONE
TZID:America/New_York
X-LIC-LOCATION:America/New_York
BEGIN:DAYLIGHT
TZOFFSETFROM:-0500
TZOFFSETTO:-0400
TZNAME:EDT
DTSTART:19700308T020000
RRULE:FREQ=YEARLY;BYMONTH=3;BYDAY=2SU
END:DAYLIGHT
BEGIN:STANDARD
TZOFFSETFROM:-0400
TZOFFSETTO:-0500
TZNAME:EST
DTSTART:19701101T020000
RRULE:FREQ=YEARLY;BYMONTH=11;BYDAY=1SU
END:STANDARD
END:VTIMEZONE
BEGIN:VEVENT
UID:2938326:Event:322105
DTSTAMP:20260422T065807Z
SUMMARY:Intro to CrossFit
DESCRIPTION:Come jump, lift, run, and climb with us at CrossFit A.C.T 
 in Bergen County! CrossFit employs a specialized workout regimen used 
 by military special ops units, high school athletes, and even seniors 
 looking to exercise.  This will be an introduction to the wide world 
 of CrossFit, so wear comfortable gym clothed, and get ready to sweat w
 ith the best.  Who can Attend: This will be a beginners class. Women o
 r men who are 21 to 39 years old may participate. This will be a priva
 te event just for our organization.  What to bring: Please dress in at
 hletic clothing, including sneakers. Bring a towel and a bottle of wat
 er.   Member Cost: $15 for the first 20 to register $20 for everyone e
 lse  Non-Member Cost: $25  Are you a Sideliner or Player? Go here for 
 ticket discount info, http://www.njyp.org/group/the-better-body-challe
 nge-main-group  Tickets: There are a limited number of Tickets for sal
 e. Tickets are not mailed, but your name will be kept at the door. All
  sales are final.  More About CrossFit A.C.T. CrossFit is defined as c
 onstantly varied, high-intensity, functional movement. To break down t
 his idea, the program replicates actions used in everyday life—such 
 as jumping, lifting, running, and climbing—and hones skills that can
  help improve strength, balance, stability, agility, reflexes, and spe
 ed.  Directions: http://crossfitact.com/contact-3/ Plenty of free park
 ing.\n\nFor more information visit http://njyp.org/events/intro-to-cro
 ssfit
DTSTART;TZID=America/New_York:20120228T190000
DTEND;TZID=America/New_York:20120228T203000
CATEGORIES:"bergen county", athletic, bbc
LOCATION:CrossFit A.C.T
WEBSITE:http://crossfitact.com/contact-3/
URL:http://crossfitact.com/contact-3/
CONTACT:
ORGANIZER;CN="Brian and Mike":http://njyp.org/profile/BrianMike
ATTACH;FMTTYPE="image/jpeg":http://storage.ning.com/topology/rest/1.0/
 file/get/1088760414?profile=original
ATTENDEE;ROLE=REQ-PARTICIPANT;PARTSTAT=ACCEPTED;RSVP=TRUE;CN=Tiffanny:
 http://njyp.org/profile/Tiffanny
ATTENDEE;ROLE=REQ-PARTICIPANT;PARTSTAT=ACCEPTED;RSVP=TRUE;CN=Stephen:h
 ttp://njyp.org/profile/Stephen840
ATTENDEE;ROLE=REQ-PARTICIPANT;PARTSTAT=ACCEPTED;RSVP=TRUE;CN=Dharm:htt
 p://njyp.org/profile/DharmeshMistry
ATTENDEE;ROLE=REQ-PARTICIPANT;PARTSTAT=ACCEPTED;RSVP=TRUE;CN="Lisa E":
 http://njyp.org/profile/Lisa816
ATTENDEE;ROLE=REQ-PARTICIPANT;PARTSTAT=ACCEPTED;RSVP=TRUE;CN="Ryan Hub
 an":http://njyp.org/profile/RyanHuban
ATTENDEE;ROLE=REQ-PARTICIPANT;PARTSTAT=ACCEPTED;RSVP=TRUE;CN=Vanessa:h
 ttp://njyp.org/profile/Vanessa665
ATTENDEE;ROLE=REQ-PARTICIPANT;PARTSTAT=ACCEPTED;RSVP=TRUE;CN=Eileen:ht
 tp://njyp.org/profile/Eileen881
ATTENDEE;ROLE=REQ-PARTICIPANT;PARTSTAT=ACCEPTED;RSVP=TRUE;CN="Gael Bur
 man":http://njyp.org/profile/GaelBurman
ATTENDEE;ROLE=REQ-PARTICIPANT;PARTSTAT=ACCEPTED;RSVP=TRUE;CN=Keri:http
 ://njyp.org/profile/Keri690
ATTENDEE;ROLE=REQ-PARTICIPANT;PARTSTAT=ACCEPTED;RSVP=TRUE;CN=Peter:htt
 p://njyp.org/profile/PeterMcDonnell
ATTENDEE;ROLE=REQ-PARTICIPANT;PARTSTAT=ACCEPTED;RSVP=TRUE;CN="Dr. Kevi
 n":http://njyp.org/profile/KevinBrennan
ATTENDEE;ROLE=REQ-PARTICIPANT;PARTSTAT=ACCEPTED;RSVP=TRUE;CN=Sheila:ht
 tp://njyp.org/profile/Sheila
ATTENDEE;ROLE=REQ-PARTICIPANT;PARTSTAT=ACCEPTED;RSVP=TRUE;CN=Faith:htt
 p://njyp.org/profile/Faith
ATTENDEE;ROLE=REQ-PARTICIPANT;PARTSTAT=ACCEPTED;RSVP=TRUE;CN="Nelly Ga
 lan":http://njyp.org/profile/NellyGalan
ATTENDEE;ROLE=REQ-PARTICIPANT;PARTSTAT=ACCEPTED;RSVP=TRUE;CN=Danielle:
 http://njyp.org/profile/Danielle818
ATTENDEE;ROLE=REQ-PARTICIPANT;PARTSTAT=ACCEPTED;RSVP=TRUE;CN=Diana:htt
 p://njyp.org/profile/Diana437
ATTENDEE;ROLE=REQ-PARTICIPANT;PARTSTAT=ACCEPTED;RSVP=TRUE;CN="Brian an
 d Mike":http://njyp.org/profile/BrianMike
ATTENDEE;ROLE=REQ-PARTICIPANT;PARTSTAT=ACCEPTED;RSVP=TRUE;CN=Stephanie
 :http://njyp.org/profile/Stephanie516
ATTENDEE;ROLE=REQ-PARTICIPANT;PARTSTAT=TENTATIVE;RSVP=TRUE;CN=Jennifer
 :http://njyp.org/profile/Jennifer234
ATTENDEE;ROLE=REQ-PARTICIPANT;PARTSTAT=TENTATIVE;RSVP=TRUE;CN=Dejan:ht
 tp://njyp.org/profile/Dejan
ATTENDEE;ROLE=REQ-PARTICIPANT;PARTSTAT=TENTATIVE;RSVP=TRUE;CN="Cindy L
 in":http://njyp.org/profile/CindyLin
ATTENDEE;ROLE=REQ-PARTICIPANT;PARTSTAT=TENTATIVE;RSVP=TRUE;CN=Tara:htt
 p://njyp.org/profile/TaraMorey
END:VEVENT
END:VCALENDAR
