BEGIN:VCALENDAR
PRODID:NingEventWidget-v1
VERSION:2.0
METHOD:PUBLISH
BEGIN:VTIMEZONE
TZID:America/New_York
X-LIC-LOCATION:America/New_York
BEGIN:DAYLIGHT
TZOFFSETFROM:-0500
TZOFFSETTO:-0400
TZNAME:EDT
DTSTART:19700308T020000
RRULE:FREQ=YEARLY;BYMONTH=3;BYDAY=2SU
END:DAYLIGHT
BEGIN:STANDARD
TZOFFSETFROM:-0400
TZOFFSETTO:-0500
TZNAME:EST
DTSTART:19701101T020000
RRULE:FREQ=YEARLY;BYMONTH=11;BYDAY=1SU
END:STANDARD
END:VTIMEZONE
BEGIN:VEVENT
UID:2938326:Event:93915
DTSTAMP:20260420T091437Z
SUMMARY:Italian Speakers Lunch
DESCRIPTION:Parli italiano? Then join us for this inaugural Italian Sp
 eakers Lunch! We will gather to converse in this foreign language whil
 e enjoying some delicious, and affordable, Italian lunch! ALL levels a
 re welcome, even those who are just starting to learn the language. No
  cover charge, but Members Only please. Ecco qua!\n\nCost and Who Can 
 Attend:\nThis will be a Members only event, aka you paid your Membersh
 ip Dues.\nFREE, but please RSVP (to the right).\nYou will pay for what
  you order, bring cash.\n\nHost:\nGio will be hosting this event.\n\nH
 ow to Find the Group:\nWe will make reservations under NJYP. Ask staff
  for the group or look for signs.\n\nDirections/Parking:\nTons of free
  parking.\nLocated on the upper level of Oak Tree Center.\nhttp://www.
 pasqualesristoranteitaliano.com/\n\nFor more information visit http://
 njyp.org/events/italian-speakers-lunch
DTSTART;TZID=America/New_York:20100925T130000
DTEND;TZID=America/New_York:20100925T143000
CATEGORIES:"middlesex county", social
LOCATION:Pasquale's Ristorante Italiano
WEBSITE:http://www.pasqualesristoranteitaliano.com/
URL:http://www.pasqualesristoranteitaliano.com/
CONTACT:
ORGANIZER;CN="Brian and Mike":http://njyp.org/profile/BrianMike
ATTACH;FMTTYPE="image/jpeg":http://storage.ning.com/topology/rest/1.0/
 file/get/1088638194?profile=original
ATTENDEE;ROLE=REQ-PARTICIPANT;PARTSTAT=ACCEPTED;RSVP=TRUE;CN="Olga Ch"
 :http://njyp.org/profile/OlgaChaban
ATTENDEE;ROLE=REQ-PARTICIPANT;PARTSTAT=ACCEPTED;RSVP=TRUE;CN=Alessandr
 a:http://njyp.org/profile/AlessandraDeCicco
ATTENDEE;ROLE=REQ-PARTICIPANT;PARTSTAT=ACCEPTED;RSVP=TRUE;CN=Gio:http:
 //njyp.org/profile/GianfrancoPuggioni
ATTENDEE;ROLE=REQ-PARTICIPANT;PARTSTAT=ACCEPTED;RSVP=TRUE;CN=Davide:ht
 tp://njyp.org/profile/Davide
ATTENDEE;ROLE=REQ-PARTICIPANT;PARTSTAT=ACCEPTED;RSVP=TRUE;CN="Nikki Ha
 rt":http://njyp.org/profile/DomenicaHart
ATTENDEE;ROLE=REQ-PARTICIPANT;PARTSTAT=ACCEPTED;RSVP=TRUE;CN="Deya Mat
 os":http://njyp.org/profile/DeyaMatos
ATTENDEE;ROLE=REQ-PARTICIPANT;PARTSTAT=TENTATIVE;RSVP=TRUE;CN=Anjali:h
 ttp://njyp.org/profile/Anjali
ATTENDEE;ROLE=REQ-PARTICIPANT;PARTSTAT=TENTATIVE;RSVP=TRUE;CN="Maureen
  Bello":http://njyp.org/profile/MaureenBello
ATTENDEE;ROLE=REQ-PARTICIPANT;PARTSTAT=TENTATIVE;RSVP=TRUE;CN=Tracie:h
 ttp://njyp.org/profile/Tracie
ATTENDEE;ROLE=REQ-PARTICIPANT;PARTSTAT=TENTATIVE;RSVP=TRUE;CN="Ken S."
 :http://njyp.org/profile/KennethSirower
END:VEVENT
END:VCALENDAR
