BEGIN:VCALENDAR
PRODID:NingEventWidget-v1
VERSION:2.0
METHOD:PUBLISH
BEGIN:VTIMEZONE
TZID:America/New_York
X-LIC-LOCATION:America/New_York
BEGIN:DAYLIGHT
TZOFFSETFROM:-0500
TZOFFSETTO:-0400
TZNAME:EDT
DTSTART:19700308T020000
RRULE:FREQ=YEARLY;BYMONTH=3;BYDAY=2SU
END:DAYLIGHT
BEGIN:STANDARD
TZOFFSETFROM:-0400
TZOFFSETTO:-0500
TZNAME:EST
DTSTART:19701101T020000
RRULE:FREQ=YEARLY;BYMONTH=11;BYDAY=1SU
END:STANDARD
END:VTIMEZONE
BEGIN:VEVENT
UID:2938326:Event:12831
DTSTAMP:20260422T015650Z
SUMMARY:Jimmy D 5k Walk/Run
DESCRIPTION:Once again we are going to participate in the Jimmy D 5k W
 alk/Run! This is one of our most favorite charitable events because at
  the end of the race we are greeted by an awesome free BBQ and free be
 er. Traditionally the NJYP group sticks around for an hour or two post
 -race for food, drinks, and of course conversation.\n\nRegistration:\n
 http://www.jimmyd5k.com/register.asp\nPre-Registration until 8/28/09 $
 20.00\n8/28/09 or after $25.00\n\nPost Race Party:\nAs always we are g
 oing to gather at the picnic tables for our post-race celebration. The
 re will be free food and drinks and all you can drink beer.\nIf you ar
 e the first to finish grab us a table and squat down! Call everyone ov
 er and we will fill it and probably fill another table as well.\n\nAbo
 ut:\nThis yearly event is in memory of James D'heron and raises funds 
 to support the Saint Barnabas Burn Center and The Art Luf Children's B
 urn Camp. You can read more about the foundation here, http://www.jimm
 yd5k.com/default.asp\n\nHow to Find Us:\nPick up your packet (expect a
  long line) then meet the group on the sidewalk in front of the New Br
 unswick High School on Livingston Ave at 8:30. We will only wait for e
 veryone until 8:45. If you miss this meeting slot you may have a very 
 hard time finding us amongst the crowd.\n\n\n\nParking:\nFree parking 
 all over. Grab any spot you can.\n\nFor more information visit http://
 njyp.org/events/jimmy-d-5k-walkrun
DTSTART;TZID=America/New_York:20090906T083000
DTEND;TZID=America/New_York:20090906T110000
CATEGORIES:"middlesex county", athletic
LOCATION:Meet in front of the NBHS
WEBSITE:
URL:
CONTACT:
ORGANIZER;CN="Brian and Mike":http://njyp.org/profile/BrianMike
ATTACH;FMTTYPE="image/jpeg":http://storage.ning.com/topology/rest/1.0/
 file/get/1088546692?profile=original
ATTENDEE;ROLE=REQ-PARTICIPANT;PARTSTAT=ACCEPTED;RSVP=TRUE;CN="Karen Kr
 eoll":http://njyp.org/profile/KarenKreoll
ATTENDEE;ROLE=REQ-PARTICIPANT;PARTSTAT=ACCEPTED;RSVP=TRUE;CN="David Ei
 senberg":http://njyp.org/profile/DavidEisenberg
ATTENDEE;ROLE=REQ-PARTICIPANT;PARTSTAT=ACCEPTED;RSVP=TRUE;CN="Kristy L
 avin":http://njyp.org/profile/KristyLavin
ATTENDEE;ROLE=REQ-PARTICIPANT;PARTSTAT=ACCEPTED;RSVP=TRUE;CN="Dr. Kevi
 n":http://njyp.org/profile/KevinBrennan
ATTENDEE;ROLE=REQ-PARTICIPANT;PARTSTAT=ACCEPTED;RSVP=TRUE;CN=Tom:http:
 //njyp.org/profile/Thomas
ATTENDEE;ROLE=REQ-PARTICIPANT;PARTSTAT=ACCEPTED;RSVP=TRUE;CN=Kathleen:
 http://njyp.org/profile/Kathleen463
ATTENDEE;ROLE=REQ-PARTICIPANT;PARTSTAT=ACCEPTED;RSVP=TRUE;CN=Brian:htt
 p://njyp.org/profile/BrianWeber
ATTENDEE;ROLE=REQ-PARTICIPANT;PARTSTAT=ACCEPTED;RSVP=TRUE;CN="Doug Bem
 an":http://njyp.org/profile/DougBeman
ATTENDEE;ROLE=REQ-PARTICIPANT;PARTSTAT=ACCEPTED;RSVP=TRUE;CN="Kim Silv
 erman Goldenbaum":http://njyp.org/profile/KimberlySaraGoldenbaum
ATTENDEE;ROLE=REQ-PARTICIPANT;PARTSTAT=ACCEPTED;RSVP=TRUE;CN="Melissa 
 M Hayes":http://njyp.org/profile/MelissaHayes
ATTENDEE;ROLE=REQ-PARTICIPANT;PARTSTAT=ACCEPTED;RSVP=TRUE;CN="Kelly Ba
 rratt":http://njyp.org/profile/KellyHuschke
ATTENDEE;ROLE=REQ-PARTICIPANT;PARTSTAT=ACCEPTED;RSVP=TRUE;CN="Jenny M"
 :http://njyp.org/profile/JennyMulcahy
ATTENDEE;ROLE=REQ-PARTICIPANT;PARTSTAT=ACCEPTED;RSVP=TRUE;CN="Leslie Y
 oung":http://njyp.org/profile/wLeslieYoung
ATTENDEE;ROLE=REQ-PARTICIPANT;PARTSTAT=ACCEPTED;RSVP=TRUE;CN=Sara:http
 ://njyp.org/profile/SaraLevenstein
ATTENDEE;ROLE=REQ-PARTICIPANT;PARTSTAT=ACCEPTED;RSVP=TRUE;CN="Steven H
 oltzman":http://njyp.org/profile/StevenHoltzman
ATTENDEE;ROLE=REQ-PARTICIPANT;PARTSTAT=ACCEPTED;RSVP=TRUE;CN="Brian an
 d Mike":http://njyp.org/profile/BrianMike
ATTENDEE;ROLE=REQ-PARTICIPANT;PARTSTAT=TENTATIVE;RSVP=TRUE;CN=Seema:ht
 tp://njyp.org/profile/SeemaRaykar
ATTENDEE;ROLE=REQ-PARTICIPANT;PARTSTAT=TENTATIVE;RSVP=TRUE;CN=Candace:
 http://njyp.org/profile/Candaycee
ATTENDEE;ROLE=REQ-PARTICIPANT;PARTSTAT=TENTATIVE;RSVP=TRUE;CN=Dharm:ht
 tp://njyp.org/profile/DharmeshMistry
ATTENDEE;ROLE=REQ-PARTICIPANT;PARTSTAT=TENTATIVE;RSVP=TRUE;CN="Andrew 
 Vasta":http://njyp.org/profile/AndrewVasta
ATTENDEE;ROLE=REQ-PARTICIPANT;PARTSTAT=TENTATIVE;RSVP=TRUE;CN="Erica D
 i Bianco":http://njyp.org/profile/EricaDiBianco
ATTENDEE;ROLE=REQ-PARTICIPANT;PARTSTAT=TENTATIVE;RSVP=TRUE;CN=Katherin
 e:http://njyp.org/profile/Katherine
ATTENDEE;ROLE=REQ-PARTICIPANT;PARTSTAT=TENTATIVE;RSVP=TRUE;CN=Lizzie:h
 ttp://njyp.org/profile/ElizabethKuhns
ATTENDEE;ROLE=REQ-PARTICIPANT;PARTSTAT=TENTATIVE;RSVP=TRUE;CN=Rob:http
 ://njyp.org/profile/RobertSens
ATTENDEE;ROLE=REQ-PARTICIPANT;PARTSTAT=TENTATIVE;RSVP=TRUE;CN=Jon:http
 ://njyp.org/profile/Jon
ATTENDEE;ROLE=REQ-PARTICIPANT;PARTSTAT=TENTATIVE;RSVP=TRUE;CN="Peter E
 skow":http://njyp.org/profile/PeterEskow
ATTENDEE;ROLE=REQ-PARTICIPANT;PARTSTAT=TENTATIVE;RSVP=TRUE;CN=Jen:http
 ://njyp.org/profile/JenM
ATTENDEE;ROLE=REQ-PARTICIPANT;PARTSTAT=TENTATIVE;RSVP=TRUE;CN="Nick Wo
 ng":http://njyp.org/profile/NickWong
ATTENDEE;ROLE=REQ-PARTICIPANT;PARTSTAT=TENTATIVE;RSVP=TRUE;CN="Rhandi 
 L":http://njyp.org/profile/RhandiL
ATTENDEE;ROLE=REQ-PARTICIPANT;PARTSTAT=TENTATIVE;RSVP=TRUE;CN="rachel 
 irene":http://njyp.org/profile/rachel_irene
ATTENDEE;ROLE=REQ-PARTICIPANT;PARTSTAT=TENTATIVE;RSVP=TRUE;CN=Kirsten:
 http://njyp.org/profile/KirstenSwanson
ATTENDEE;ROLE=REQ-PARTICIPANT;PARTSTAT=TENTATIVE;RSVP=TRUE;CN="Joshua 
 Gorden":http://njyp.org/profile/JoshuaGorden
ATTENDEE;ROLE=REQ-PARTICIPANT;PARTSTAT=TENTATIVE;RSVP=TRUE;CN="Justin 
 Lejava":http://njyp.org/profile/JustinLejava
ATTENDEE;ROLE=REQ-PARTICIPANT;PARTSTAT=TENTATIVE;RSVP=TRUE;CN="Tim B":
 http://njyp.org/profile/TimBreen
END:VEVENT
END:VCALENDAR
