BEGIN:VCALENDAR
PRODID:NingEventWidget-v1
VERSION:2.0
METHOD:PUBLISH
BEGIN:VTIMEZONE
TZID:America/New_York
X-LIC-LOCATION:America/New_York
BEGIN:DAYLIGHT
TZOFFSETFROM:-0500
TZOFFSETTO:-0400
TZNAME:EDT
DTSTART:19700308T020000
RRULE:FREQ=YEARLY;BYMONTH=3;BYDAY=2SU
END:DAYLIGHT
BEGIN:STANDARD
TZOFFSETFROM:-0400
TZOFFSETTO:-0500
TZNAME:EST
DTSTART:19701101T020000
RRULE:FREQ=YEARLY;BYMONTH=11;BYDAY=1SU
END:STANDARD
END:VTIMEZONE
BEGIN:VEVENT
UID:2938326:Event:528201
DTSTAMP:20260420T032332Z
SUMMARY:Kenilworth Happy Hour
DESCRIPTION:Your local Happy Hour is back on the calendar and this tim
 e we are at Red Knot in Kenilworth. Join other Young Professionals at 
 this mix & mingle event. As always, there is no cover, plus there will
  be great specials to keep the drinks and the laughter flowing. Whethe
 r this is your first event or your fiftieth, you will find yourself su
 rrounded by friendly faces and future friends.  Who can attend: This i
 s a Members ONLY happy hour. Please RSVP if you can attend. If you wis
 h to bring a guest please make sure they pay their dues first, http:/
 /www.njyp.org/page/pay-dues  Cost: No cost to attend but you MUST RSVP
 . 1 item minimum per person so we support the bar and all the space we
  are taking up.  Specials Until 7:30pm: Half price for wines by glass,
  all beers and drinks from the cocktail list.\n What to expect: Our H
 appy Hours are very casual. There are no sign-in tables, no name tags,
  and no ice breakers. Expect people to walk up to you to introduce the
 mselves and feel free to walk up to others who you do not know. Newbie
 s are at EVERY NJYP event so if this is your first, you won't be alone
 .  Finding the Group: We are going to be in the bar area. Please look 
 for signs or ask staff where the group is.  Directions: Red Knot is l
 ocated inside the brand new Clubhouse at Galloping Hill Golf Course, r
 ight off exit 138 on the Garden State Parkway http://www.gallopinghil
 lgolfcourse.com/Restaurant-Overview There are no signs for Red Knot b
 ut look for signs for the golf course and then enter their club house.
 \n\nFor more information visit http://njyp.org/events/kenilworth-happy
 -hour-1
DTSTART;TZID=America/New_York:20140327T180000
DTEND;TZID=America/New_York:20140327T200000
CATEGORIES:"union county", social, members
LOCATION:Red Knot (inside the Clubhouse at the Galloping Hill Golf Cou
 rse)
WEBSITE:http://www.gallopinghillgolfcourse.com/Restaurant-Overview
URL:http://www.gallopinghillgolfcourse.com/Restaurant-Overview
CONTACT:
ORGANIZER;CN="Brian and Mike":http://njyp.org/profile/BrianMike
ATTACH;FMTTYPE="image/jpeg":http://storage.ning.com/topology/rest/1.0/
 file/get/1088851457?profile=original
ATTENDEE;ROLE=REQ-PARTICIPANT;PARTSTAT=ACCEPTED;RSVP=TRUE;CN=Anthony:h
 ttp://njyp.org/profile/Anthony56
ATTENDEE;ROLE=REQ-PARTICIPANT;PARTSTAT=ACCEPTED;RSVP=TRUE;CN=Yariela:h
 ttp://njyp.org/profile/Yariela
ATTENDEE;ROLE=REQ-PARTICIPANT;PARTSTAT=ACCEPTED;RSVP=TRUE;CN="Katie So
 O":http://njyp.org/profile/KatieSoO
ATTENDEE;ROLE=REQ-PARTICIPANT;PARTSTAT=ACCEPTED;RSVP=TRUE;CN=David:htt
 p://njyp.org/profile/David261
ATTENDEE;ROLE=REQ-PARTICIPANT;PARTSTAT=ACCEPTED;RSVP=TRUE;CN=Richie:ht
 tp://njyp.org/profile/Richie
ATTENDEE;ROLE=REQ-PARTICIPANT;PARTSTAT=ACCEPTED;RSVP=TRUE;CN="Roxy Alo
 nzo":http://njyp.org/profile/RoxyAlonzo
ATTENDEE;ROLE=REQ-PARTICIPANT;PARTSTAT=ACCEPTED;RSVP=TRUE;CN="Jeffrey 
 Gates":http://njyp.org/profile/JeffreyGates
ATTENDEE;ROLE=REQ-PARTICIPANT;PARTSTAT=ACCEPTED;RSVP=TRUE;CN="Don Gast
 on":http://njyp.org/profile/DonGaston
ATTENDEE;ROLE=REQ-PARTICIPANT;PARTSTAT=ACCEPTED;RSVP=TRUE;CN=Danielle:
 http://njyp.org/profile/Danielle100
ATTENDEE;ROLE=REQ-PARTICIPANT;PARTSTAT=ACCEPTED;RSVP=TRUE;CN=Dana:http
 ://njyp.org/profile/Dana744
ATTENDEE;ROLE=REQ-PARTICIPANT;PARTSTAT=ACCEPTED;RSVP=TRUE;CN=Chris:htt
 p://njyp.org/profile/Chris394
ATTENDEE;ROLE=REQ-PARTICIPANT;PARTSTAT=ACCEPTED;RSVP=TRUE;CN=Erik:http
 ://njyp.org/profile/Erik516
ATTENDEE;ROLE=REQ-PARTICIPANT;PARTSTAT=ACCEPTED;RSVP=TRUE;CN=Chrissy:h
 ttp://njyp.org/profile/ChristineIrwin
ATTENDEE;ROLE=REQ-PARTICIPANT;PARTSTAT=ACCEPTED;RSVP=TRUE;CN=Amanda:ht
 tp://njyp.org/profile/AmandaMaxwell
ATTENDEE;ROLE=REQ-PARTICIPANT;PARTSTAT=ACCEPTED;RSVP=TRUE;CN=James:htt
 p://njyp.org/profile/JamesShow
ATTENDEE;ROLE=REQ-PARTICIPANT;PARTSTAT=ACCEPTED;RSVP=TRUE;CN=Dana:http
 ://njyp.org/profile/Dana94
ATTENDEE;ROLE=REQ-PARTICIPANT;PARTSTAT=ACCEPTED;RSVP=TRUE;CN="Brian an
 d Mike":http://njyp.org/profile/BrianMike
ATTENDEE;ROLE=REQ-PARTICIPANT;PARTSTAT=TENTATIVE;RSVP=TRUE;CN=Gi:http:
 //njyp.org/profile/Gi
ATTENDEE;ROLE=REQ-PARTICIPANT;PARTSTAT=TENTATIVE;RSVP=TRUE;CN="John Ce
 lock":http://njyp.org/profile/JohnCelock
ATTENDEE;ROLE=REQ-PARTICIPANT;PARTSTAT=TENTATIVE;RSVP=TRUE;CN=Devashis
 :http://njyp.org/profile/Devashis
ATTENDEE;ROLE=REQ-PARTICIPANT;PARTSTAT=TENTATIVE;RSVP=TRUE;CN=Michael:
 http://njyp.org/profile/Michael858
ATTENDEE;ROLE=REQ-PARTICIPANT;PARTSTAT=TENTATIVE;RSVP=TRUE;CN=Shirin:h
 ttp://njyp.org/profile/Shirin
ATTENDEE;ROLE=REQ-PARTICIPANT;PARTSTAT=TENTATIVE;RSVP=TRUE;CN=Edward:h
 ttp://njyp.org/profile/EKotwica
ATTENDEE;ROLE=REQ-PARTICIPANT;PARTSTAT=TENTATIVE;RSVP=TRUE;CN=Robert:h
 ttp://njyp.org/profile/Robert882
ATTENDEE;ROLE=REQ-PARTICIPANT;PARTSTAT=TENTATIVE;RSVP=TRUE;CN=Marisa:h
 ttp://njyp.org/profile/Marisa585
ATTENDEE;ROLE=REQ-PARTICIPANT;PARTSTAT=TENTATIVE;RSVP=TRUE;CN=Chuck:ht
 tp://njyp.org/profile/Chuck948
ATTENDEE;ROLE=REQ-PARTICIPANT;PARTSTAT=TENTATIVE;RSVP=TRUE;CN="Jerry N
 imczyk":http://njyp.org/profile/JerryNimczyk
ATTENDEE;ROLE=REQ-PARTICIPANT;PARTSTAT=TENTATIVE;RSVP=TRUE;CN=Katanni:
 http://njyp.org/profile/Katanni
END:VEVENT
END:VCALENDAR
