BEGIN:VCALENDAR
PRODID:NingEventWidget-v1
VERSION:2.0
METHOD:PUBLISH
BEGIN:VTIMEZONE
TZID:America/New_York
X-LIC-LOCATION:America/New_York
BEGIN:DAYLIGHT
TZOFFSETFROM:-0500
TZOFFSETTO:-0400
TZNAME:EDT
DTSTART:19700308T020000
RRULE:FREQ=YEARLY;BYMONTH=3;BYDAY=2SU
END:DAYLIGHT
BEGIN:STANDARD
TZOFFSETFROM:-0400
TZOFFSETTO:-0500
TZNAME:EST
DTSTART:19701101T020000
RRULE:FREQ=YEARLY;BYMONTH=11;BYDAY=1SU
END:STANDARD
END:VTIMEZONE
BEGIN:VEVENT
UID:2938326:Event:12813
DTSTAMP:20260422T033508Z
SUMMARY:Labor Day Picnic *3rd Annual!
DESCRIPTION:What are you doing on Labor Day? Why not spend the day wit
 h NJYP at our 3rd Annual Labor Day Picnic! Expect tons of fresh food a
 nd cold beers, softball and kickball games, sun, fun, and around 100 y
 oung professionals who are ready to make friends!\n\nHere are the Memo
 rial Day ’09 Pics at the same park, http://www.njyp.org/photo/albums
 /memorial-day-picnic-2009 Over 100 members attend and we played hard a
 ll day long!\n\nPlay:\nPlease bring all of the softball equipment you 
 have because you’ll be sharing.\nKickballs, a wiffle ball set, frisb
 ees, water guns, are also encouraged.\n\nRelax:\nBring blankets, beach
  chairs, music.\nDon’t forget sunblock and sunglasses.\n\nConsume (t
 his is important so please read):\nAt this event everyone is expected 
 to bring something to share! We will set up 3 “shared food and drink
 ” tables. If everyone brings a little it ends up working out great.\
 n* If you like to cook, please please make a dish that is ready to ser
 ve. Think pasta salad, homemade salsa, fruit salad, hummus, brownies, 
 cookies, cake, etc. We will also need burgers, hotdogs, veggie burgers
 , and buns.\n* Don’t like to cook? Bring condiments, charcoal, alumi
 num foil, lighter fluid, ice, napkins, plates, forks, forks, forks, mo
 re plates, soda, water.\n* We bought an alcohol permit so BYOB.\nPleas
 e do NOT bring any type of chips! Yup, do NOT bring chips but we will 
 need dips.\nList what you are going to bring on the event page.\n\nThe
  Environment:\nDo NOT bring the single serve water bottles or soda can
 s.\nInstead please bring water by the gallon and soda by the liter.\nP
 lease bring a reusable water bottle that has your name on it.\nExpect 
 to recycle! We’ll set up a recycling center for glass, plastic, alum
 inum, etc.\n\n\nRSVP (to the right) and we will let you know when tix 
 are almost gone, when prices are going up, if there are any changes, e
 tc.\n\nMember Cost:\n$5 for the first 25 to register\n$10 for the next
  26 to 60 to register\n$15 for the next 61 to 125 to register\n$20 for
  walk-ins\n\nNon-Member Cost:\n$20 online and at the door\n\nAll sales
  are final.\nPlease do NOT print your tickets, your name will be at th
 e door.\n\nAbout Loantaka Park:\nCharcoal grills will be available (BY
 O charcoal and tin foil and cleaners).\n2 electrical outlets will be a
 vailable.\nWe will have a small shaded shelter area where we will most
 ly keep all of the food and supplies. There will be MANY picnic tables
  for us to share right outside of the shelter.\nLeashed pets are welco
 me (yes, they must wear a leash so we don't get fined).\nPICTURES of t
 he South Street Recreational Area and here is some more information on
  the park itself.\n\nRain:\nHeavy/consistent rain will cancel this eve
 nt and tickets will be refunded.\n\nDirections:\nUsing Google Maps, lo
 ok up this address 480 South St, Morristown, NJ 07960.\nOr use the par
 k map and look for the South Street Recreational Area. If the lot is f
 ull you will have to find another lot and walk over. Perhaps print the
  map out so you can navigate around the park and please try to carpool
 .\nDo not park illegally or they will tow your car.\n\nFor more inform
 ation visit http://njyp.org/events/labor-day-picnic-3rd-annual
DTSTART;TZID=America/New_York:20090907T110000
DTEND;TZID=America/New_York:20090907T190000
CATEGORIES:"morris county", athletic, social
LOCATION:Loantaka Park- South Street Rec Area
WEBSITE:http://njyperks.com/Loantaka-Map.gif
URL:http://njyperks.com/Loantaka-Map.gif
CONTACT:
ORGANIZER;CN="Brian and Mike":http://njyp.org/profile/BrianMike
ATTACH;FMTTYPE="image/jpeg":http://storage.ning.com/topology/rest/1.0/
 file/get/1088546562?profile=original
ATTENDEE;ROLE=REQ-PARTICIPANT;PARTSTAT=ACCEPTED;RSVP=TRUE;CN=Anthony:h
 ttp://njyp.org/profile/Anthony
ATTENDEE;ROLE=REQ-PARTICIPANT;PARTSTAT=ACCEPTED;RSVP=TRUE;CN=Dharm:htt
 p://njyp.org/profile/DharmeshMistry
ATTENDEE;ROLE=REQ-PARTICIPANT;PARTSTAT=ACCEPTED;RSVP=TRUE;CN="Nikitas 
 M":http://njyp.org/profile/NikitasM
ATTENDEE;ROLE=REQ-PARTICIPANT;PARTSTAT=ACCEPTED;RSVP=TRUE;CN="Christop
 her Hennessey":http://njyp.org/profile/ChristopherHennessey
ATTENDEE;ROLE=REQ-PARTICIPANT;PARTSTAT=ACCEPTED;RSVP=TRUE;CN=Janiqua:h
 ttp://njyp.org/profile/Janiqua
ATTENDEE;ROLE=REQ-PARTICIPANT;PARTSTAT=ACCEPTED;RSVP=TRUE;CN="Katica P
 oto":http://njyp.org/profile/KaticaPoto
ATTENDEE;ROLE=REQ-PARTICIPANT;PARTSTAT=ACCEPTED;RSVP=TRUE;CN=Christine
 :http://njyp.org/profile/Christine429
ATTENDEE;ROLE=REQ-PARTICIPANT;PARTSTAT=ACCEPTED;RSVP=TRUE;CN=Susan:htt
 p://njyp.org/profile/SusanChrusciel
ATTENDEE;ROLE=REQ-PARTICIPANT;PARTSTAT=ACCEPTED;RSVP=TRUE;CN=Jen:http:
 //njyp.org/profile/JenniferGursky
ATTENDEE;ROLE=REQ-PARTICIPANT;PARTSTAT=ACCEPTED;RSVP=TRUE;CN="Maria T.
  Cruz":http://njyp.org/profile/MariaTCruz
ATTENDEE;ROLE=REQ-PARTICIPANT;PARTSTAT=ACCEPTED;RSVP=TRUE;CN="Elizabet
 h Epstein":http://njyp.org/profile/ElizabethRosenthal
ATTENDEE;ROLE=REQ-PARTICIPANT;PARTSTAT=ACCEPTED;RSVP=TRUE;CN=Paul:http
 ://njyp.org/profile/Paul
ATTENDEE;ROLE=REQ-PARTICIPANT;PARTSTAT=ACCEPTED;RSVP=TRUE;CN=Jillian:h
 ttp://njyp.org/profile/Jillian
ATTENDEE;ROLE=REQ-PARTICIPANT;PARTSTAT=ACCEPTED;RSVP=TRUE;CN="Kristen 
 Ann":http://njyp.org/profile/KristenAnn
ATTENDEE;ROLE=REQ-PARTICIPANT;PARTSTAT=ACCEPTED;RSVP=TRUE;CN=Simon:htt
 p://njyp.org/profile/Simon
ATTENDEE;ROLE=REQ-PARTICIPANT;PARTSTAT=ACCEPTED;RSVP=TRUE;CN="Kristin 
 Kopec":http://njyp.org/profile/KristinKopec
ATTENDEE;ROLE=REQ-PARTICIPANT;PARTSTAT=ACCEPTED;RSVP=TRUE;CN="Joanna V
 ogel":http://njyp.org/profile/JoannaVogel
ATTENDEE;ROLE=REQ-PARTICIPANT;PARTSTAT=ACCEPTED;RSVP=TRUE;CN="Olivia M
 orgado":http://njyp.org/profile/OliviaMorgado
ATTENDEE;ROLE=REQ-PARTICIPANT;PARTSTAT=ACCEPTED;RSVP=TRUE;CN="Adrienne
  A. Desch":http://njyp.org/profile/AdrienneADesch
ATTENDEE;ROLE=REQ-PARTICIPANT;PARTSTAT=ACCEPTED;RSVP=TRUE;CN="Brian Ep
 stein":http://njyp.org/profile/BrianEpstein
ATTENDEE;ROLE=REQ-PARTICIPANT;PARTSTAT=ACCEPTED;RSVP=TRUE;CN="Louis C.
  Hochman":http://njyp.org/profile/LouisCHochman
ATTENDEE;ROLE=REQ-PARTICIPANT;PARTSTAT=ACCEPTED;RSVP=TRUE;CN="Peter Es
 kow":http://njyp.org/profile/PeterEskow
ATTENDEE;ROLE=REQ-PARTICIPANT;PARTSTAT=ACCEPTED;RSVP=TRUE;CN="tim vinn
 al":http://njyp.org/profile/timvinnal631
ATTENDEE;ROLE=REQ-PARTICIPANT;PARTSTAT=ACCEPTED;RSVP=TRUE;CN="Dan Hoff
 man":http://njyp.org/profile/DanHoffman
ATTENDEE;ROLE=REQ-PARTICIPANT;PARTSTAT=ACCEPTED;RSVP=TRUE;CN="Ed H":ht
 tp://njyp.org/profile/EdH
ATTENDEE;ROLE=REQ-PARTICIPANT;PARTSTAT=ACCEPTED;RSVP=TRUE;CN=Antonella
 :http://njyp.org/profile/Antonella
ATTENDEE;ROLE=REQ-PARTICIPANT;PARTSTAT=ACCEPTED;RSVP=TRUE;CN="Michael 
 Camerlengo":http://njyp.org/profile/MichaelCamerlengo
ATTENDEE;ROLE=REQ-PARTICIPANT;PARTSTAT=ACCEPTED;RSVP=TRUE;CN="Anthony 
 Sciortino":http://njyp.org/profile/AnthonySciortino
ATTENDEE;ROLE=REQ-PARTICIPANT;PARTSTAT=ACCEPTED;RSVP=TRUE;CN="Derek Br
 and":http://njyp.org/profile/DerekBrand
ATTENDEE;ROLE=REQ-PARTICIPANT;PARTSTAT=ACCEPTED;RSVP=TRUE;CN="NIcole V
 innal":http://njyp.org/profile/NIcoleVinnal
ATTENDEE;ROLE=REQ-PARTICIPANT;PARTSTAT=ACCEPTED;RSVP=TRUE;CN="Kevin Ha
 ughwout":http://njyp.org/profile/KevinHaughwout
ATTENDEE;ROLE=REQ-PARTICIPANT;PARTSTAT=ACCEPTED;RSVP=TRUE;CN="Karen S.
 ":http://njyp.org/profile/KarenS
ATTENDEE;ROLE=REQ-PARTICIPANT;PARTSTAT=ACCEPTED;RSVP=TRUE;CN=d:http://
 njyp.org/profile/d
ATTENDEE;ROLE=REQ-PARTICIPANT;PARTSTAT=ACCEPTED;RSVP=TRUE;CN=Michele:h
 ttp://njyp.org/profile/MicheleEsposito
ATTENDEE;ROLE=REQ-PARTICIPANT;PARTSTAT=ACCEPTED;RSVP=TRUE;CN="Janet St
 evens":http://njyp.org/profile/JanetStevens
ATTENDEE;ROLE=REQ-PARTICIPANT;PARTSTAT=ACCEPTED;RSVP=TRUE;CN="Joshua C
 hermak":http://njyp.org/profile/JoshuaChermak
ATTENDEE;ROLE=REQ-PARTICIPANT;PARTSTAT=ACCEPTED;RSVP=TRUE;CN="Dennis L
 ee":http://njyp.org/profile/leeden
ATTENDEE;ROLE=REQ-PARTICIPANT;PARTSTAT=ACCEPTED;RSVP=TRUE;CN="Denise O
 liveri":http://njyp.org/profile/DeniseOliveri
ATTENDEE;ROLE=REQ-PARTICIPANT;PARTSTAT=ACCEPTED;RSVP=TRUE;CN=Lena:http
 ://njyp.org/profile/Lena
ATTENDEE;ROLE=REQ-PARTICIPANT;PARTSTAT=ACCEPTED;RSVP=TRUE;CN=Charity:h
 ttp://njyp.org/profile/CharityLynnFues
ATTENDEE;ROLE=REQ-PARTICIPANT;PARTSTAT=ACCEPTED;RSVP=TRUE;CN=Lizzie:ht
 tp://njyp.org/profile/ElizabethKuhns
ATTENDEE;ROLE=REQ-PARTICIPANT;PARTSTAT=ACCEPTED;RSVP=TRUE;CN="Olga Ch"
 :http://njyp.org/profile/OlgaChaban
ATTENDEE;ROLE=REQ-PARTICIPANT;PARTSTAT=ACCEPTED;RSVP=TRUE;CN=Amari:htt
 p://njyp.org/profile/AmariVerastegui
ATTENDEE;ROLE=REQ-PARTICIPANT;PARTSTAT=ACCEPTED;RSVP=TRUE;CN="Heidi Ko
 lb":http://njyp.org/profile/HeidiKolb
ATTENDEE;ROLE=REQ-PARTICIPANT;PARTSTAT=ACCEPTED;RSVP=TRUE;CN="Kevin J.
  Plunkett":http://njyp.org/profile/KevinJPlunkett
ATTENDEE;ROLE=REQ-PARTICIPANT;PARTSTAT=ACCEPTED;RSVP=TRUE;CN="Laura La
 briola":http://njyp.org/profile/LauraLabriola
ATTENDEE;ROLE=REQ-PARTICIPANT;PARTSTAT=ACCEPTED;RSVP=TRUE;CN=Annemarie
 :http://njyp.org/profile/Annemarie
ATTENDEE;ROLE=REQ-PARTICIPANT;PARTSTAT=ACCEPTED;RSVP=TRUE;CN="Joao-Pie
 rre Ruth":http://njyp.org/profile/JoaoPierreRuth
ATTENDEE;ROLE=REQ-PARTICIPANT;PARTSTAT=ACCEPTED;RSVP=TRUE;CN="Hermelin
 da Saez":http://njyp.org/profile/HermelindaSaez
ATTENDEE;ROLE=REQ-PARTICIPANT;PARTSTAT=ACCEPTED;RSVP=TRUE;CN=Patricia:
 http://njyp.org/profile/TrishaOSha
ATTENDEE;ROLE=REQ-PARTICIPANT;PARTSTAT=TENTATIVE;RSVP=TRUE;CN=Rob:http
 ://njyp.org/profile/RobertSens
ATTENDEE;ROLE=REQ-PARTICIPANT;PARTSTAT=TENTATIVE;RSVP=TRUE;CN="Craig W
 all":http://njyp.org/profile/CraigWall
ATTENDEE;ROLE=REQ-PARTICIPANT;PARTSTAT=TENTATIVE;RSVP=TRUE;CN="Steve F
 euss":http://njyp.org/profile/SteveFeuss
ATTENDEE;ROLE=REQ-PARTICIPANT;PARTSTAT=TENTATIVE;RSVP=TRUE;CN="Nicole 
 Fulmino":http://njyp.org/profile/NicoleFulmino
ATTENDEE;ROLE=REQ-PARTICIPANT;PARTSTAT=TENTATIVE;RSVP=TRUE;CN="Heather
  C":http://njyp.org/profile/HeatherComero
ATTENDEE;ROLE=REQ-PARTICIPANT;PARTSTAT=TENTATIVE;RSVP=TRUE;CN=Heather:
 http://njyp.org/profile/Heather
ATTENDEE;ROLE=REQ-PARTICIPANT;PARTSTAT=TENTATIVE;RSVP=TRUE;CN="Lillian
  T.":http://njyp.org/profile/LillianT
ATTENDEE;ROLE=REQ-PARTICIPANT;PARTSTAT=TENTATIVE;RSVP=TRUE;CN="Christi
 ne Berry":http://njyp.org/profile/ChristineBerry
ATTENDEE;ROLE=REQ-PARTICIPANT;PARTSTAT=TENTATIVE;RSVP=TRUE;CN="Karl  A
  Kraus":http://njyp.org/profile/KarlAKraus
ATTENDEE;ROLE=REQ-PARTICIPANT;PARTSTAT=TENTATIVE;RSVP=TRUE;CN=Tara:htt
 p://njyp.org/profile/TaraMorey
ATTENDEE;ROLE=REQ-PARTICIPANT;PARTSTAT=TENTATIVE;RSVP=TRUE;CN="Andrew 
 Vasta":http://njyp.org/profile/AndrewVasta
ATTENDEE;ROLE=REQ-PARTICIPANT;PARTSTAT=TENTATIVE;RSVP=TRUE;CN=Olivia:h
 ttp://njyp.org/profile/Olivia
ATTENDEE;ROLE=REQ-PARTICIPANT;PARTSTAT=TENTATIVE;RSVP=TRUE;CN=Katherin
 e:http://njyp.org/profile/Katherine
ATTENDEE;ROLE=REQ-PARTICIPANT;PARTSTAT=TENTATIVE;RSVP=TRUE;CN=Will:htt
 p://njyp.org/profile/William
ATTENDEE;ROLE=REQ-PARTICIPANT;PARTSTAT=TENTATIVE;RSVP=TRUE;CN="Doug Be
 man":http://njyp.org/profile/DougBeman
ATTENDEE;ROLE=REQ-PARTICIPANT;PARTSTAT=TENTATIVE;RSVP=TRUE;CN="Brian K
 insey":http://njyp.org/profile/BrianKinsey
ATTENDEE;ROLE=REQ-PARTICIPANT;PARTSTAT=TENTATIVE;RSVP=TRUE;CN="Jason W
 . Fuchs":http://njyp.org/profile/JasonWFuchs
ATTENDEE;ROLE=REQ-PARTICIPANT;PARTSTAT=TENTATIVE;RSVP=TRUE;CN=Deborah:
 http://njyp.org/profile/Deborah
ATTENDEE;ROLE=REQ-PARTICIPANT;PARTSTAT=TENTATIVE;RSVP=TRUE;CN="Nick Wo
 ng":http://njyp.org/profile/NickWong
ATTENDEE;ROLE=REQ-PARTICIPANT;PARTSTAT=TENTATIVE;RSVP=TRUE;CN="Rhandi 
 L":http://njyp.org/profile/RhandiL
ATTENDEE;ROLE=REQ-PARTICIPANT;PARTSTAT=TENTATIVE;RSVP=TRUE;CN=Karen:ht
 tp://njyp.org/profile/Karen
ATTENDEE;ROLE=REQ-PARTICIPANT;PARTSTAT=TENTATIVE;RSVP=TRUE;CN=Kelley:h
 ttp://njyp.org/profile/KelleyBoyle
ATTENDEE;ROLE=REQ-PARTICIPANT;PARTSTAT=TENTATIVE;RSVP=TRUE;CN="Lisa F"
 :http://njyp.org/profile/LisaF
ATTENDEE;ROLE=REQ-PARTICIPANT;PARTSTAT=TENTATIVE;RSVP=TRUE;CN="Steven 
 Holtzman":http://njyp.org/profile/StevenHoltzman
ATTENDEE;ROLE=REQ-PARTICIPANT;PARTSTAT=TENTATIVE;RSVP=TRUE;CN="A D Y":
 http://njyp.org/profile/ADY
END:VEVENT
END:VCALENDAR
