BEGIN:VCALENDAR
PRODID:NingEventWidget-v1
VERSION:2.0
METHOD:PUBLISH
BEGIN:VTIMEZONE
TZID:America/New_York
X-LIC-LOCATION:America/New_York
BEGIN:DAYLIGHT
TZOFFSETFROM:-0500
TZOFFSETTO:-0400
TZNAME:EDT
DTSTART:19700308T020000
RRULE:FREQ=YEARLY;BYMONTH=3;BYDAY=2SU
END:DAYLIGHT
BEGIN:STANDARD
TZOFFSETFROM:-0400
TZOFFSETTO:-0500
TZNAME:EST
DTSTART:19701101T020000
RRULE:FREQ=YEARLY;BYMONTH=11;BYDAY=1SU
END:STANDARD
END:VTIMEZONE
BEGIN:VEVENT
UID:2938326:Event:288115
DTSTAMP:20260422T064619Z
SUMMARY:Lang Lang
DESCRIPTION:Keyboard superstar Lang Lang comes to NJPAC’s Prudential
  Hall with a new solo recital that includes Bach’s Partita No. 1 in 
 B-flat, Chopin’s Twelve Études, Op. 25, and Schubert’s Sonata in 
 B-flat, often referred to as “the pianist’s Hamlet.”\nOne hour p
 rior to the performance, ticket holders are invited to a free Bank of 
 America Classical Overture— an enlightening, pre-performance discuss
 ion about the evening’s program, hosted by George Marriner Maull, mu
 sic director and conductor of The Discovery Orchestra. \nCost:\n$45 fo
 r NJYPers and their guests.\nYou will be seated in the best available 
 seats in price sections P2 and P3. \n\nOrdering Tickets:\nChoose your 
 seats online and, at the “Checkout” page, enter the password LangN
 JYP45 in the “Enter Promotion Code” box, then click on “Apply Pr
 omo” to receive your discount. \nYou can also order via phone at 1.8
 88.GO.NJPAC or at the NJPAC Box Office and mention code LangNJYP45.\n\
 nDirections:\nhttp://www.njpac.org/joomla/index.php?option=com_content
 &view=article&id=46&Itemid=57\n \n\n\n\nFor more information visit ht
 tp://njyp.org/events/lang-lang
DTSTART;TZID=America/New_York:20111028T200000
DTEND;TZID=America/New_York:20111028T220000
CATEGORIES:"essex county", social, arts
LOCATION:NJPAC
WEBSITE:http://njpac.org/show_events_list.asp?shCode=15713
URL:http://njpac.org/show_events_list.asp?shCode=15713
CONTACT:
ORGANIZER;CN="Brian and Mike":http://njyp.org/profile/BrianMike
ATTACH;FMTTYPE="image/jpeg":http://storage.ning.com/topology/rest/1.0/
 file/get/1088720644?profile=original
ATTENDEE;ROLE=REQ-PARTICIPANT;PARTSTAT=ACCEPTED;RSVP=TRUE;CN=Timo:http
 ://njyp.org/profile/Timo
ATTENDEE;ROLE=REQ-PARTICIPANT;PARTSTAT=ACCEPTED;RSVP=TRUE;CN="Brian an
 d Mike":http://njyp.org/profile/BrianMike
END:VEVENT
END:VCALENDAR
