BEGIN:VCALENDAR
PRODID:NingEventWidget-v1
VERSION:2.0
METHOD:PUBLISH
BEGIN:VTIMEZONE
TZID:America/New_York
X-LIC-LOCATION:America/New_York
BEGIN:DAYLIGHT
TZOFFSETFROM:-0500
TZOFFSETTO:-0400
TZNAME:EDT
DTSTART:19700308T020000
RRULE:FREQ=YEARLY;BYMONTH=3;BYDAY=2SU
END:DAYLIGHT
BEGIN:STANDARD
TZOFFSETFROM:-0400
TZOFFSETTO:-0500
TZNAME:EST
DTSTART:19701101T020000
RRULE:FREQ=YEARLY;BYMONTH=11;BYDAY=1SU
END:STANDARD
END:VTIMEZONE
BEGIN:VEVENT
UID:2938326:Event:579653
DTSTAMP:20260420T053825Z
SUMMARY:Lawrenceville Happy Hour
DESCRIPTION:Your local Happy Hour is back on the calendar and this tim
 e we are at Amalfi's in Lawrenceville. Join other Young Professionals 
 at this mix & mingle event. As always, there is no cover, plus there w
 ill be great specials to keep the drinks and the laughter flowing. Whe
 ther this is your first event or your fiftieth, you will find yourself
  surrounded by friendly faces and future friends.  Who should attend:T
 his Happy Hour is for dues paying Members only,http://www.njyp.org/pag
 e/pay-dues If you wish to bring a guest please have them join NJYP fi
 rst.  What to expect: Our Happy Hours are very casual. There are no si
 gn-in tables, no name tags, and no ice breakers. Expect people to walk
  up to you to introduce themselves and feel free to walk up to others 
 who you do not know. Newbies are at EVERY NJYP event so if this is you
 r first, you won't be alone.  Specials Until 7pm: $6 martinis, $5 appe
 tizer, $5 wine, $2 off domestic beers\n Finding the Group: Meet us in 
 the bar area or ask staff for NJYP.  Directions: http://www.amalfis.co
 m/\n\nFor more information visit http://njyp.org/events/lawrenceville-
 happy-hour-2
DTSTART;TZID=America/New_York:20140724T180000
DTEND;TZID=America/New_York:20140724T200000
CATEGORIES:"mercer county", social, members
LOCATION:Amalfi's Restaurant and Bar
WEBSITE:http://www.amalfis.com/
URL:http://www.amalfis.com/
CONTACT:
ORGANIZER;CN="Brian and Mike":http://njyp.org/profile/BrianMike
ATTACH;FMTTYPE="image/jpeg":http://storage.ning.com/topology/rest/1.0/
 file/get/1088687153?profile=original
ATTENDEE;ROLE=REQ-PARTICIPANT;PARTSTAT=ACCEPTED;RSVP=TRUE;CN=Jennifer:
 http://njyp.org/profile/Jennifer335
ATTENDEE;ROLE=REQ-PARTICIPANT;PARTSTAT=ACCEPTED;RSVP=TRUE;CN=Jarod:htt
 p://njyp.org/profile/Jarod
ATTENDEE;ROLE=REQ-PARTICIPANT;PARTSTAT=ACCEPTED;RSVP=TRUE;CN="Evan Lev
 itt":http://njyp.org/profile/EvanLevitt
ATTENDEE;ROLE=REQ-PARTICIPANT;PARTSTAT=ACCEPTED;RSVP=TRUE;CN=Bobby:htt
 p://njyp.org/profile/Bobby942
ATTENDEE;ROLE=REQ-PARTICIPANT;PARTSTAT=ACCEPTED;RSVP=TRUE;CN=Keith:htt
 p://njyp.org/profile/Keith87
ATTENDEE;ROLE=REQ-PARTICIPANT;PARTSTAT=ACCEPTED;RSVP=TRUE;CN=Diane:htt
 p://njyp.org/profile/Diane848
ATTENDEE;ROLE=REQ-PARTICIPANT;PARTSTAT=ACCEPTED;RSVP=TRUE;CN=Tiffani:h
 ttp://njyp.org/profile/Tiffani
ATTENDEE;ROLE=REQ-PARTICIPANT;PARTSTAT=ACCEPTED;RSVP=TRUE;CN=Kelly:htt
 p://njyp.org/profile/Kelly781
ATTENDEE;ROLE=REQ-PARTICIPANT;PARTSTAT=ACCEPTED;RSVP=TRUE;CN=Brian:htt
 p://njyp.org/profile/Brian246
ATTENDEE;ROLE=REQ-PARTICIPANT;PARTSTAT=ACCEPTED;RSVP=TRUE;CN=Anagha:ht
 tp://njyp.org/profile/Anagha
ATTENDEE;ROLE=REQ-PARTICIPANT;PARTSTAT=ACCEPTED;RSVP=TRUE;CN=Stacy:htt
 p://njyp.org/profile/Stacy413
ATTENDEE;ROLE=REQ-PARTICIPANT;PARTSTAT=ACCEPTED;RSVP=TRUE;CN=Hope:http
 ://njyp.org/profile/Hope353
ATTENDEE;ROLE=REQ-PARTICIPANT;PARTSTAT=ACCEPTED;RSVP=TRUE;CN=Jeannette
 :http://njyp.org/profile/Jeannette
ATTENDEE;ROLE=REQ-PARTICIPANT;PARTSTAT=ACCEPTED;RSVP=TRUE;CN=Chris:htt
 p://njyp.org/profile/Chris394
ATTENDEE;ROLE=REQ-PARTICIPANT;PARTSTAT=ACCEPTED;RSVP=TRUE;CN="Lorraine
  Weitz":http://njyp.org/profile/LorraineWeitz
ATTENDEE;ROLE=REQ-PARTICIPANT;PARTSTAT=ACCEPTED;RSVP=TRUE;CN=Jennifer:
 http://njyp.org/profile/Jennifer551
ATTENDEE;ROLE=REQ-PARTICIPANT;PARTSTAT=ACCEPTED;RSVP=TRUE;CN="Brian an
 d Mike":http://njyp.org/profile/BrianMike
ATTENDEE;ROLE=REQ-PARTICIPANT;PARTSTAT=TENTATIVE;RSVP=TRUE;CN=Graham:h
 ttp://njyp.org/profile/Graham
ATTENDEE;ROLE=REQ-PARTICIPANT;PARTSTAT=TENTATIVE;RSVP=TRUE;CN=Joe:http
 ://njyp.org/profile/Joe245
ATTENDEE;ROLE=REQ-PARTICIPANT;PARTSTAT=TENTATIVE;RSVP=TRUE;CN=Nicole:h
 ttp://njyp.org/profile/Nicole267
ATTENDEE;ROLE=REQ-PARTICIPANT;PARTSTAT=TENTATIVE;RSVP=TRUE;CN=Chisoo:h
 ttp://njyp.org/profile/Chisoo
ATTENDEE;ROLE=REQ-PARTICIPANT;PARTSTAT=TENTATIVE;RSVP=TRUE;CN=Tiffany:
 http://njyp.org/profile/Tiffany579
ATTENDEE;ROLE=REQ-PARTICIPANT;PARTSTAT=TENTATIVE;RSVP=TRUE;CN=Viktoria
 :http://njyp.org/profile/Viktoria
ATTENDEE;ROLE=REQ-PARTICIPANT;PARTSTAT=TENTATIVE;RSVP=TRUE;CN="Thomas 
 Little":http://njyp.org/profile/ThomasLittle
ATTENDEE;ROLE=REQ-PARTICIPANT;PARTSTAT=TENTATIVE;RSVP=TRUE;CN=Tony:htt
 p://njyp.org/profile/Tony609
ATTENDEE;ROLE=REQ-PARTICIPANT;PARTSTAT=TENTATIVE;RSVP=TRUE;CN=Olga:htt
 p://njyp.org/profile/Olga34
ATTENDEE;ROLE=REQ-PARTICIPANT;PARTSTAT=TENTATIVE;RSVP=TRUE;CN=Katie:ht
 tp://njyp.org/profile/Katie168
ATTENDEE;ROLE=REQ-PARTICIPANT;PARTSTAT=TENTATIVE;RSVP=TRUE;CN=Katie:ht
 tp://njyp.org/profile/Katie192
END:VEVENT
END:VCALENDAR
