BEGIN:VCALENDAR
PRODID:NingEventWidget-v1
VERSION:2.0
METHOD:PUBLISH
BEGIN:VTIMEZONE
TZID:America/New_York
X-LIC-LOCATION:America/New_York
BEGIN:DAYLIGHT
TZOFFSETFROM:-0500
TZOFFSETTO:-0400
TZNAME:EDT
DTSTART:19700308T020000
RRULE:FREQ=YEARLY;BYMONTH=3;BYDAY=2SU
END:DAYLIGHT
BEGIN:STANDARD
TZOFFSETFROM:-0400
TZOFFSETTO:-0500
TZNAME:EST
DTSTART:19701101T020000
RRULE:FREQ=YEARLY;BYMONTH=11;BYDAY=1SU
END:STANDARD
END:VTIMEZONE
BEGIN:VEVENT
UID:2938326:Event:34801
DTSTAMP:20260420T203838Z
SUMMARY:Links and Drinks: A Networking Event
DESCRIPTION:Are you ready to expand your network of contacts? Are you 
 looking for a new job? Then join us for an evening of \"Links and Drin
 ks\" where you will meet a variety of career oriented professionals. C
 ome on out after work to trade business cards, trade ideas, or trade c
 ontacts, all while in a fun and friendly environment. Music will be do
 wn and lights will be up.\n\nAdded Value:\nWalk away with a list of th
 ose who attended. Everyone will receive an information sheet that will
  the first name, job title, company, and email address of those who pr
 e-register.\n\nWho Should Attend:\nThis event is open to ALL ages and 
 will be advertised on various NJ Networking boards.\n\nBusiness Cards:
 \nPlease bring 20-50 business cards if possible.\n\nCOST INCLUDES 2 Dr
 inks (beer, wine, soda) AND Light Appetizers.\n\nNJYP or NJP Member Co
 st:\n$15 for the first 15 to register\n$20 for the next 16 to 35 to re
 gister\n$25 for the next 36 to 50 to register\n$30 for walk-ins\n\nNon
 -Member Cost:\n$30 online and at the door\n\n\n\nTickets:\nThere are a
  limited number of Tickets for sale.\nTickets are not mailed, but your
  name will be kept at the door.\nAll sales are final.\n\nHosts:\nLaura
  and Rachel O will be hosting this event.\n\nDress Code:\nNo sneakers,
  t-shirts, or athletic gear.\n\nDirections/Parking:\nhttp://www.korman
 communities.com/ave/locations/union/maps.aspx\nWe will be meeting in a
  private room in The AVE apartment building. The AVE is located at the
  Union County Train Station. Please park in this lot AFTER you read th
 e signs to confirm it is ok.\n\nHow to find the group:\nWe will be mee
 ting in the “café”. Ask at the reception desk.\n\n\n\nFor more in
 formation visit http://njyp.org/events/links-and-drinks-a-networking-1
DTSTART;TZID=America/New_York:20100126T183000
DTEND;TZID=America/New_York:20100126T203000
CATEGORIES:"union county", networking
LOCATION:The AVE
WEBSITE:http://www.kormancommunities.com/ave/locations/union/maps.aspx
URL:http://www.kormancommunities.com/ave/locations/union/maps.aspx
CONTACT:
ORGANIZER;CN="Brian and Mike":http://njyp.org/profile/BrianMike
ATTACH;FMTTYPE="image/jpeg":http://storage.ning.com/topology/rest/1.0/
 file/get/1088584265?profile=original
ATTENDEE;ROLE=REQ-PARTICIPANT;PARTSTAT=ACCEPTED;RSVP=TRUE;CN="paul sza
 bo":http://njyp.org/profile/paulszabo
ATTENDEE;ROLE=REQ-PARTICIPANT;PARTSTAT=ACCEPTED;RSVP=TRUE;CN=Anne-Mari
 e:http://njyp.org/profile/AnneMarieSanocki
ATTENDEE;ROLE=REQ-PARTICIPANT;PARTSTAT=ACCEPTED;RSVP=TRUE;CN="Ashley E
  Melancon":http://njyp.org/profile/AshleyEMelancon
ATTENDEE;ROLE=REQ-PARTICIPANT;PARTSTAT=ACCEPTED;RSVP=TRUE;CN=Sheena:ht
 tp://njyp.org/profile/NaSheenaPorter
ATTENDEE;ROLE=REQ-PARTICIPANT;PARTSTAT=ACCEPTED;RSVP=TRUE;CN="Kanika S
 ingleton":http://njyp.org/profile/KanikaSingleton
ATTENDEE;ROLE=REQ-PARTICIPANT;PARTSTAT=ACCEPTED;RSVP=TRUE;CN="Ryan Zie
 ja":http://njyp.org/profile/RyanZieja
ATTENDEE;ROLE=REQ-PARTICIPANT;PARTSTAT=ACCEPTED;RSVP=TRUE;CN="rachel i
 rene":http://njyp.org/profile/rachel_irene
ATTENDEE;ROLE=REQ-PARTICIPANT;PARTSTAT=ACCEPTED;RSVP=TRUE;CN=Marcelo:h
 ttp://njyp.org/profile/EzraS
ATTENDEE;ROLE=REQ-PARTICIPANT;PARTSTAT=ACCEPTED;RSVP=TRUE;CN=Elizabeth
 :http://njyp.org/profile/ElizabethWilliams
ATTENDEE;ROLE=REQ-PARTICIPANT;PARTSTAT=ACCEPTED;RSVP=TRUE;CN="John Ane
 llo":http://njyp.org/profile/JohnAnello
ATTENDEE;ROLE=REQ-PARTICIPANT;PARTSTAT=ACCEPTED;RSVP=TRUE;CN="Natalia 
 Shishkin":http://njyp.org/profile/NataliaShishkin
ATTENDEE;ROLE=REQ-PARTICIPANT;PARTSTAT=ACCEPTED;RSVP=TRUE;CN="Heather 
 O'Brien":http://njyp.org/profile/HeatherOBrien
ATTENDEE;ROLE=REQ-PARTICIPANT;PARTSTAT=ACCEPTED;RSVP=TRUE;CN="Nicole F
 ulmino":http://njyp.org/profile/NicoleFulmino
ATTENDEE;ROLE=REQ-PARTICIPANT;PARTSTAT=ACCEPTED;RSVP=TRUE;CN="Michael 
 Park":http://njyp.org/profile/MichaelPark
ATTENDEE;ROLE=REQ-PARTICIPANT;PARTSTAT=ACCEPTED;RSVP=TRUE;CN="Dana Koz
 ubikova":http://njyp.org/profile/DanaKozubikova
ATTENDEE;ROLE=REQ-PARTICIPANT;PARTSTAT=ACCEPTED;RSVP=TRUE;CN=Janel:htt
 p://njyp.org/profile/JanelCraine
ATTENDEE;ROLE=REQ-PARTICIPANT;PARTSTAT=ACCEPTED;RSVP=TRUE;CN="Amy A.":
 http://njyp.org/profile/AmyAnnette
ATTENDEE;ROLE=REQ-PARTICIPANT;PARTSTAT=ACCEPTED;RSVP=TRUE;CN=Kendell:h
 ttp://njyp.org/profile/Kendell
ATTENDEE;ROLE=REQ-PARTICIPANT;PARTSTAT=ACCEPTED;RSVP=TRUE;CN="Marina S
 vorinic":http://njyp.org/profile/MarinaSvorinic
ATTENDEE;ROLE=REQ-PARTICIPANT;PARTSTAT=ACCEPTED;RSVP=TRUE;CN="Rachel O
 !":http://njyp.org/profile/RachelOrtiga
ATTENDEE;ROLE=REQ-PARTICIPANT;PARTSTAT=ACCEPTED;RSVP=TRUE;CN="Carrie N
 .":http://njyp.org/profile/CarrieNeigel
ATTENDEE;ROLE=REQ-PARTICIPANT;PARTSTAT=ACCEPTED;RSVP=TRUE;CN="Brian an
 d Mike":http://njyp.org/profile/BrianMike
ATTENDEE;ROLE=REQ-PARTICIPANT;PARTSTAT=TENTATIVE;RSVP=TRUE;CN="Cindy Z
 akrzewski":http://njyp.org/profile/CindyZakrzewski
ATTENDEE;ROLE=REQ-PARTICIPANT;PARTSTAT=TENTATIVE;RSVP=TRUE;CN="Michael
  Roselle":http://njyp.org/profile/MichaelRoselle
ATTENDEE;ROLE=REQ-PARTICIPANT;PARTSTAT=TENTATIVE;RSVP=TRUE;CN=Perry:ht
 tp://njyp.org/profile/Perry
ATTENDEE;ROLE=REQ-PARTICIPANT;PARTSTAT=TENTATIVE;RSVP=TRUE;CN="Tina Ko
 zak":http://njyp.org/profile/TinaKozak
ATTENDEE;ROLE=REQ-PARTICIPANT;PARTSTAT=TENTATIVE;RSVP=TRUE;CN=David:ht
 tp://njyp.org/profile/DavidKuhn
ATTENDEE;ROLE=REQ-PARTICIPANT;PARTSTAT=TENTATIVE;RSVP=TRUE;CN="Ayana C
 .":http://njyp.org/profile/AyanaCJoseph
ATTENDEE;ROLE=REQ-PARTICIPANT;PARTSTAT=TENTATIVE;RSVP=TRUE;CN="Tiffany
  Hanke":http://njyp.org/profile/TiffanyHanke
ATTENDEE;ROLE=REQ-PARTICIPANT;PARTSTAT=TENTATIVE;RSVP=TRUE;CN=MaryAnn:
 http://njyp.org/profile/MaryAnn
ATTENDEE;ROLE=REQ-PARTICIPANT;PARTSTAT=TENTATIVE;RSVP=TRUE;CN=Despina:
 http://njyp.org/profile/DespinaDoumanis
ATTENDEE;ROLE=REQ-PARTICIPANT;PARTSTAT=TENTATIVE;RSVP=TRUE;CN="A D Y":
 http://njyp.org/profile/ADY
ATTENDEE;ROLE=REQ-PARTICIPANT;PARTSTAT=TENTATIVE;RSVP=TRUE;CN="Ricardo
  Soares":http://njyp.org/profile/RicardoSoares
ATTENDEE;ROLE=REQ-PARTICIPANT;PARTSTAT=TENTATIVE;RSVP=TRUE;CN="Jennife
 r Mesce":http://njyp.org/profile/JenniferMesce
ATTENDEE;ROLE=REQ-PARTICIPANT;PARTSTAT=TENTATIVE;RSVP=TRUE;CN="Amanda 
 Taylor":http://njyp.org/profile/AmandaTaylor
ATTENDEE;ROLE=REQ-PARTICIPANT;PARTSTAT=TENTATIVE;RSVP=TRUE;CN="Leanora
  DeSantis":http://njyp.org/profile/LeanoraDeSantis
ATTENDEE;ROLE=REQ-PARTICIPANT;PARTSTAT=TENTATIVE;RSVP=TRUE;CN="Paul Ki
 esche":http://njyp.org/profile/PaulKiesche
ATTENDEE;ROLE=REQ-PARTICIPANT;PARTSTAT=TENTATIVE;RSVP=TRUE;CN=Tina:htt
 p://njyp.org/profile/Tina
ATTENDEE;ROLE=REQ-PARTICIPANT;PARTSTAT=TENTATIVE;RSVP=TRUE;CN=Danielle
 :http://njyp.org/profile/DanielleM
ATTENDEE;ROLE=REQ-PARTICIPANT;PARTSTAT=TENTATIVE;RSVP=TRUE;CN="Devika 
 Bakhshi":http://njyp.org/profile/Devika
ATTENDEE;ROLE=REQ-PARTICIPANT;PARTSTAT=TENTATIVE;RSVP=TRUE;CN="Dominic
 k Velardo":http://njyp.org/profile/DominickVelardo
ATTENDEE;ROLE=REQ-PARTICIPANT;PARTSTAT=TENTATIVE;RSVP=TRUE;CN=Lizzie:h
 ttp://njyp.org/profile/ElizabethKuhns
ATTENDEE;ROLE=REQ-PARTICIPANT;PARTSTAT=TENTATIVE;RSVP=TRUE;CN=Benita:h
 ttp://njyp.org/profile/Benita
ATTENDEE;ROLE=REQ-PARTICIPANT;PARTSTAT=TENTATIVE;RSVP=TRUE;CN="Kevin H
 aughwout":http://njyp.org/profile/KevinHaughwout
END:VEVENT
END:VCALENDAR
