BEGIN:VCALENDAR
PRODID:NingEventWidget-v1
VERSION:2.0
METHOD:PUBLISH
BEGIN:VTIMEZONE
TZID:America/New_York
X-LIC-LOCATION:America/New_York
BEGIN:DAYLIGHT
TZOFFSETFROM:-0500
TZOFFSETTO:-0400
TZNAME:EDT
DTSTART:19700308T020000
RRULE:FREQ=YEARLY;BYMONTH=3;BYDAY=2SU
END:DAYLIGHT
BEGIN:STANDARD
TZOFFSETFROM:-0400
TZOFFSETTO:-0500
TZNAME:EST
DTSTART:19701101T020000
RRULE:FREQ=YEARLY;BYMONTH=11;BYDAY=1SU
END:STANDARD
END:VTIMEZONE
BEGIN:VEVENT
UID:2938326:Event:40307
DTSTAMP:20260420T073528Z
SUMMARY:Links and Drinks: A Networking Event
DESCRIPTION:Are you ready to expand your network of contacts? Are you 
 looking for a new job? Then join us for an evening of \"Links and Drin
 ks\" where you will meet a variety of career oriented professionals. C
 ome on out after work to trade business cards, trade ideas, or trade c
 ontacts, all while in a fun and friendly environment. Music will be do
 wn and lights will be up.\n\nAdded Value:\nWalk away with a list of th
 ose who attended. Everyone will receive an information sheet that will
  list each attendees’ first name, job title, company, and email.\n\n
 Who Should Attend:\nThis event is open to ALL ages and will be adverti
 sted on various NJ Networking boards.\n\nBusiness Cards:\nPlease bring
  20-50 business cards if possible.\n\n\nRSVP (to the right) and we wil
 l let you know when tix are almost gone, when prices are going up, if 
 there are any changes, etc.\n\nNJYP or NJP Member Cost:\n$5 for the fi
 rst 20 to register\n$10 for the next 21 to 50 to register\n$15 for the
  next 51 to 100 to register\n$20 for walk-ins\n\nNon-Member Cost:\n$20
  online and at the door\n\nUNEMPLOYED BONUS:\nIf you are unemployed an
 d collecting benefits BRING YOUR UNEMPLOYMENT CARD (or other evidence)
  to get in for FREE. Please note we still need you to click \"Buy a Ti
 cket\" above.\n\nTickets:\nThere are a limited number of Tickets for s
 ale. Tickets are not mailed, but your name will be kept at the door.\n
 All sales are final.\n\nDress Code:\nNo sneakers, t-shirts, or athleti
 c gear.\n\nHow to Find the Group:\nMeet us at the bar on the dance flo
 or.\n\nDirections:\nMavi Lounge is connected to La Quinta Inn (which i
 s easy to spot). Click CONTACT for details, http://www.maviloungenj.co
 m/ There is lots of free parking.\n\nFor more information visit http:/
 /njyp.org/events/links-and-drinks-a-networking-2
DTSTART;TZID=America/New_York:20100218T183000
DTEND;TZID=America/New_York:20100218T203000
CATEGORIES:"essex county", networking
LOCATION:Mavi Lounge
WEBSITE:http://www.maviloungenj.com/
URL:http://www.maviloungenj.com/
CONTACT:
ORGANIZER;CN="Brian and Mike":http://njyp.org/profile/BrianMike
ATTACH;FMTTYPE="image/jpeg":http://storage.ning.com/topology/rest/1.0/
 file/get/1088593511?profile=original
ATTENDEE;ROLE=REQ-PARTICIPANT;PARTSTAT=ACCEPTED;RSVP=TRUE;CN="Mark Ack
 ermann Jr.":http://njyp.org/profile/MarkAckermannJr
ATTENDEE;ROLE=REQ-PARTICIPANT;PARTSTAT=ACCEPTED;RSVP=TRUE;CN="Jay Shah
 ":http://njyp.org/profile/JayShah
ATTENDEE;ROLE=REQ-PARTICIPANT;PARTSTAT=ACCEPTED;RSVP=TRUE;CN=Meredith:
 http://njyp.org/profile/MeredithC
ATTENDEE;ROLE=REQ-PARTICIPANT;PARTSTAT=ACCEPTED;RSVP=TRUE;CN=Jeramie:h
 ttp://njyp.org/profile/Jeramie
ATTENDEE;ROLE=REQ-PARTICIPANT;PARTSTAT=ACCEPTED;RSVP=TRUE;CN=Michelle:
 http://njyp.org/profile/MichelleB
ATTENDEE;ROLE=REQ-PARTICIPANT;PARTSTAT=ACCEPTED;RSVP=TRUE;CN="Hugo X C
 arvajal":http://njyp.org/profile/HugoXCarvajal
ATTENDEE;ROLE=REQ-PARTICIPANT;PARTSTAT=ACCEPTED;RSVP=TRUE;CN="Tiffany 
 Hanke":http://njyp.org/profile/TiffanyHanke
ATTENDEE;ROLE=REQ-PARTICIPANT;PARTSTAT=ACCEPTED;RSVP=TRUE;CN="Jahnavi 
 Utukuri":http://njyp.org/profile/JahnaviUtukuri
ATTENDEE;ROLE=REQ-PARTICIPANT;PARTSTAT=ACCEPTED;RSVP=TRUE;CN=Kendell:h
 ttp://njyp.org/profile/Kendell
ATTENDEE;ROLE=REQ-PARTICIPANT;PARTSTAT=ACCEPTED;RSVP=TRUE;CN="james mi
 kusi":http://njyp.org/profile/jimbox
ATTENDEE;ROLE=REQ-PARTICIPANT;PARTSTAT=ACCEPTED;RSVP=TRUE;CN="Steve Fe
 uss":http://njyp.org/profile/SteveFeuss
ATTENDEE;ROLE=REQ-PARTICIPANT;PARTSTAT=ACCEPTED;RSVP=TRUE;CN="Carrie N
 .":http://njyp.org/profile/CarrieNeigel
ATTENDEE;ROLE=REQ-PARTICIPANT;PARTSTAT=ACCEPTED;RSVP=TRUE;CN="Matthew 
 Devan":http://njyp.org/profile/MatthewDevan
ATTENDEE;ROLE=REQ-PARTICIPANT;PARTSTAT=ACCEPTED;RSVP=TRUE;CN="Susan Ve
 rnnicek":http://njyp.org/profile/SusanVernnicek
ATTENDEE;ROLE=REQ-PARTICIPANT;PARTSTAT=ACCEPTED;RSVP=TRUE;CN="Robert B
 enham":http://njyp.org/profile/RobertBenham
ATTENDEE;ROLE=REQ-PARTICIPANT;PARTSTAT=ACCEPTED;RSVP=TRUE;CN="Ryan Zie
 ja":http://njyp.org/profile/RyanZieja
ATTENDEE;ROLE=REQ-PARTICIPANT;PARTSTAT=ACCEPTED;RSVP=TRUE;CN="Marina S
 vorinic":http://njyp.org/profile/MarinaSvorinic
ATTENDEE;ROLE=REQ-PARTICIPANT;PARTSTAT=ACCEPTED;RSVP=TRUE;CN="Brian Ep
 stein":http://njyp.org/profile/BrianEpstein
ATTENDEE;ROLE=REQ-PARTICIPANT;PARTSTAT=ACCEPTED;RSVP=TRUE;CN="Kevin Ha
 ughwout":http://njyp.org/profile/KevinHaughwout
ATTENDEE;ROLE=REQ-PARTICIPANT;PARTSTAT=ACCEPTED;RSVP=TRUE;CN="Brian an
 d Mike":http://njyp.org/profile/BrianMike
ATTENDEE;ROLE=REQ-PARTICIPANT;PARTSTAT=TENTATIVE;RSVP=TRUE;CN="James S
 olano":http://njyp.org/profile/JamesSolano
ATTENDEE;ROLE=REQ-PARTICIPANT;PARTSTAT=TENTATIVE;RSVP=TRUE;CN="Abhijit
  Sheth":http://njyp.org/profile/AbhijitSheth
ATTENDEE;ROLE=REQ-PARTICIPANT;PARTSTAT=TENTATIVE;RSVP=TRUE;CN="Ben Dar
 ian":http://njyp.org/profile/BenDarian
ATTENDEE;ROLE=REQ-PARTICIPANT;PARTSTAT=TENTATIVE;RSVP=TRUE;CN="Jason W
 . Fuchs":http://njyp.org/profile/JasonWFuchs
ATTENDEE;ROLE=REQ-PARTICIPANT;PARTSTAT=TENTATIVE;RSVP=TRUE;CN="Ayana C
 .":http://njyp.org/profile/AyanaCJoseph
ATTENDEE;ROLE=REQ-PARTICIPANT;PARTSTAT=TENTATIVE;RSVP=TRUE;CN=Patty:ht
 tp://njyp.org/profile/ricia
ATTENDEE;ROLE=REQ-PARTICIPANT;PARTSTAT=TENTATIVE;RSVP=TRUE;CN=Tina:htt
 p://njyp.org/profile/Tina
ATTENDEE;ROLE=REQ-PARTICIPANT;PARTSTAT=TENTATIVE;RSVP=TRUE;CN="Dennis 
 Lee":http://njyp.org/profile/leeden
END:VEVENT
END:VCALENDAR
