BEGIN:VCALENDAR
PRODID:NingEventWidget-v1
VERSION:2.0
METHOD:PUBLISH
BEGIN:VTIMEZONE
TZID:America/New_York
X-LIC-LOCATION:America/New_York
BEGIN:DAYLIGHT
TZOFFSETFROM:-0500
TZOFFSETTO:-0400
TZNAME:EDT
DTSTART:19700308T020000
RRULE:FREQ=YEARLY;BYMONTH=3;BYDAY=2SU
END:DAYLIGHT
BEGIN:STANDARD
TZOFFSETFROM:-0400
TZOFFSETTO:-0500
TZNAME:EST
DTSTART:19701101T020000
RRULE:FREQ=YEARLY;BYMONTH=11;BYDAY=1SU
END:STANDARD
END:VTIMEZONE
BEGIN:VEVENT
UID:2938326:Event:563606
DTSTAMP:20260420T201205Z
SUMMARY:Links and Drinks in Somerset CANCELED
DESCRIPTION:Sorry everyone, we tried to promote this event as much as 
 we could but not enough people signed up.  We will send refunds today
  or tomorrow.\n\nLet’s get down to business at Links and Drinks – 
 a ‘networking only’ event. While this is an NJYP sponsored affair,
  all ages may attend and all manners of career-people are encouraged t
 o come, from lawyers to caterers to cartoonists. Your ticket price doe
 sn’t just gain you access to 50+ other professionals - you’ll be t
 reated to light bites as well as 2 drink tickets toward a beer, wine, 
 or soda. Looking for a job? Anyone who is hiring will be wearing a spe
 cial bracelet.  Also: * Walk away with a list of those who attended. E
 veryone will receive a copy of the guest list that will include the fu
 ll name, job title, company, and email address of those who pre-regist
 er.  Who Can Attend: This event will mostly be marketed to Young Profe
 ssionals but all ages are encouraged to attend.  Business Cards: Pleas
 e bring 20-50 business cards if possible.  \nCOST INCLUDES 2 Drinks (b
 eer, wine, soda) AND Light Appetizers.  Member Cost: $20 online $30 fo
 r walk-ins  Non-Member / General Public Cost: $30 online and at the do
 or  Tickets: There are a limited number of Tickets for sale. Tickets a
 re not mailed, but your name will be kept at the door. All sales are f
 inal.  Dress Code: Business to Business Casual  Directions/Parking: ht
 tp://aveliving.com/locations/somerset/default.aspx The main gate will 
 left open so we can park in the community.\n\nFor more information vis
 it http://njyp.org/events/links-and-drinks-in-somerset
DTSTART;TZID=America/New_York:20140611T183000
DTEND;TZID=America/New_York:20140611T203000
CATEGORIES:"middlesex county", social, networking
LOCATION:AVE in Somerset
WEBSITE:http://aveliving.com/locations/somerset/default.aspx
URL:http://aveliving.com/locations/somerset/default.aspx
CONTACT:
ORGANIZER;CN="Brian and Mike":http://njyp.org/profile/BrianMike
ATTACH;FMTTYPE="image/jpeg":http://storage.ning.com/topology/rest/1.0/
 file/get/1088974824?profile=original
ATTENDEE;ROLE=REQ-PARTICIPANT;PARTSTAT=ACCEPTED;RSVP=TRUE;CN=Peter:htt
 p://njyp.org/profile/Peter584
ATTENDEE;ROLE=REQ-PARTICIPANT;PARTSTAT=ACCEPTED;RSVP=TRUE;CN=Samantha:
 http://njyp.org/profile/Samantha993
ATTENDEE;ROLE=REQ-PARTICIPANT;PARTSTAT=ACCEPTED;RSVP=TRUE;CN=Melanie:h
 ttp://njyp.org/profile/Melanie457
ATTENDEE;ROLE=REQ-PARTICIPANT;PARTSTAT=ACCEPTED;RSVP=TRUE;CN="Brian an
 d Mike":http://njyp.org/profile/BrianMike
ATTENDEE;ROLE=REQ-PARTICIPANT;PARTSTAT=TENTATIVE;RSVP=TRUE;CN=Jose:htt
 p://njyp.org/profile/JoseRebustesIII
ATTENDEE;ROLE=REQ-PARTICIPANT;PARTSTAT=TENTATIVE;RSVP=TRUE;CN="Janet S
 tevens":http://njyp.org/profile/JanetStevens
ATTENDEE;ROLE=REQ-PARTICIPANT;PARTSTAT=TENTATIVE;RSVP=TRUE;CN="D.j. St
 evie Blatz":http://njyp.org/profile/DjStevieBlatz
ATTENDEE;ROLE=REQ-PARTICIPANT;PARTSTAT=TENTATIVE;RSVP=TRUE;CN=dave:htt
 p://njyp.org/profile/dave107
ATTENDEE;ROLE=REQ-PARTICIPANT;PARTSTAT=TENTATIVE;RSVP=TRUE;CN=Rachel:h
 ttp://njyp.org/profile/Rachel686
ATTENDEE;ROLE=REQ-PARTICIPANT;PARTSTAT=TENTATIVE;RSVP=TRUE;CN=Elizabet
 h:http://njyp.org/profile/ElizabethWilliams
ATTENDEE;ROLE=REQ-PARTICIPANT;PARTSTAT=TENTATIVE;RSVP=TRUE;CN=James:ht
 tp://njyp.org/profile/JamesShow
END:VEVENT
END:VCALENDAR
