BEGIN:VCALENDAR
PRODID:NingEventWidget-v1
VERSION:2.0
METHOD:PUBLISH
BEGIN:VTIMEZONE
TZID:America/New_York
X-LIC-LOCATION:America/New_York
BEGIN:DAYLIGHT
TZOFFSETFROM:-0500
TZOFFSETTO:-0400
TZNAME:EDT
DTSTART:19700308T020000
RRULE:FREQ=YEARLY;BYMONTH=3;BYDAY=2SU
END:DAYLIGHT
BEGIN:STANDARD
TZOFFSETFROM:-0400
TZOFFSETTO:-0500
TZNAME:EST
DTSTART:19701101T020000
RRULE:FREQ=YEARLY;BYMONTH=11;BYDAY=1SU
END:STANDARD
END:VTIMEZONE
BEGIN:VEVENT
UID:2938326:Event:533231
DTSTAMP:20260419T205141Z
SUMMARY:Little Falls Happy Hour
DESCRIPTION:Your local Happy Hour is back on the calendar and this tim
 e we are at 381 Main Bar & Grill in Little Falls. Join other Young Pro
 fessionals at this mix & mingle event. As always, there is no cover, p
 lus there will be great specials to keep the drinks and the laughter f
 lowing. Whether this is your first event or your fiftieth, you will fi
 nd yourself surrounded by friendly faces and future friends.Who can at
 tend:This Happy Hour is for dues paying Members only, http://www.njyp
 .org/page/pay-dues If you wish to bring a guest please have them join
  NJYP first.Cost:No cost to attend but you MUST RSVP. 1 item minimum p
 er person so we support the bar and all the space we are taking up.Spe
 cials:$2 Bud Lights and Coors Lights$1 off all mixed drinks$2 off all 
 pizza1/2 prices appetizersWhat to expect:Our Happy Hours are very casu
 al. There are no sign-in tables, no name tags, and no ice breakers. Ex
 pect people to walk up to you to introduce themselves and feel free to
  walk up to others who you do not know. Newbies are at EVERY NJYP even
 t so if this is your first, you won't be alone.Finding the Group:We ar
 e going to be in the bar area. Please look for signs or ask staff wher
 e the group is.Directions:This place has a huge parking lot so parking
  shouldn't be an issue http://www.381main.com/main/contact.html\n\nFo
 r more information visit http://njyp.org/events/little-falls-happy-hou
 r-6
DTSTART;TZID=America/New_York:20140507T180000
DTEND;TZID=America/New_York:20140507T200000
CATEGORIES:"passaic county", social, members
LOCATION:381 Main Bar & Grill in Little Falls
WEBSITE:http://www.381main.com/main/contact.html
URL:http://www.381main.com/main/contact.html
CONTACT:
ORGANIZER;CN="Brian and Mike":http://njyp.org/profile/BrianMike
ATTACH;FMTTYPE="image/jpeg":http://storage.ning.com/topology/rest/1.0/
 file/get/1088687153?profile=original
ATTENDEE;ROLE=REQ-PARTICIPANT;PARTSTAT=ACCEPTED;RSVP=TRUE;CN=Arpan:htt
 p://njyp.org/profile/Arpan
ATTENDEE;ROLE=REQ-PARTICIPANT;PARTSTAT=ACCEPTED;RSVP=TRUE;CN=Andrew:ht
 tp://njyp.org/profile/Andrew670
ATTENDEE;ROLE=REQ-PARTICIPANT;PARTSTAT=ACCEPTED;RSVP=TRUE;CN=Sharon:ht
 tp://njyp.org/profile/Sharon302
ATTENDEE;ROLE=REQ-PARTICIPANT;PARTSTAT=ACCEPTED;RSVP=TRUE;CN=Peter:htt
 p://njyp.org/profile/PeterMcDonnell
ATTENDEE;ROLE=REQ-PARTICIPANT;PARTSTAT=ACCEPTED;RSVP=TRUE;CN=Joe:http:
 //njyp.org/profile/Joe245
ATTENDEE;ROLE=REQ-PARTICIPANT;PARTSTAT=ACCEPTED;RSVP=TRUE;CN=Leah:http
 ://njyp.org/profile/LeahZ
ATTENDEE;ROLE=REQ-PARTICIPANT;PARTSTAT=ACCEPTED;RSVP=TRUE;CN=Steven:ht
 tp://njyp.org/profile/Steven66
ATTENDEE;ROLE=REQ-PARTICIPANT;PARTSTAT=ACCEPTED;RSVP=TRUE;CN=Devashis:
 http://njyp.org/profile/Devashis
ATTENDEE;ROLE=REQ-PARTICIPANT;PARTSTAT=ACCEPTED;RSVP=TRUE;CN="Kelly An
 ne":http://njyp.org/profile/KellyGoodwin
ATTENDEE;ROLE=REQ-PARTICIPANT;PARTSTAT=ACCEPTED;RSVP=TRUE;CN=Melanie:h
 ttp://njyp.org/profile/Melanie457
ATTENDEE;ROLE=REQ-PARTICIPANT;PARTSTAT=ACCEPTED;RSVP=TRUE;CN=Vishal:ht
 tp://njyp.org/profile/Vishal
ATTENDEE;ROLE=REQ-PARTICIPANT;PARTSTAT=ACCEPTED;RSVP=TRUE;CN=Edna:http
 ://njyp.org/profile/Edna
ATTENDEE;ROLE=REQ-PARTICIPANT;PARTSTAT=ACCEPTED;RSVP=TRUE;CN=Patty:htt
 p://njyp.org/profile/Patty727
ATTENDEE;ROLE=REQ-PARTICIPANT;PARTSTAT=ACCEPTED;RSVP=TRUE;CN=James:htt
 p://njyp.org/profile/James439
ATTENDEE;ROLE=REQ-PARTICIPANT;PARTSTAT=ACCEPTED;RSVP=TRUE;CN="Jeffrey 
 Gates":http://njyp.org/profile/JeffreyGates
ATTENDEE;ROLE=REQ-PARTICIPANT;PARTSTAT=ACCEPTED;RSVP=TRUE;CN=Evelyn:ht
 tp://njyp.org/profile/Evelyn110
ATTENDEE;ROLE=REQ-PARTICIPANT;PARTSTAT=ACCEPTED;RSVP=TRUE;CN=Michelle:
 http://njyp.org/profile/Michelle50
ATTENDEE;ROLE=REQ-PARTICIPANT;PARTSTAT=ACCEPTED;RSVP=TRUE;CN="Brian an
 d Mike":http://njyp.org/profile/BrianMike
ATTENDEE;ROLE=REQ-PARTICIPANT;PARTSTAT=TENTATIVE;RSVP=TRUE;CN=Elias:ht
 tp://njyp.org/profile/Elias
ATTENDEE;ROLE=REQ-PARTICIPANT;PARTSTAT=TENTATIVE;RSVP=TRUE;CN=Dejan:ht
 tp://njyp.org/profile/Dejan
ATTENDEE;ROLE=REQ-PARTICIPANT;PARTSTAT=TENTATIVE;RSVP=TRUE;CN=Lynn:htt
 p://njyp.org/profile/Lynn399
ATTENDEE;ROLE=REQ-PARTICIPANT;PARTSTAT=TENTATIVE;RSVP=TRUE;CN="Jorge D
 ":http://njyp.org/profile/JorgeD
ATTENDEE;ROLE=REQ-PARTICIPANT;PARTSTAT=TENTATIVE;RSVP=TRUE;CN=Stephani
 e:http://njyp.org/profile/Stephanie364
ATTENDEE;ROLE=REQ-PARTICIPANT;PARTSTAT=TENTATIVE;RSVP=TRUE;CN=John:htt
 p://njyp.org/profile/JohnE
ATTENDEE;ROLE=REQ-PARTICIPANT;PARTSTAT=TENTATIVE;RSVP=TRUE;CN=Matt:htt
 p://njyp.org/profile/Matt841
ATTENDEE;ROLE=REQ-PARTICIPANT;PARTSTAT=TENTATIVE;RSVP=TRUE;CN=Frankie:
 http://njyp.org/profile/FRANKIE232
ATTENDEE;ROLE=REQ-PARTICIPANT;PARTSTAT=TENTATIVE;RSVP=TRUE;CN=David:ht
 tp://njyp.org/profile/DavidKasten
ATTENDEE;ROLE=REQ-PARTICIPANT;PARTSTAT=TENTATIVE;RSVP=TRUE;CN=Todd:htt
 p://njyp.org/profile/ToddKasen
ATTENDEE;ROLE=REQ-PARTICIPANT;PARTSTAT=TENTATIVE;RSVP=TRUE;CN=Sharon:h
 ttp://njyp.org/profile/Sharon730
ATTENDEE;ROLE=REQ-PARTICIPANT;PARTSTAT=TENTATIVE;RSVP=TRUE;CN="Tom Cif
 elli":http://njyp.org/profile/TomCifelli
ATTENDEE;ROLE=REQ-PARTICIPANT;PARTSTAT=TENTATIVE;RSVP=TRUE;CN=Marwah:h
 ttp://njyp.org/profile/155sdzomhusc5
ATTENDEE;ROLE=REQ-PARTICIPANT;PARTSTAT=TENTATIVE;RSVP=TRUE;CN=Vadim:ht
 tp://njyp.org/profile/Vadim
ATTENDEE;ROLE=REQ-PARTICIPANT;PARTSTAT=TENTATIVE;RSVP=TRUE;CN=Edward:h
 ttp://njyp.org/profile/EKotwica
ATTENDEE;ROLE=REQ-PARTICIPANT;PARTSTAT=TENTATIVE;RSVP=TRUE;CN=Walter:h
 ttp://njyp.org/profile/Walter
ATTENDEE;ROLE=REQ-PARTICIPANT;PARTSTAT=TENTATIVE;RSVP=TRUE;CN=Dave:htt
 p://njyp.org/profile/Dave791
ATTENDEE;ROLE=REQ-PARTICIPANT;PARTSTAT=TENTATIVE;RSVP=TRUE;CN="Amanda 
 Taylor":http://njyp.org/profile/AmandaTaylor
END:VEVENT
END:VCALENDAR
