BEGIN:VCALENDAR
PRODID:NingEventWidget-v1
VERSION:2.0
METHOD:PUBLISH
BEGIN:VTIMEZONE
TZID:America/New_York
X-LIC-LOCATION:America/New_York
BEGIN:DAYLIGHT
TZOFFSETFROM:-0500
TZOFFSETTO:-0400
TZNAME:EDT
DTSTART:19700308T020000
RRULE:FREQ=YEARLY;BYMONTH=3;BYDAY=2SU
END:DAYLIGHT
BEGIN:STANDARD
TZOFFSETFROM:-0400
TZOFFSETTO:-0500
TZNAME:EST
DTSTART:19701101T020000
RRULE:FREQ=YEARLY;BYMONTH=11;BYDAY=1SU
END:STANDARD
END:VTIMEZONE
BEGIN:VEVENT
UID:2938326:Event:108035
DTSTAMP:20260421T001620Z
SUMMARY:Lunch Break: Somerville
DESCRIPTION:Do you work in the Somerville area? Then meet up with othe
 r Young Professionals for a \"Lunch Break\". This event will be part n
 etworking and part socializing. Bring business cards if you have them 
 but also bring your appetite and your spirit for making new local frie
 nds.\n\nWho Can Attend:\nThis will be a Members only event, aka you pa
 id your Membership Dues.\nTickets are NOT required but you MUST RSVP. 
 Please do NOT bring non-Member friends/co-workers to this event as we 
 will be checking the RSVP and Membership lists.\n\nCost:\nHC has count
 er service so everyone will order off of their menu, http://www.hurryc
 hutney.com/frmOurMenu.aspx\nThen grab a seat.\n\nFinding the Group:\nM
 eet us right inside the entrance at 1pm. We will only wait 5 minutes t
 hen we will get in line to order.\nIf you are late just look for the g
 roup sitting down and signs.\n\nHost:\nThe owner, and NJYP Member, Har
 sha will be hosting this event.\n\nDirections:\nhttp://www.hurrychutne
 y.com/directions.html\nPlease use Mapquest as Google shows HC 1.5 mile
 s south.\n\nHC is in a strip mall with Dunkin Donuts and Circle Lighti
 ng. They are right across Exerwise Woman and Stop&Shop between Orlando
  Dr and Somerset St on 206 North.\n\nFor more information visit http:/
 /njyp.org/events/lunch-break-somerville
DTSTART;TZID=America/New_York:20101103T130000
DTEND;TZID=America/New_York:20101103T140000
CATEGORIES:"somerset county", social, networking
LOCATION:Hurry Chutney
WEBSITE:
URL:
CONTACT:
ORGANIZER;CN="Brian and Mike":http://njyp.org/profile/BrianMike
ATTACH;FMTTYPE="image/jpeg":http://storage.ning.com/topology/rest/1.0/
 file/get/1088649383?profile=original
ATTENDEE;ROLE=REQ-PARTICIPANT;PARTSTAT=ACCEPTED;RSVP=TRUE;CN=Melissa:h
 ttp://njyp.org/profile/Melissa643
ATTENDEE;ROLE=REQ-PARTICIPANT;PARTSTAT=ACCEPTED;RSVP=TRUE;CN=Amanda:ht
 tp://njyp.org/profile/Amanda758
ATTENDEE;ROLE=REQ-PARTICIPANT;PARTSTAT=ACCEPTED;RSVP=TRUE;CN=Shannon:h
 ttp://njyp.org/profile/Shannon
ATTENDEE;ROLE=REQ-PARTICIPANT;PARTSTAT=ACCEPTED;RSVP=TRUE;CN=Eric:http
 ://njyp.org/profile/Eric939
ATTENDEE;ROLE=REQ-PARTICIPANT;PARTSTAT=ACCEPTED;RSVP=TRUE;CN="Jennifer
  Redmond":http://njyp.org/profile/JenniferRedmond
ATTENDEE;ROLE=REQ-PARTICIPANT;PARTSTAT=ACCEPTED;RSVP=TRUE;CN="Harsha M
 eda":http://njyp.org/profile/HarshaMeda
ATTENDEE;ROLE=REQ-PARTICIPANT;PARTSTAT=ACCEPTED;RSVP=TRUE;CN=Colleen:h
 ttp://njyp.org/profile/Colleen
ATTENDEE;ROLE=REQ-PARTICIPANT;PARTSTAT=TENTATIVE;RSVP=TRUE;CN="Mark Ol
 iver":http://njyp.org/profile/MarkOliver
ATTENDEE;ROLE=REQ-PARTICIPANT;PARTSTAT=TENTATIVE;RSVP=TRUE;CN=Viola:ht
 tp://njyp.org/profile/Viola
ATTENDEE;ROLE=REQ-PARTICIPANT;PARTSTAT=TENTATIVE;RSVP=TRUE;CN=Priya:ht
 tp://njyp.org/profile/Priya
ATTENDEE;ROLE=REQ-PARTICIPANT;PARTSTAT=TENTATIVE;RSVP=TRUE;CN=JonaGold
 :http://njyp.org/profile/JonaGold
END:VEVENT
END:VCALENDAR
