BEGIN:VCALENDAR
PRODID:NingEventWidget-v1
VERSION:2.0
METHOD:PUBLISH
BEGIN:VTIMEZONE
TZID:America/New_York
X-LIC-LOCATION:America/New_York
BEGIN:DAYLIGHT
TZOFFSETFROM:-0500
TZOFFSETTO:-0400
TZNAME:EDT
DTSTART:19700308T020000
RRULE:FREQ=YEARLY;BYMONTH=3;BYDAY=2SU
END:DAYLIGHT
BEGIN:STANDARD
TZOFFSETFROM:-0400
TZOFFSETTO:-0500
TZNAME:EST
DTSTART:19701101T020000
RRULE:FREQ=YEARLY;BYMONTH=11;BYDAY=1SU
END:STANDARD
END:VTIMEZONE
BEGIN:VEVENT
UID:2938326:Event:143123
DTSTAMP:20260420T105434Z
SUMMARY:Lunch-n-Learn for Biz Owners
DESCRIPTION:Own a business or thinking of starting one up on the side?
  This Lunch-n-Learn Seminar will reveal what every business owner MUST
  have in place NOW to guarantee a fast, easy, and painless recovery of
  their data after a major loss. Plus meet other local owners who live 
 and work in the area while enjoying a complimentary lunch courtesy of 
 New Vision Technology Group. During this Executive Lunch-n-Learn Youâ€
 ™ll discover:* The two-step backup system you must have in place to be
  100% certain your business is back up and running FAST in the event o
 f a complete system meltdown or disaster.* The only surefire way to kn
 ow if your data is being backed without errors or corruption; almost 9
 9% of business owners never perform this simple check.* The shocking m
 isunderstanding most business owners have about their current backup s
 ystem; if you think just backing up the data is enough, youâ€™ll be ap
 palled after hearing this.* How to get back up and running in the shor
 test time possible; weâ€™ll reveal what most backup providers donâ€™t 
 want you to know about their backup system that could have you down fo
 r days â€“ possibly weeks â€“ trying to restore your data.* 7 Security
  questions you should ask your offsite backup company before trusting 
 them with your data; if they cannot say â€śyesâ€ť to all 7, DONâ€™T gi
 ve them access to your data or your network!* Why tape backup is one o
 f the WORST ways to secure your data.Cost to Attend:No cover charge.Ne
 w Vision Technology Group will pay for your lunch.\nÂ \nHow to Registe
 r:You MUST click the green button above to register.Â  This is the onl
 y way to save your seat at the lunch.Who Can Attend:Any business owner
  or anyone looking to start up a business.Bring your business cards!Sc
 hedule:12:45 Meet and Greet1-2:00 LunchDirections/Parking:http://www.b
 asilt.com/directions.php\n\nFor more information visit http://njyp.org
 /events/lunchnlearn-for-biz-owners
DTSTART;TZID=America/New_York:20110225T124500
DTEND;TZID=America/New_York:20110225T140000
CATEGORIES:"monmouth county", educational, networking
LOCATION:Basil T's
WEBSITE:http://www.basilt.com/
URL:http://www.basilt.com/
CONTACT:
ORGANIZER;CN="Brian and Mike":http://njyp.org/profile/BrianMike
ATTACH;FMTTYPE="image/jpeg":http://storage.ning.com/topology/rest/1.0/
 file/get/1088677489?profile=original
ATTENDEE;ROLE=REQ-PARTICIPANT;PARTSTAT=ACCEPTED;RSVP=TRUE;CN=Michele:h
 ttp://njyp.org/profile/MicheleSanto
ATTENDEE;ROLE=REQ-PARTICIPANT;PARTSTAT=ACCEPTED;RSVP=TRUE;CN=Meredith:
 http://njyp.org/profile/MeredithC
ATTENDEE;ROLE=REQ-PARTICIPANT;PARTSTAT=ACCEPTED;RSVP=TRUE;CN=Marcelo:h
 ttp://njyp.org/profile/EzraS
ATTENDEE;ROLE=REQ-PARTICIPANT;PARTSTAT=ACCEPTED;RSVP=TRUE;CN="Bryan Ku
 derna":http://njyp.org/profile/BryanKuderna
ATTENDEE;ROLE=REQ-PARTICIPANT;PARTSTAT=ACCEPTED;RSVP=TRUE;CN="Deb P.":
 http://njyp.org/profile/DebPassner
ATTENDEE;ROLE=REQ-PARTICIPANT;PARTSTAT=ACCEPTED;RSVP=TRUE;CN=Kelly:htt
 p://njyp.org/profile/Kelly728
ATTENDEE;ROLE=REQ-PARTICIPANT;PARTSTAT=ACCEPTED;RSVP=TRUE;CN=Chris:htt
 p://njyp.org/profile/Chris878
ATTENDEE;ROLE=REQ-PARTICIPANT;PARTSTAT=ACCEPTED;RSVP=TRUE;CN="Yudi Sob
 haram":http://njyp.org/profile/YudiSobharam
ATTENDEE;ROLE=REQ-PARTICIPANT;PARTSTAT=ACCEPTED;RSVP=TRUE;CN="Brian an
 d Mike":http://njyp.org/profile/BrianMike
ATTENDEE;ROLE=REQ-PARTICIPANT;PARTSTAT=TENTATIVE;RSVP=TRUE;CN=Melanie:
 http://njyp.org/profile/Melanie817
ATTENDEE;ROLE=REQ-PARTICIPANT;PARTSTAT=TENTATIVE;RSVP=TRUE;CN=Josephin
 e:http://njyp.org/profile/Josephine
ATTENDEE;ROLE=REQ-PARTICIPANT;PARTSTAT=TENTATIVE;RSVP=TRUE;CN=Darius:h
 ttp://njyp.org/profile/Darius
ATTENDEE;ROLE=REQ-PARTICIPANT;PARTSTAT=TENTATIVE;RSVP=TRUE;CN=Andrew:h
 ttp://njyp.org/profile/AndrewYoung
ATTENDEE;ROLE=REQ-PARTICIPANT;PARTSTAT=TENTATIVE;RSVP=TRUE;CN=Tim:http
 ://njyp.org/profile/Tim11
ATTENDEE;ROLE=REQ-PARTICIPANT;PARTSTAT=TENTATIVE;RSVP=TRUE;CN="Nick Ol
 son":http://njyp.org/profile/NickOlson
ATTENDEE;ROLE=REQ-PARTICIPANT;PARTSTAT=TENTATIVE;RSVP=TRUE;CN=James:ht
 tp://njyp.org/profile/James681
ATTENDEE;ROLE=REQ-PARTICIPANT;PARTSTAT=TENTATIVE;RSVP=TRUE;CN="Janine 
 Salerno":http://njyp.org/profile/JanineSalerno
END:VEVENT
END:VCALENDAR
