BEGIN:VCALENDAR
PRODID:NingEventWidget-v1
VERSION:2.0
METHOD:PUBLISH
BEGIN:VTIMEZONE
TZID:America/New_York
X-LIC-LOCATION:America/New_York
BEGIN:DAYLIGHT
TZOFFSETFROM:-0500
TZOFFSETTO:-0400
TZNAME:EDT
DTSTART:19700308T020000
RRULE:FREQ=YEARLY;BYMONTH=3;BYDAY=2SU
END:DAYLIGHT
BEGIN:STANDARD
TZOFFSETFROM:-0400
TZOFFSETTO:-0500
TZNAME:EST
DTSTART:19701101T020000
RRULE:FREQ=YEARLY;BYMONTH=11;BYDAY=1SU
END:STANDARD
END:VTIMEZONE
BEGIN:VEVENT
UID:2938326:Event:8675
DTSTAMP:20260421T071502Z
SUMMARY:Make Wine Open House
DESCRIPTION:DATE CHANGE:\nOLD DATE- JULY 26\nNEW DATE- AUG 1\n\nFor th
 e 4th year in a row NJYP is going to be making wine! Find out more at 
 this Open House event where all will get to taste wine while learning 
 about the process. Attendees will have the opportunity to meet members
  of the ’09-’10 NJYP Wineoes and watch them bottle their barrel of
  Zinfandel.\n\nWho can attend:\nAnyone who is 21-39 years old may atte
 nd this Open House or join us to make wine. No commitment is necessary
 , this is just an open house so come out for the free wine. Come out t
 o socialize. Come out to learn.\n\nCost to Attend the Open House:\nFRE
 E, but please RSVP so we know you are coming.\n\nDirections:\nhttp://w
 ww.time4goodwine.com/contactus.html\n\nAlready know you want to buy bo
 ttles for ’09-’10 or want to find out more?\n\n\nFor more informat
 ion visit http://njyp.org/events/make-wine-open-house
DTSTART;TZID=America/New_York:20090801T100000
DTEND;TZID=America/New_York:20090801T120000
CATEGORIES:"monmouth county", educational, social
LOCATION:Grape Beginnings
WEBSITE:http://www.time4goodwine.com/
URL:http://www.time4goodwine.com/
CONTACT:
ORGANIZER;CN="Brian and Mike":http://njyp.org/profile/BrianMike
ATTACH;FMTTYPE="image/jpeg":http://storage.ning.com/topology/rest/1.0/
 file/get/1088539962?profile=original
ATTENDEE;ROLE=REQ-PARTICIPANT;PARTSTAT=ACCEPTED;RSVP=TRUE;CN=Joshua:ht
 tp://njyp.org/profile/Joshua
ATTENDEE;ROLE=REQ-PARTICIPANT;PARTSTAT=ACCEPTED;RSVP=TRUE;CN="Neel Aro
 on":http://njyp.org/profile/NeelAroon
ATTENDEE;ROLE=REQ-PARTICIPANT;PARTSTAT=ACCEPTED;RSVP=TRUE;CN="William 
 Askew":http://njyp.org/profile/WilliamAskew
ATTENDEE;ROLE=REQ-PARTICIPANT;PARTSTAT=ACCEPTED;RSVP=TRUE;CN="Christin
 e Berry":http://njyp.org/profile/ChristineBerry
ATTENDEE;ROLE=REQ-PARTICIPANT;PARTSTAT=ACCEPTED;RSVP=TRUE;CN="Joshua G
 orden":http://njyp.org/profile/JoshuaGorden
ATTENDEE;ROLE=REQ-PARTICIPANT;PARTSTAT=ACCEPTED;RSVP=TRUE;CN="JW Scher
 m":http://njyp.org/profile/JWScherm
ATTENDEE;ROLE=REQ-PARTICIPANT;PARTSTAT=ACCEPTED;RSVP=TRUE;CN="Anu Khar
 e":http://njyp.org/profile/AnuKhare
ATTENDEE;ROLE=REQ-PARTICIPANT;PARTSTAT=ACCEPTED;RSVP=TRUE;CN="Simone L
 yle":http://njyp.org/profile/SimoneLyle
ATTENDEE;ROLE=REQ-PARTICIPANT;PARTSTAT=ACCEPTED;RSVP=TRUE;CN="Kokil Ch
 achra":http://njyp.org/profile/KokilChachra
ATTENDEE;ROLE=REQ-PARTICIPANT;PARTSTAT=ACCEPTED;RSVP=TRUE;CN="Kelly Ba
 rratt":http://njyp.org/profile/KellyHuschke
ATTENDEE;ROLE=REQ-PARTICIPANT;PARTSTAT=ACCEPTED;RSVP=TRUE;CN="Jim Perr
 y":http://njyp.org/profile/JamesMPerry
ATTENDEE;ROLE=REQ-PARTICIPANT;PARTSTAT=ACCEPTED;RSVP=TRUE;CN=Elizabeth
 :http://njyp.org/profile/ElizabethWilliams
ATTENDEE;ROLE=REQ-PARTICIPANT;PARTSTAT=ACCEPTED;RSVP=TRUE;CN="Carol Pe
 terson":http://njyp.org/profile/CarolPeterson
ATTENDEE;ROLE=REQ-PARTICIPANT;PARTSTAT=ACCEPTED;RSVP=TRUE;CN=Kelley:ht
 tp://njyp.org/profile/KelleyBoyle
ATTENDEE;ROLE=REQ-PARTICIPANT;PARTSTAT=ACCEPTED;RSVP=TRUE;CN="Serena V
 aldes":http://njyp.org/profile/SerenaValdes
ATTENDEE;ROLE=REQ-PARTICIPANT;PARTSTAT=ACCEPTED;RSVP=TRUE;CN=Danielle:
 http://njyp.org/profile/DanielleSteckler
ATTENDEE;ROLE=REQ-PARTICIPANT;PARTSTAT=ACCEPTED;RSVP=TRUE;CN=Susan:htt
 p://njyp.org/profile/Susan
ATTENDEE;ROLE=REQ-PARTICIPANT;PARTSTAT=ACCEPTED;RSVP=TRUE;CN="Brian an
 d Mike":http://njyp.org/profile/BrianMike
ATTENDEE;ROLE=REQ-PARTICIPANT;PARTSTAT=ACCEPTED;RSVP=TRUE;CN="Dominick
  Velardo":http://njyp.org/profile/DominickVelardo
ATTENDEE;ROLE=REQ-PARTICIPANT;PARTSTAT=TENTATIVE;RSVP=TRUE;CN=David:ht
 tp://njyp.org/profile/DavidKuhn
ATTENDEE;ROLE=REQ-PARTICIPANT;PARTSTAT=TENTATIVE;RSVP=TRUE;CN=Laavanya
 :http://njyp.org/profile/LaavanyaPasupuleti
ATTENDEE;ROLE=REQ-PARTICIPANT;PARTSTAT=TENTATIVE;RSVP=TRUE;CN="Elizabe
 th Derby":http://njyp.org/profile/ElizabethDerby
ATTENDEE;ROLE=REQ-PARTICIPANT;PARTSTAT=TENTATIVE;RSVP=TRUE;CN="Terri Y
 ost":http://njyp.org/profile/TerriYost
ATTENDEE;ROLE=REQ-PARTICIPANT;PARTSTAT=TENTATIVE;RSVP=TRUE;CN="Jennife
 r L. Campbell":http://njyp.org/profile/JenniferLCampbell
ATTENDEE;ROLE=REQ-PARTICIPANT;PARTSTAT=TENTATIVE;RSVP=TRUE;CN=Laura:ht
 tp://njyp.org/profile/LauraStrzelecki
ATTENDEE;ROLE=REQ-PARTICIPANT;PARTSTAT=TENTATIVE;RSVP=TRUE;CN="Suzanne
  Conte":http://njyp.org/profile/SuzanneConte
ATTENDEE;ROLE=REQ-PARTICIPANT;PARTSTAT=TENTATIVE;RSVP=TRUE;CN=Catalina
 :http://njyp.org/profile/CatalinaCandela
ATTENDEE;ROLE=REQ-PARTICIPANT;PARTSTAT=TENTATIVE;RSVP=TRUE;CN="Lauren 
 L":http://njyp.org/profile/LaurenL
ATTENDEE;ROLE=REQ-PARTICIPANT;PARTSTAT=TENTATIVE;RSVP=TRUE;CN="Peter E
 skow":http://njyp.org/profile/PeterEskow
ATTENDEE;ROLE=REQ-PARTICIPANT;PARTSTAT=TENTATIVE;RSVP=TRUE;CN=Helen:ht
 tp://njyp.org/profile/Helen
ATTENDEE;ROLE=REQ-PARTICIPANT;PARTSTAT=TENTATIVE;RSVP=TRUE;CN="Lauren 
 Ashley":http://njyp.org/profile/LaurenAshley
ATTENDEE;ROLE=REQ-PARTICIPANT;PARTSTAT=TENTATIVE;RSVP=TRUE;CN="Sarah M
 unch":http://njyp.org/profile/SarahMunch
ATTENDEE;ROLE=REQ-PARTICIPANT;PARTSTAT=TENTATIVE;RSVP=TRUE;CN="Karl  A
  Kraus":http://njyp.org/profile/KarlAKraus
ATTENDEE;ROLE=REQ-PARTICIPANT;PARTSTAT=TENTATIVE;RSVP=TRUE;CN=Kimberly
 :http://njyp.org/profile/KimberlyTallon
ATTENDEE;ROLE=REQ-PARTICIPANT;PARTSTAT=TENTATIVE;RSVP=TRUE;CN="Leslie 
 Young":http://njyp.org/profile/wLeslieYoung
ATTENDEE;ROLE=REQ-PARTICIPANT;PARTSTAT=TENTATIVE;RSVP=TRUE;CN="Brian E
 pstein":http://njyp.org/profile/BrianEpstein
ATTENDEE;ROLE=REQ-PARTICIPANT;PARTSTAT=TENTATIVE;RSVP=TRUE;CN="Mike Ra
 polas Jr.":http://njyp.org/profile/MikeRapolasJr
ATTENDEE;ROLE=REQ-PARTICIPANT;PARTSTAT=TENTATIVE;RSVP=TRUE;CN=TJ:http:
 //njyp.org/profile/TJ
ATTENDEE;ROLE=REQ-PARTICIPANT;PARTSTAT=TENTATIVE;RSVP=TRUE;CN="Heather
   Kuhn":http://njyp.org/profile/HeatherKuhn
ATTENDEE;ROLE=REQ-PARTICIPANT;PARTSTAT=TENTATIVE;RSVP=TRUE;CN="Kendall
  R.":http://njyp.org/profile/KR
ATTENDEE;ROLE=REQ-PARTICIPANT;PARTSTAT=TENTATIVE;RSVP=TRUE;CN="Julie W
 eiser":http://njyp.org/profile/JulieWeiser
ATTENDEE;ROLE=REQ-PARTICIPANT;PARTSTAT=TENTATIVE;RSVP=TRUE;CN="Cory We
 iser":http://njyp.org/profile/CoryWeiser
ATTENDEE;ROLE=REQ-PARTICIPANT;PARTSTAT=TENTATIVE;RSVP=TRUE;CN=Pamela:h
 ttp://njyp.org/profile/Pamela
ATTENDEE;ROLE=REQ-PARTICIPANT;PARTSTAT=TENTATIVE;RSVP=TRUE;CN=CM:http:
 //njyp.org/profile/CM
END:VEVENT
END:VCALENDAR
