BEGIN:VCALENDAR
PRODID:NingEventWidget-v1
VERSION:2.0
METHOD:PUBLISH
BEGIN:VTIMEZONE
TZID:America/New_York
X-LIC-LOCATION:America/New_York
BEGIN:DAYLIGHT
TZOFFSETFROM:-0500
TZOFFSETTO:-0400
TZNAME:EDT
DTSTART:19700308T020000
RRULE:FREQ=YEARLY;BYMONTH=3;BYDAY=2SU
END:DAYLIGHT
BEGIN:STANDARD
TZOFFSETFROM:-0400
TZOFFSETTO:-0500
TZNAME:EST
DTSTART:19701101T020000
RRULE:FREQ=YEARLY;BYMONTH=11;BYDAY=1SU
END:STANDARD
END:VTIMEZONE
BEGIN:VEVENT
UID:2938326:Event:296231
DTSTAMP:20260420T104207Z
SUMMARY:Manhattan Comedy Night
DESCRIPTION:Join other YPs for a night of laughter.  This popular sho
 wcase of stand-up comedy's up-and-coming talents willl feature Sue Cos
 tello, Nick Griffin, Gary Gulman and DF Sweedler. \nCost:\n$25. Just f
 or YPs the price includes ticket to event, seating with other NJYPers 
 and entry to the pre-performance Happy Hour in the newly renovated bal
 cony lobby.\nLight fare and a ticket for 1st drink free included at th
 e Happy Hour.\n \nHow to order tickets:\nwww.mayoarts.org or (973) 53
 9-8008 and use code 12YP\n\nWho can attend:\nAny young professional, a
 ges 21 to 39.\n\nSchedule:\n7:00 Happy Hour\n8:00 Performance\n\nHow t
 o find the group:\nPre-show meet in newly renovated balcony lobby - us
 e front Theatre entrance for access to balcony lobby.\n\nDirections:\n
 http://www.mayoarts.org/parking.htm\n\nFor more information visit http
 ://njyp.org/events/manhattan-comedy-night-2
DTSTART;TZID=America/New_York:20111202T190000
DTEND;TZID=America/New_York:20111202T220000
CATEGORIES:"morris county", arts
LOCATION:Mayo Performing Arts Center
WEBSITE:http://www.mayoarts.org/
URL:http://www.mayoarts.org/
CONTACT:
ORGANIZER;CN="Brian and Mike":http://njyp.org/profile/BrianMike
ATTACH;FMTTYPE="image/jpeg":http://storage.ning.com/topology/rest/1.0/
 file/get/1088731566?profile=original
ATTENDEE;ROLE=REQ-PARTICIPANT;PARTSTAT=ACCEPTED;RSVP=TRUE;CN=John:http
 ://njyp.org/profile/John607
ATTENDEE;ROLE=REQ-PARTICIPANT;PARTSTAT=ACCEPTED;RSVP=TRUE;CN=Dejan:htt
 p://njyp.org/profile/Dejan
ATTENDEE;ROLE=REQ-PARTICIPANT;PARTSTAT=ACCEPTED;RSVP=TRUE;CN=Holly:htt
 p://njyp.org/profile/Holly767
ATTENDEE;ROLE=REQ-PARTICIPANT;PARTSTAT=ACCEPTED;RSVP=TRUE;CN="Brian an
 d Mike":http://njyp.org/profile/BrianMike
ATTENDEE;ROLE=REQ-PARTICIPANT;PARTSTAT=ACCEPTED;RSVP=TRUE;CN=Pieter:ht
 tp://njyp.org/profile/Pieter
ATTENDEE;ROLE=REQ-PARTICIPANT;PARTSTAT=ACCEPTED;RSVP=TRUE;CN=Anne:http
 ://njyp.org/profile/AnneMinkoff
ATTENDEE;ROLE=REQ-PARTICIPANT;PARTSTAT=TENTATIVE;RSVP=TRUE;CN=Monica:h
 ttp://njyp.org/profile/Monica421
ATTENDEE;ROLE=REQ-PARTICIPANT;PARTSTAT=TENTATIVE;RSVP=TRUE;CN=Kevin:ht
 tp://njyp.org/profile/Kevin84
ATTENDEE;ROLE=REQ-PARTICIPANT;PARTSTAT=TENTATIVE;RSVP=TRUE;CN="Isaac B
 earg":http://njyp.org/profile/IsaacBearg
ATTENDEE;ROLE=REQ-PARTICIPANT;PARTSTAT=TENTATIVE;RSVP=TRUE;CN=Amanda:h
 ttp://njyp.org/profile/Amanda710
ATTENDEE;ROLE=REQ-PARTICIPANT;PARTSTAT=TENTATIVE;RSVP=TRUE;CN=Dylan:ht
 tp://njyp.org/profile/Dylan
ATTENDEE;ROLE=REQ-PARTICIPANT;PARTSTAT=TENTATIVE;RSVP=TRUE;CN=Sara:htt
 p://njyp.org/profile/SaraLevenstein
ATTENDEE;ROLE=REQ-PARTICIPANT;PARTSTAT=TENTATIVE;RSVP=TRUE;CN=J:http:/
 /njyp.org/profile/Jaime639
END:VEVENT
END:VCALENDAR
