BEGIN:VCALENDAR
PRODID:NingEventWidget-v1
VERSION:2.0
METHOD:PUBLISH
BEGIN:VTIMEZONE
TZID:America/New_York
X-LIC-LOCATION:America/New_York
BEGIN:DAYLIGHT
TZOFFSETFROM:-0500
TZOFFSETTO:-0400
TZNAME:EDT
DTSTART:19700308T020000
RRULE:FREQ=YEARLY;BYMONTH=3;BYDAY=2SU
END:DAYLIGHT
BEGIN:STANDARD
TZOFFSETFROM:-0400
TZOFFSETTO:-0500
TZNAME:EST
DTSTART:19701101T020000
RRULE:FREQ=YEARLY;BYMONTH=11;BYDAY=1SU
END:STANDARD
END:VTIMEZONE
BEGIN:VEVENT
UID:2938326:Event:12283
DTSTAMP:20260421T134202Z
SUMMARY:Manhattan Comedy Night
DESCRIPTION:Laugh away the stress from your work week at The Community
  Theatre’s Manhattan Comedy Night on Friday, August 7th. Manhattan C
 omedy Night is an event that features 4-5 comics -- some have appeared
  on Comedy Central and Last Comic Standing. August 7th line-up is Rick
  Crom, Tom Cotter, Ray Ellen and Mike Burton.\n\nTickets:\nSpecial YP 
 Price $20 (No Joke! That’s a 20% savings off the original ticket pri
 ce.)\nCall (973) 539-8008 and mention code 10YPRO for the discounted t
 ickets\n\nConcessions is open at 7 pm for ticket holders that would li
 ke to come in, get drinks and hang-out.\n\nNJYPers will not be seated 
 together unless tickets are purchased together. Grab a friend or a gro
 up of friends and take advantage of the NJYP discount!\n\nDirections:\
 nThe Community Theatre's Website\n\nFor more information visit http://
 njyp.org/events/manhattan-comedy-night
DTSTART;TZID=America/New_York:20090807T200000
DTEND;TZID=America/New_York:20090807T220000
CATEGORIES:"morris county", arts
LOCATION:Community Theatre
WEBSITE:http://www.mayoarts.org/directions.htm
URL:http://www.mayoarts.org/directions.htm
CONTACT:
ORGANIZER;CN="Brian and Mike":http://njyp.org/profile/BrianMike
ATTACH;FMTTYPE="image/jpeg":http://storage.ning.com/topology/rest/1.0/
 file/get/1088546637?profile=original
ATTENDEE;ROLE=REQ-PARTICIPANT;PARTSTAT=ACCEPTED;RSVP=TRUE;CN="Brian an
 d Mike":http://njyp.org/profile/BrianMike
END:VEVENT
END:VCALENDAR
