BEGIN:VCALENDAR
PRODID:NingEventWidget-v1
VERSION:2.0
METHOD:PUBLISH
BEGIN:VTIMEZONE
TZID:America/New_York
X-LIC-LOCATION:America/New_York
BEGIN:DAYLIGHT
TZOFFSETFROM:-0500
TZOFFSETTO:-0400
TZNAME:EDT
DTSTART:19700308T020000
RRULE:FREQ=YEARLY;BYMONTH=3;BYDAY=2SU
END:DAYLIGHT
BEGIN:STANDARD
TZOFFSETFROM:-0400
TZOFFSETTO:-0500
TZNAME:EST
DTSTART:19701101T020000
RRULE:FREQ=YEARLY;BYMONTH=11;BYDAY=1SU
END:STANDARD
END:VTIMEZONE
BEGIN:VEVENT
UID:2938326:Event:712460
DTSTAMP:20260419T190426Z
SUMMARY:MBA Event in New York (Sponsored)
DESCRIPTION:REGISTER FOR FREE\nEXCLUSIVE FREE ENTRY: An MBA changes yo
 u, professionally and personally: Meet us in New York\nThe QS World MB
 A Tour New York will be making a stop at the Millennium Broadway Hote
 l on January 23rd from 1pm -6pm.  \nOur event is your opportunity to 
 meet with admissions directors from the top local and international bu
 siness schools, and network with top tier MBA alumni from Harvard, Wha
 rton and Columbia, who will share their study and career success stori
 es. As an attendee, you will be eligible to apply for exclusive MBA s
 cholarships worth $1.7M and attend panels and seminars to have all of 
 your MBA questions answered in one place.\n \nOur goal is to provide 
 ambitious professionals like you with the best tools in order to facil
 itate your personal and professional development. We ensure that you h
 ave access to top business schools and education experts to help make 
 this very important decision.\n Attending Business Schools Include: *W
 harton, *Harvard, *Columbia, Baruch College, New York Institute of Tec
 hnology,  Rutgers Univ., George Washington Univ.,  Boston Univ., SMU
  Cox, UC San Diego - Rady, Univ. of Arizona - Eller, Univ. of Maryland
 , Univ. of Miami, Southampton Business School and many more. *Represen
 ted by Alumni\n \nDuring this event you can:\n\nMeet face-to-face wit
 h admissions directors from top international and local b-schools\nApp
 ly for $1.7M of exclusive MBA scholarships to help finance your MBA\nN
 etwork with top tier MBA Alumni members from Harvard, Wharton and Colu
 mbia\nGain advice on the MBA essay, application and interview\nAttend 
 a Connect 1-2-1 forum to arrange personal meetings with a range of top
  business schools\nAttend an Executive MBA forum to learn more about s
 uitable study options for professionals with six or more years of work
  experience\nAttend an inspirational Women in Leadership forum for pro
 fessional women who are interested in pursuing an MBA\n\n \nEntry is 
 free for members of NJYP, but places are limited so make sure you Regi
 ster today. Present a copy of this email to obtain free entrance to th
 e event.\n \nRegistration Link: http://goo.gl/42GlAU\n\n\n\nFor more 
 information visit http://njyp.org/events/mba-event-in-new-york-sponsor
 ed
DTSTART;TZID=America/New_York:20160123T130000
DTEND;TZID=America/New_York:20160123T180000
CATEGORIES:mba
LOCATION:Millenium Broadway Hotel
WEBSITE:
URL:
CONTACT:
ORGANIZER:NJYP
ATTACH;FMTTYPE="image/jpeg":http://storage.ning.com/topology/rest/1.0/
 file/get/1089097430?profile=original
ATTENDEE;ROLE=REQ-PARTICIPANT;PARTSTAT=ACCEPTED;RSVP=TRUE;CN=Sonia:htt
 p://njyp.org/profile/Sonia889
ATTENDEE;ROLE=REQ-PARTICIPANT;PARTSTAT=ACCEPTED;RSVP=TRUE;CN="Michael 
 Park":http://njyp.org/profile/MichaelPark
ATTENDEE;ROLE=REQ-PARTICIPANT;PARTSTAT=ACCEPTED;RSVP=TRUE;CN="Brian Me
 lnick":http://njyp.org/profile/Brian1218
END:VEVENT
END:VCALENDAR
