BEGIN:VCALENDAR
PRODID:NingEventWidget-v1
VERSION:2.0
METHOD:PUBLISH
BEGIN:VTIMEZONE
TZID:America/New_York
X-LIC-LOCATION:America/New_York
BEGIN:DAYLIGHT
TZOFFSETFROM:-0500
TZOFFSETTO:-0400
TZNAME:EDT
DTSTART:19700308T020000
RRULE:FREQ=YEARLY;BYMONTH=3;BYDAY=2SU
END:DAYLIGHT
BEGIN:STANDARD
TZOFFSETFROM:-0400
TZOFFSETTO:-0500
TZNAME:EST
DTSTART:19701101T020000
RRULE:FREQ=YEARLY;BYMONTH=11;BYDAY=1SU
END:STANDARD
END:VTIMEZONE
BEGIN:VEVENT
UID:2938326:Event:287128
DTSTAMP:20260420T041115Z
SUMMARY:Mental Health Monday
DESCRIPTION:Dr. Kevin is offering free therapy sessions for Monday, 10
 .31.11.\n\nDr. Kevin is one of the only therapists in New Jersey who c
 oncentrates on Young Professionals. \nHe regularly sees clients who wo
 rry about changing careers, finding Mr/Ms. Right, making friends, turn
 ing 30, the Thrisis, and the Quarter-life Crisis.\n\nSessions are firs
 t come, first served so email DrKevin@DrKevinb.com to book.   \n \n
 As seen in Time Out New York\n\nAs heard on Your Time with Kim\n\nAs t
 he psychology expert throughout Your So-Called Life\n\n* Offer is for 
 new clients only and first come, first served.\n\nFor more information
  visit http://njyp.org/events/mental-health-monday-1
DTSTART;TZID=America/New_York:20111031T090000
DTEND;TZID=America/New_York:20111031T180000
CATEGORIES:"bergen county", educational
LOCATION:Dr. Kevin
WEBSITE:http://drkevinb.com/
URL:http://drkevinb.com/
CONTACT:
ORGANIZER;CN="Brian and Mike":http://njyp.org/profile/BrianMike
ATTACH;FMTTYPE="image/jpeg":http://storage.ning.com/topology/rest/1.0/
 file/get/1088723218?profile=original
ATTENDEE;ROLE=REQ-PARTICIPANT;PARTSTAT=ACCEPTED;RSVP=TRUE;CN="Brian an
 d Mike":http://njyp.org/profile/BrianMike
END:VEVENT
END:VCALENDAR
