BEGIN:VCALENDAR
PRODID:NingEventWidget-v1
VERSION:2.0
METHOD:PUBLISH
BEGIN:VTIMEZONE
TZID:America/New_York
X-LIC-LOCATION:America/New_York
BEGIN:DAYLIGHT
TZOFFSETFROM:-0500
TZOFFSETTO:-0400
TZNAME:EDT
DTSTART:19700308T020000
RRULE:FREQ=YEARLY;BYMONTH=3;BYDAY=2SU
END:DAYLIGHT
BEGIN:STANDARD
TZOFFSETFROM:-0400
TZOFFSETTO:-0500
TZNAME:EST
DTSTART:19701101T020000
RRULE:FREQ=YEARLY;BYMONTH=11;BYDAY=1SU
END:STANDARD
END:VTIMEZONE
BEGIN:VEVENT
UID:2938326:Event:79324
DTSTAMP:20260420T004229Z
SUMMARY:Monmouth Park Insider's Tour
DESCRIPTION:So sorry, this event has SOLD OUT. If you do not have a ti
 cket please do not show up at the door.\n\nYoung Professionals are hit
 ting the races! Join us for a private insider's tour of Monmouth Park.
  You ticket will include admission into the park, a meet and greet wit
 h a rider and a trainer, and a tour of the racing office. You will eve
 n learn some wagering strategies! After the tour all Members will sit 
 back together to watch the races and place bets!\n\n\n\nMember Cost:\n
 $5 online\n$10 at the door (if there is space)\n\nNon-Member Cost:\n$1
 0 online and at the door (if there is space)\n\nTickets:\nThere are a 
 limited number of Tickets for sale.\nTickets are not mailed, but your 
 name will be kept at the door. All sales are final.\n\nWho can attend:
 \nAnyone who is 21 to 39 year old; single or married.\n\nWeather:\nThi
 s event is rain or shine. Bring an umbrella if showers are expected bu
 t know there is PLENTY of cover on rainy days.\n\nFood and Drink:\nFoo
 d concessions will be open.\n\nDirections and Parking:\n“Picnic Area
 ” parking is free but if you want a closer spot the fee varies.\nhtt
 p://www.monmouthpark.com/content.aspx?id=245\n\nHow to Find the Group:
 \nMeet outside the Clubhouse entrance of Monmouth Park (south side of 
 the track), right by the will call booth where the cars drive up. If y
 ou miss our meeting time you will have to pay your way into the park s
 o please arrive on time.\n\nThis event is sponsored by Kenwood Racing!
 \n\n\nFor more information visit http://njyp.org/events/monmouth-park-
 insiders-tour
DTSTART;TZID=America/New_York:20100725T124500
DTEND;TZID=America/New_York:20100725T150000
CATEGORIES:"monmouth county", social, educational
LOCATION:Monmouth Park Racetrack
WEBSITE:http://www.monmouthpark.com/content.aspx?id=245
URL:http://www.monmouthpark.com/content.aspx?id=245
CONTACT:
ORGANIZER;CN="Brian and Mike":http://njyp.org/profile/BrianMike
ATTACH;FMTTYPE="image/jpeg":http://storage.ning.com/topology/rest/1.0/
 file/get/1088625716?profile=original
ATTENDEE;ROLE=REQ-PARTICIPANT;PARTSTAT=ACCEPTED;RSVP=TRUE;CN="Kokil Ch
 achra":http://njyp.org/profile/KokilChachra
ATTENDEE;ROLE=REQ-PARTICIPANT;PARTSTAT=ACCEPTED;RSVP=TRUE;CN=Leah:http
 ://njyp.org/profile/LeahZ
ATTENDEE;ROLE=REQ-PARTICIPANT;PARTSTAT=ACCEPTED;RSVP=TRUE;CN=Tim:http:
 //njyp.org/profile/Tim11
ATTENDEE;ROLE=REQ-PARTICIPANT;PARTSTAT=ACCEPTED;RSVP=TRUE;CN=Marisa:ht
 tp://njyp.org/profile/MarisaA
ATTENDEE;ROLE=REQ-PARTICIPANT;PARTSTAT=ACCEPTED;RSVP=TRUE;CN=Kelley:ht
 tp://njyp.org/profile/KelleyBoyle
ATTENDEE;ROLE=REQ-PARTICIPANT;PARTSTAT=ACCEPTED;RSVP=TRUE;CN=Michael:h
 ttp://njyp.org/profile/MichaelJRivetti
ATTENDEE;ROLE=REQ-PARTICIPANT;PARTSTAT=ACCEPTED;RSVP=TRUE;CN="Hermelin
 da Saez":http://njyp.org/profile/HermelindaSaez
ATTENDEE;ROLE=REQ-PARTICIPANT;PARTSTAT=ACCEPTED;RSVP=TRUE;CN=Alexandra
 :http://njyp.org/profile/Alexandra689
ATTENDEE;ROLE=REQ-PARTICIPANT;PARTSTAT=ACCEPTED;RSVP=TRUE;CN="Anu Khar
 e":http://njyp.org/profile/AnuKhare
ATTENDEE;ROLE=REQ-PARTICIPANT;PARTSTAT=ACCEPTED;RSVP=TRUE;CN="Amy A.":
 http://njyp.org/profile/AmyAnnette
ATTENDEE;ROLE=REQ-PARTICIPANT;PARTSTAT=ACCEPTED;RSVP=TRUE;CN=Dan:http:
 //njyp.org/profile/Dan886
ATTENDEE;ROLE=REQ-PARTICIPANT;PARTSTAT=ACCEPTED;RSVP=TRUE;CN=Belinda:h
 ttp://njyp.org/profile/Belinda
ATTENDEE;ROLE=REQ-PARTICIPANT;PARTSTAT=ACCEPTED;RSVP=TRUE;CN=Franco:ht
 tp://njyp.org/profile/Franco
ATTENDEE;ROLE=REQ-PARTICIPANT;PARTSTAT=ACCEPTED;RSVP=TRUE;CN="Heather 
 O'Brien":http://njyp.org/profile/HeatherOBrien
ATTENDEE;ROLE=REQ-PARTICIPANT;PARTSTAT=ACCEPTED;RSVP=TRUE;CN="NIcole V
 innal":http://njyp.org/profile/NIcoleVinnal
ATTENDEE;ROLE=REQ-PARTICIPANT;PARTSTAT=ACCEPTED;RSVP=TRUE;CN=Sarah:htt
 p://njyp.org/profile/SarahBeth
ATTENDEE;ROLE=REQ-PARTICIPANT;PARTSTAT=ACCEPTED;RSVP=TRUE;CN="Dave Don
 io":http://njyp.org/profile/DaveDonio
ATTENDEE;ROLE=REQ-PARTICIPANT;PARTSTAT=ACCEPTED;RSVP=TRUE;CN="Til Dall
 avalle":http://njyp.org/profile/TilDallavalle
ATTENDEE;ROLE=REQ-PARTICIPANT;PARTSTAT=ACCEPTED;RSVP=TRUE;CN="Neel Aro
 on":http://njyp.org/profile/NeelAroon
ATTENDEE;ROLE=REQ-PARTICIPANT;PARTSTAT=ACCEPTED;RSVP=TRUE;CN=Michele:h
 ttp://njyp.org/profile/MicheleEsposito
ATTENDEE;ROLE=REQ-PARTICIPANT;PARTSTAT=ACCEPTED;RSVP=TRUE;CN="Jenny Ma
 rie":http://njyp.org/profile/JennyMarie82
ATTENDEE;ROLE=REQ-PARTICIPANT;PARTSTAT=ACCEPTED;RSVP=TRUE;CN="Thomas B
 ozza":http://njyp.org/profile/ThomasBozza
ATTENDEE;ROLE=REQ-PARTICIPANT;PARTSTAT=ACCEPTED;RSVP=TRUE;CN="Mert D":
 http://njyp.org/profile/MertDAMLAPINAR
ATTENDEE;ROLE=REQ-PARTICIPANT;PARTSTAT=ACCEPTED;RSVP=TRUE;CN="Brian an
 d Mike":http://njyp.org/profile/BrianMike
ATTENDEE;ROLE=REQ-PARTICIPANT;PARTSTAT=TENTATIVE;RSVP=TRUE;CN=James:ht
 tp://njyp.org/profile/James846
ATTENDEE;ROLE=REQ-PARTICIPANT;PARTSTAT=TENTATIVE;RSVP=TRUE;CN="Elizabe
 th Epstein":http://njyp.org/profile/ElizabethRosenthal
ATTENDEE;ROLE=REQ-PARTICIPANT;PARTSTAT=TENTATIVE;RSVP=TRUE;CN=Diana:ht
 tp://njyp.org/profile/Diana
ATTENDEE;ROLE=REQ-PARTICIPANT;PARTSTAT=TENTATIVE;RSVP=TRUE;CN="Allison
  Froehlich":http://njyp.org/profile/AllisonFroehlich
ATTENDEE;ROLE=REQ-PARTICIPANT;PARTSTAT=TENTATIVE;RSVP=TRUE;CN=Jonathan
 :http://njyp.org/profile/Jonathan
ATTENDEE;ROLE=REQ-PARTICIPANT;PARTSTAT=TENTATIVE;RSVP=TRUE;CN=Laura:ht
 tp://njyp.org/profile/Laura668
ATTENDEE;ROLE=REQ-PARTICIPANT;PARTSTAT=TENTATIVE;RSVP=TRUE;CN="Maridy 
 Gamoso":http://njyp.org/profile/day
ATTENDEE;ROLE=REQ-PARTICIPANT;PARTSTAT=TENTATIVE;RSVP=TRUE;CN=Monika:h
 ttp://njyp.org/profile/MonikaSymms
ATTENDEE;ROLE=REQ-PARTICIPANT;PARTSTAT=TENTATIVE;RSVP=TRUE;CN=Nicole:h
 ttp://njyp.org/profile/NicolePace
ATTENDEE;ROLE=REQ-PARTICIPANT;PARTSTAT=TENTATIVE;RSVP=TRUE;CN=Jen:http
 ://njyp.org/profile/JenM
ATTENDEE;ROLE=REQ-PARTICIPANT;PARTSTAT=TENTATIVE;RSVP=TRUE;CN=MaryGrac
 e:http://njyp.org/profile/MaryGrace
ATTENDEE;ROLE=REQ-PARTICIPANT;PARTSTAT=TENTATIVE;RSVP=TRUE;CN="Lisa F"
 :http://njyp.org/profile/LisaF
ATTENDEE;ROLE=REQ-PARTICIPANT;PARTSTAT=TENTATIVE;RSVP=TRUE;CN="Nick Ol
 son":http://njyp.org/profile/NickOlson
ATTENDEE;ROLE=REQ-PARTICIPANT;PARTSTAT=TENTATIVE;RSVP=TRUE;CN="Alycia 
 Yerves":http://njyp.org/profile/AlyciaYerves
ATTENDEE;ROLE=REQ-PARTICIPANT;PARTSTAT=TENTATIVE;RSVP=TRUE;CN=Adam:htt
 p://njyp.org/profile/Adam780
ATTENDEE;ROLE=REQ-PARTICIPANT;PARTSTAT=TENTATIVE;RSVP=TRUE;CN="Jason S
 .":http://njyp.org/profile/JasonS
ATTENDEE;ROLE=REQ-PARTICIPANT;PARTSTAT=TENTATIVE;RSVP=TRUE;CN=Laura:ht
 tp://njyp.org/profile/LauraStrzelecki
ATTENDEE;ROLE=REQ-PARTICIPANT;PARTSTAT=TENTATIVE;RSVP=TRUE;CN=James:ht
 tp://njyp.org/profile/JamesShow
ATTENDEE;ROLE=REQ-PARTICIPANT;PARTSTAT=TENTATIVE;RSVP=TRUE;CN=Patricia
 :http://njyp.org/profile/TrishaOSha
ATTENDEE;ROLE=REQ-PARTICIPANT;PARTSTAT=TENTATIVE;RSVP=TRUE;CN=Kelly:ht
 tp://njyp.org/profile/Kelly234
ATTENDEE;ROLE=REQ-PARTICIPANT;PARTSTAT=TENTATIVE;RSVP=TRUE;CN="Kelly C
 ":http://njyp.org/profile/KellyC
ATTENDEE;ROLE=REQ-PARTICIPANT;PARTSTAT=TENTATIVE;RSVP=TRUE;CN="Laura L
 abriola":http://njyp.org/profile/LauraLabriola
ATTENDEE;ROLE=REQ-PARTICIPANT;PARTSTAT=TENTATIVE;RSVP=TRUE;CN="Joshua 
 Langweil":http://njyp.org/profile/JoshuaLangweil
ATTENDEE;ROLE=REQ-PARTICIPANT;PARTSTAT=TENTATIVE;RSVP=TRUE;CN="Ahmed U
 ddin":http://njyp.org/profile/AhmedUddin
ATTENDEE;ROLE=REQ-PARTICIPANT;PARTSTAT=TENTATIVE;RSVP=TRUE;CN="Jennife
 r Redmond":http://njyp.org/profile/JenniferRedmond
ATTENDEE;ROLE=REQ-PARTICIPANT;PARTSTAT=TENTATIVE;RSVP=TRUE;CN=Michelle
 :http://njyp.org/profile/MichelleB
ATTENDEE;ROLE=REQ-PARTICIPANT;PARTSTAT=TENTATIVE;RSVP=TRUE;CN="Jennife
 r L. Campbell":http://njyp.org/profile/JenniferLCampbell
ATTENDEE;ROLE=REQ-PARTICIPANT;PARTSTAT=TENTATIVE;RSVP=TRUE;CN="Michael
  E":http://njyp.org/profile/MichaelEverhart
ATTENDEE;ROLE=REQ-PARTICIPANT;PARTSTAT=TENTATIVE;RSVP=TRUE;CN="Christo
 pher Dingman":http://njyp.org/profile/ChristopherDingman
END:VEVENT
END:VCALENDAR
