BEGIN:VCALENDAR
PRODID:NingEventWidget-v1
VERSION:2.0
METHOD:PUBLISH
BEGIN:VTIMEZONE
TZID:America/New_York
X-LIC-LOCATION:America/New_York
BEGIN:DAYLIGHT
TZOFFSETFROM:-0500
TZOFFSETTO:-0400
TZNAME:EDT
DTSTART:19700308T020000
RRULE:FREQ=YEARLY;BYMONTH=3;BYDAY=2SU
END:DAYLIGHT
BEGIN:STANDARD
TZOFFSETFROM:-0400
TZOFFSETTO:-0500
TZNAME:EST
DTSTART:19701101T020000
RRULE:FREQ=YEARLY;BYMONTH=11;BYDAY=1SU
END:STANDARD
END:VTIMEZONE
BEGIN:VEVENT
UID:2938326:Event:166869
DTSTAMP:20260420T032333Z
SUMMARY:Monty Python's Spamalot
DESCRIPTION:Winner of the 2005 Tony Award for Best Musical, Monty Pyth
 on's Spamalot is the outrageous musical comedy lovingly ripped off fro
 m the big-screen comedy classic, Monty Python and The Holy Grail. Base
 d on the Tony-winning direction of Mike Nichols, with a book by Eric I
 dle and an entirely new score by the Grammy Award-winning team of Idle
  and John Du Prez, Spamalot follows the misadventures of King Arthur a
 nd his Knights of the Round Table as they embark on their quest for th
 e Holy Grail. It’s all here – flying cows, killer rabbits, tauntin
 g Frenchmen, beautiful show girls , and show-stopping musical numbers 
 – just a few of the reasons audiences everywhere are eating up Spama
 lot. The New Yorker calls Spamalot “a no-holds-barred smash hit,”
  and The Sunday Times declares that the show “raises silliness to an
  art form!”\n \nShow runs Tuesday, March 29, 2011 - Sunday, April 0
 3, 2011\n \nPRE-SPAMALOT DINNER SPECIAL: Theater Square Grill is off
 ering a special 3-course menu prior to all evening performances of Mo
 nty Python’s Spamalot. Only $50 per person, including appetizer, din
 ner entrée, dessert and coffee, tea or soft drink, inclusive of tip a
 nd tax. Call 1-888-GO-NJPAC to make your reservation now!\n\nPrior to 
 the performances of Monty Mython's Spamalot, ticket-holders are invit
 ed to a free Artisan Marketplace exhibition and sale in the Prudentia
 l Hall lobby. geek\n\nFor more information visit http://njyp.org/even
 ts/monty-pythons-spamalot
DTSTART;TZID=America/New_York:20110331T193000
DTEND;TZID=America/New_York:20110331T220000
CATEGORIES:"essex county", arts
LOCATION:NJPAC
WEBSITE:http://www.njpac.org/show_events_list.asp?shcode=15604
URL:http://www.njpac.org/show_events_list.asp?shcode=15604
CONTACT:
ORGANIZER;CN="Brian and Mike":http://njyp.org/profile/BrianMike
ATTACH;FMTTYPE="image/jpeg":http://storage.ning.com/topology/rest/1.0/
 file/get/1088686081?profile=original
ATTENDEE;ROLE=REQ-PARTICIPANT;PARTSTAT=ACCEPTED;RSVP=TRUE;CN=Meredith:
 http://njyp.org/profile/MeredithC
ATTENDEE;ROLE=REQ-PARTICIPANT;PARTSTAT=ACCEPTED;RSVP=TRUE;CN="Brian an
 d Mike":http://njyp.org/profile/BrianMike
ATTENDEE;ROLE=REQ-PARTICIPANT;PARTSTAT=TENTATIVE;RSVP=TRUE;CN=Erin:htt
 p://njyp.org/profile/ErinLen
ATTENDEE;ROLE=REQ-PARTICIPANT;PARTSTAT=TENTATIVE;RSVP=TRUE;CN=Robert:h
 ttp://njyp.org/profile/Robert367
END:VEVENT
END:VCALENDAR
