BEGIN:VCALENDAR
PRODID:NingEventWidget-v1
VERSION:2.0
METHOD:PUBLISH
BEGIN:VTIMEZONE
TZID:America/New_York
X-LIC-LOCATION:America/New_York
BEGIN:DAYLIGHT
TZOFFSETFROM:-0500
TZOFFSETTO:-0400
TZNAME:EDT
DTSTART:19700308T020000
RRULE:FREQ=YEARLY;BYMONTH=3;BYDAY=2SU
END:DAYLIGHT
BEGIN:STANDARD
TZOFFSETFROM:-0400
TZOFFSETTO:-0500
TZNAME:EST
DTSTART:19701101T020000
RRULE:FREQ=YEARLY;BYMONTH=11;BYDAY=1SU
END:STANDARD
END:VTIMEZONE
BEGIN:VEVENT
UID:2938326:Event:565759
DTSTAMP:20260420T235947Z
SUMMARY:Morristown Scavenger Hunt CANCELED
DESCRIPTION:This was canceled due to lack of interested. We needed at 
 least 15 tickets to sell 10 days prior to the event.\n\nThe Morristown
  Scavenger Hunt is part race, part contest, a dash of bar-crawl and a 
 big heap of fun! Picture yourself with 4 other teammates working your 
 way through downtown- collecting take-out menus, creating tomb stone r
 ubbings, or having your picture taking with one of Morristown's finest
 . Armed with a camera, smart phone and your wits, your team will earn 
 points for finding objects, snapping photos, and checking in to places
  via FourSquare or Facebook. Whether you come alone or create your own
  wolf pack, this promises to be an unforgettable good time!  Also: $50
 0+ prize package for the winning team! Make your own 5 person team or 
 let us create a team for you. Post-Race everyone will gather for a nea
 rby restaurant at the end of the Hunt for a late lunch, cool drinks, a
 nd story sharing!  Who can Participate: Young professionals, single or
  married, who are 21-39 years old. There will be 5 people per team. Le
 t us place you on a team or team up with friends.\n\nMember Cost: $10 
 EARLY BIRD $15 Online $20 the day of, at the door  Non-Member Cost: $2
 0 online and at the door  Tickets:\nThere are a limited number of Tick
 ets for sale. Tickets are not mailed, but your name will be kept at th
 e door. Event is rain or shine. All sales are final.  Optional Items t
 o Bring: Water bottles, a small backpack, good walking/running shoes, 
 smart phone, digital camera. Please try to leave purses at home as you
  may want to run around at times.  Directions and Initial Meeting Poin
 t: TBD\n\nFor more information visit http://njyp.org/events/morristown
 -scavenger-hunt-2
DTSTART;TZID=America/New_York:20140614T150000
DTEND;TZID=America/New_York:20140614T180000
CATEGORIES:"morris county", athletic, social
LOCATION:Downtown Morristown
WEBSITE:
URL:
CONTACT:
ORGANIZER;CN="Brian and Mike":http://njyp.org/profile/BrianMike
ATTACH;FMTTYPE="image/jpeg":http://storage.ning.com/topology/rest/1.0/
 file/get/1088780232?profile=original
ATTENDEE;ROLE=REQ-PARTICIPANT;PARTSTAT=ACCEPTED;RSVP=TRUE;CN=Kaitlyn:h
 ttp://njyp.org/profile/Kaitlyn390
ATTENDEE;ROLE=REQ-PARTICIPANT;PARTSTAT=ACCEPTED;RSVP=TRUE;CN=Matthew:h
 ttp://njyp.org/profile/Matthew32
ATTENDEE;ROLE=REQ-PARTICIPANT;PARTSTAT=ACCEPTED;RSVP=TRUE;CN=Melanie:h
 ttp://njyp.org/profile/Melanie457
ATTENDEE;ROLE=REQ-PARTICIPANT;PARTSTAT=ACCEPTED;RSVP=TRUE;CN=Katie:htt
 p://njyp.org/profile/Katie743
ATTENDEE;ROLE=REQ-PARTICIPANT;PARTSTAT=ACCEPTED;RSVP=TRUE;CN=John:http
 ://njyp.org/profile/John607
ATTENDEE;ROLE=REQ-PARTICIPANT;PARTSTAT=ACCEPTED;RSVP=TRUE;CN="Brian an
 d Mike":http://njyp.org/profile/BrianMike
ATTENDEE;ROLE=REQ-PARTICIPANT;PARTSTAT=TENTATIVE;RSVP=TRUE;CN=Jose:htt
 p://njyp.org/profile/JoseRebustesIII
ATTENDEE;ROLE=REQ-PARTICIPANT;PARTSTAT=TENTATIVE;RSVP=TRUE;CN=Rickie:h
 ttp://njyp.org/profile/Rickie
ATTENDEE;ROLE=REQ-PARTICIPANT;PARTSTAT=TENTATIVE;RSVP=TRUE;CN="Avantik
 a Mukherjee":http://njyp.org/profile/AvantikaMukherjee
ATTENDEE;ROLE=REQ-PARTICIPANT;PARTSTAT=TENTATIVE;RSVP=TRUE;CN=Nikita:h
 ttp://njyp.org/profile/NikitaGohel
ATTENDEE;ROLE=REQ-PARTICIPANT;PARTSTAT=TENTATIVE;RSVP=TRUE;CN="Lorrain
 e Weitz":http://njyp.org/profile/LorraineWeitz
ATTENDEE;ROLE=REQ-PARTICIPANT;PARTSTAT=TENTATIVE;RSVP=TRUE;CN=Julie:ht
 tp://njyp.org/profile/Julie942
ATTENDEE;ROLE=REQ-PARTICIPANT;PARTSTAT=TENTATIVE;RSVP=TRUE;CN=Vishal:h
 ttp://njyp.org/profile/Vishal
END:VEVENT
END:VCALENDAR
