BEGIN:VCALENDAR
PRODID:NingEventWidget-v1
VERSION:2.0
METHOD:PUBLISH
BEGIN:VTIMEZONE
TZID:America/New_York
X-LIC-LOCATION:America/New_York
BEGIN:DAYLIGHT
TZOFFSETFROM:-0500
TZOFFSETTO:-0400
TZNAME:EDT
DTSTART:19700308T020000
RRULE:FREQ=YEARLY;BYMONTH=3;BYDAY=2SU
END:DAYLIGHT
BEGIN:STANDARD
TZOFFSETFROM:-0400
TZOFFSETTO:-0500
TZNAME:EST
DTSTART:19701101T020000
RRULE:FREQ=YEARLY;BYMONTH=11;BYDAY=1SU
END:STANDARD
END:VTIMEZONE
BEGIN:VEVENT
UID:2938326:Event:356790
DTSTAMP:20260422T051153Z
SUMMARY:Morristown Veg Out
DESCRIPTION:Amuse your palate with some fresh vegetarian cuisine!Â Â Â
  Join us for another Veg Out, where NJYPers check out some of the hott
 est, veggie-friendly eateries across the counties.Â Â At this memberâ€
 ™s only event, you only pay for what you order (no matter how much or 
 how little).Â Â Remember, Veg Outs arenâ€™t only for vegetarians- any 
 NJYP omnivore with an open mind and an empty stomach is welcome.Â   Wh
 o Can Attend: This will be a Members only event, aka you paid your Mem
 bership Dues. You MUST RSVP if you wish to attend. If you RSVP and no-
 show you will be barred from future Veg-Out events.  Cost (paid at the
  door):$20 plus tax and tip for a 3 course dinner. BYOB of wine to sha
 re.\n NJYP Host: Lori will be hosting this event.  Finding the Group: 
 Ask for NJYP once you arrive and/or look for signs. We will have reser
 vation.  Directions:http://www.pamirrestaurant.com/\n\nFor more inform
 ation visit http://njyp.org/events/morristown-veg-out
DTSTART;TZID=America/New_York:20120620T183000
DTEND;TZID=America/New_York:20120620T203000
CATEGORIES:"morris county", social
LOCATION:Pamir Restaurant
WEBSITE:http://www.pamirrestaurant.com/
URL:http://www.pamirrestaurant.com/
CONTACT:
ORGANIZER;CN="Brian and Mike":http://njyp.org/profile/BrianMike
ATTACH;FMTTYPE="image/jpeg":http://storage.ning.com/topology/rest/1.0/
 file/get/1088593878?profile=original
ATTENDEE;ROLE=REQ-PARTICIPANT;PARTSTAT=ACCEPTED;RSVP=TRUE;CN=Christine
 :http://njyp.org/profile/Christine248
ATTENDEE;ROLE=REQ-PARTICIPANT;PARTSTAT=ACCEPTED;RSVP=TRUE;CN=William:h
 ttp://njyp.org/profile/WilliamSevchuk
ATTENDEE;ROLE=REQ-PARTICIPANT;PARTSTAT=ACCEPTED;RSVP=TRUE;CN=Rishi:htt
 p://njyp.org/profile/Rishi419
ATTENDEE;ROLE=REQ-PARTICIPANT;PARTSTAT=ACCEPTED;RSVP=TRUE;CN=Arpan:htt
 p://njyp.org/profile/Arpan
ATTENDEE;ROLE=REQ-PARTICIPANT;PARTSTAT=ACCEPTED;RSVP=TRUE;CN=Kevin:htt
 p://njyp.org/profile/Kevin84
ATTENDEE;ROLE=REQ-PARTICIPANT;PARTSTAT=ACCEPTED;RSVP=TRUE;CN=Kalpana:h
 ttp://njyp.org/profile/Kalpana
ATTENDEE;ROLE=REQ-PARTICIPANT;PARTSTAT=ACCEPTED;RSVP=TRUE;CN=Larry:htt
 p://njyp.org/profile/LarryYang
ATTENDEE;ROLE=REQ-PARTICIPANT;PARTSTAT=ACCEPTED;RSVP=TRUE;CN=Priya:htt
 p://njyp.org/profile/Priya
ATTENDEE;ROLE=REQ-PARTICIPANT;PARTSTAT=ACCEPTED;RSVP=TRUE;CN=Nita:http
 ://njyp.org/profile/NitaSilimkhan
ATTENDEE;ROLE=REQ-PARTICIPANT;PARTSTAT=ACCEPTED;RSVP=TRUE;CN=Shweta:ht
 tp://njyp.org/profile/Shweta
ATTENDEE;ROLE=REQ-PARTICIPANT;PARTSTAT=TENTATIVE;RSVP=TRUE;CN=MISTI:ht
 tp://njyp.org/profile/MISTI
ATTENDEE;ROLE=REQ-PARTICIPANT;PARTSTAT=TENTATIVE;RSVP=TRUE;CN=NorthNJD
 avid:http://njyp.org/profile/NorthNJDavid
END:VEVENT
END:VCALENDAR
