BEGIN:VCALENDAR
PRODID:NingEventWidget-v1
VERSION:2.0
METHOD:PUBLISH
BEGIN:VTIMEZONE
TZID:America/New_York
X-LIC-LOCATION:America/New_York
BEGIN:DAYLIGHT
TZOFFSETFROM:-0500
TZOFFSETTO:-0400
TZNAME:EDT
DTSTART:19700308T020000
RRULE:FREQ=YEARLY;BYMONTH=3;BYDAY=2SU
END:DAYLIGHT
BEGIN:STANDARD
TZOFFSETFROM:-0400
TZOFFSETTO:-0500
TZNAME:EST
DTSTART:19701101T020000
RRULE:FREQ=YEARLY;BYMONTH=11;BYDAY=1SU
END:STANDARD
END:VTIMEZONE
BEGIN:VEVENT
UID:2938326:Event:664076
DTSTAMP:20260419T172127Z
SUMMARY:My First Time: New Brunswick
DESCRIPTION:New to NJYP but don’t know where to jump in? Get your to
 es wet at My First Time, a special event created just for our beloved 
 newbies. We know first events can be intimidating, especially when you
 ’re surrounded by folks who are already friends. At My First Time, t
 he crowd will be filled with NJYP novices looking to meet new people. 
 There’ll be drink specials and light bites to get the conversation f
 lowing. In addition, a handful of veterans will be hanging out, ready 
 to share pearls of NJYP wisdom and maybe event tell an embarrassing st
 ory or two about their first time.\n \nWho can attend: Anyone who has
  been to 3 events or less. Veteran NJYP Members who are super social a
 nd ready to mingle (limited tickets).\n \nSpecials: Half priced drink
 s the first hour. Please bring cash.  Glo takes credit cards but the 
 minimum amount is high.\n \n\n\n\nMember Cost: $5 online $10 the day 
 of and at the door\n\nNon-Member Cost: $10 online and at the door\n \
 nTickets: There are a limited number of Tickets for sale. Tickets are 
 not mailed, but your name will be kept at the door. All sales are fina
 l.\n \nDress Code: Coming right from work? Business casual will do ju
 st fine. No caps, sneakers, t-shirts. We recommend collared shirts for
  men and/or blazers.\n\nDirections: http://www.glonj.com Large parking
  deck on Paterson Street.\n\nFinding the Party: We will be the only on
 es at Glo.\n\nFor more information visit http://njyp.org/events/my-fir
 st-time-new-brunswick
DTSTART;TZID=America/New_York:20150507T190000
DTEND;TZID=America/New_York:20150507T210000
CATEGORIES:"middlesex county", social, members
LOCATION:Glo Lounge
WEBSITE:http://www.glonj.com/
URL:http://www.glonj.com/
CONTACT:
ORGANIZER;CN="Brian and Mike":http://njyp.org/profile/BrianMike
ATTACH;FMTTYPE="image/jpeg":http://storage.ning.com/topology/rest/1.0/
 file/get/1088920085?profile=original
ATTENDEE;ROLE=REQ-PARTICIPANT;PARTSTAT=ACCEPTED;RSVP=TRUE;CN=James:htt
 p://njyp.org/profile/JamesShow
ATTENDEE;ROLE=REQ-PARTICIPANT;PARTSTAT=ACCEPTED;RSVP=TRUE;CN=Craig:htt
 p://njyp.org/profile/3c8nlhjvp3rsx
ATTENDEE;ROLE=REQ-PARTICIPANT;PARTSTAT=ACCEPTED;RSVP=TRUE;CN=Eric:http
 ://njyp.org/profile/Eric195
ATTENDEE;ROLE=REQ-PARTICIPANT;PARTSTAT=ACCEPTED;RSVP=TRUE;CN=Jules:htt
 p://njyp.org/profile/Jules69
ATTENDEE;ROLE=REQ-PARTICIPANT;PARTSTAT=ACCEPTED;RSVP=TRUE;CN=Ant:http:
 //njyp.org/profile/AnthonyAgonias
ATTENDEE;ROLE=REQ-PARTICIPANT;PARTSTAT=ACCEPTED;RSVP=TRUE;CN=Hoa:http:
 //njyp.org/profile/Hoa
ATTENDEE;ROLE=REQ-PARTICIPANT;PARTSTAT=ACCEPTED;RSVP=TRUE;CN=Jake:http
 ://njyp.org/profile/3cavr4wcnsw0a
ATTENDEE;ROLE=REQ-PARTICIPANT;PARTSTAT=ACCEPTED;RSVP=TRUE;CN=Chuck:htt
 p://njyp.org/profile/Chuck694
ATTENDEE;ROLE=REQ-PARTICIPANT;PARTSTAT=ACCEPTED;RSVP=TRUE;CN=Deep:http
 ://njyp.org/profile/Deep
ATTENDEE;ROLE=REQ-PARTICIPANT;PARTSTAT=ACCEPTED;RSVP=TRUE;CN="David Be
 nyola II":http://njyp.org/profile/DavidBenyolaII
ATTENDEE;ROLE=REQ-PARTICIPANT;PARTSTAT=ACCEPTED;RSVP=TRUE;CN=Monesh:ht
 tp://njyp.org/profile/Monesh
ATTENDEE;ROLE=REQ-PARTICIPANT;PARTSTAT=ACCEPTED;RSVP=TRUE;CN=Nicole:ht
 tp://njyp.org/profile/Nicole267
ATTENDEE;ROLE=REQ-PARTICIPANT;PARTSTAT=ACCEPTED;RSVP=TRUE;CN=Ashley:ht
 tp://njyp.org/profile/Ashley546
ATTENDEE;ROLE=REQ-PARTICIPANT;PARTSTAT=ACCEPTED;RSVP=TRUE;CN=Philippa:
 http://njyp.org/profile/Philippa
ATTENDEE;ROLE=REQ-PARTICIPANT;PARTSTAT=ACCEPTED;RSVP=TRUE;CN=Kevin:htt
 p://njyp.org/profile/Kevin164
ATTENDEE;ROLE=REQ-PARTICIPANT;PARTSTAT=ACCEPTED;RSVP=TRUE;CN=Enrique:h
 ttp://njyp.org/profile/Enrique
ATTENDEE;ROLE=REQ-PARTICIPANT;PARTSTAT=ACCEPTED;RSVP=TRUE;CN=Colleen:h
 ttp://njyp.org/profile/Colleen52
ATTENDEE;ROLE=REQ-PARTICIPANT;PARTSTAT=ACCEPTED;RSVP=TRUE;CN="Brian an
 d Mike":http://njyp.org/profile/BrianMike
ATTENDEE;ROLE=REQ-PARTICIPANT;PARTSTAT=TENTATIVE;RSVP=TRUE;CN=Michael:
 http://njyp.org/profile/Michael706
ATTENDEE;ROLE=REQ-PARTICIPANT;PARTSTAT=TENTATIVE;RSVP=TRUE;CN="Michell
 e Brusyo":http://njyp.org/profile/MichelleBrusyo
ATTENDEE;ROLE=REQ-PARTICIPANT;PARTSTAT=TENTATIVE;RSVP=TRUE;CN=Robert:h
 ttp://njyp.org/profile/Robert882
ATTENDEE;ROLE=REQ-PARTICIPANT;PARTSTAT=TENTATIVE;RSVP=TRUE;CN=Kenisha:
 http://njyp.org/profile/Kenisha
ATTENDEE;ROLE=REQ-PARTICIPANT;PARTSTAT=TENTATIVE;RSVP=TRUE;CN=Sagar:ht
 tp://njyp.org/profile/Sagar
ATTENDEE;ROLE=REQ-PARTICIPANT;PARTSTAT=TENTATIVE;RSVP=TRUE;CN=Allison:
 http://njyp.org/profile/Allison220
END:VEVENT
END:VCALENDAR
