BEGIN:VCALENDAR
PRODID:NingEventWidget-v1
VERSION:2.0
METHOD:PUBLISH
BEGIN:VTIMEZONE
TZID:America/New_York
X-LIC-LOCATION:America/New_York
BEGIN:DAYLIGHT
TZOFFSETFROM:-0500
TZOFFSETTO:-0400
TZNAME:EDT
DTSTART:19700308T020000
RRULE:FREQ=YEARLY;BYMONTH=3;BYDAY=2SU
END:DAYLIGHT
BEGIN:STANDARD
TZOFFSETFROM:-0400
TZOFFSETTO:-0500
TZNAME:EST
DTSTART:19701101T020000
RRULE:FREQ=YEARLY;BYMONTH=11;BYDAY=1SU
END:STANDARD
END:VTIMEZONE
BEGIN:VEVENT
UID:2938326:Event:111025
DTSTAMP:20260421T202952Z
SUMMARY:Nate Berkus Show in NYC
DESCRIPTION:Canceled due to lack of interest.\n\nWe have been given gr
 oup tickets to see The Nate Berkus Show! Need I say more???\n\nPlease 
 note admission is not guaranteed & the show can cancel at anytime. Yup
 , you can get all the way to our meeting point and not even get to see
  the show. On the rare chance this happens we’ll head out for drinks
  and a late lunch and still have a blast!\n\n\n\nCost:\nComplimentary 
 but you MUST put down a deposit to attend. Deposits will be returned i
 f you show up at the door. Why? Tickets are limited and deposits help 
 keep people accountable.\nIf you cannot attend email Laura@NJYP.org 11
 .17.10 at 12pm to cancel and get a refund.\n\nSchedule:\n12:45 Meet ou
 tside at 533 W 57th St, between 10th and 11th Avenues (right under whe
 re you see 533 on the side of the building)\n1:00 We will walk over wi
 th the group to get on line for the show\n2:45 Show begins\n4:45 Show 
 ends\n5:00 Happy Hour on our own (TBD location)\n\nWho Can Attend:\nYo
 u MUST be a paid Member of NJYP to attend.\n\nWhat to bring:\nA photo 
 I.D (i.e., a State ID, driver’s license or Passport) is required for
  entry.\n\nWhat to NOT bring:\nCameras, cell phones and recording equi
 pment are not permitted in the studio.\nPlease downsize as much as pos
 sible. No luggage will be accepted.\n\nWhat to Wear:\nAll audience mem
 bers may appear on camera so DRESS TO IMPRESS! NATE LOVES BRIGHT COLOR
 S - SO WEAR YOUR BEST AND BRIGHTEST – They photograph best and we as
 k that you please refrain from wearing anything all white. We all know
  that Nate has great style and we expect the same from you! Think Chic
 ! Absolutely NO athletic attire or sweatsuits, sneakers, oversized jea
 ns, hats, sunglasses, shorts, t-shirts with logos, busy patterns or ca
 sual tank tops will be permitted in the studio. Men should wear nice p
 ants with a button-down shirt, sweater, or blazer.\n\nHow to Find the 
 Group:\nAt 12:45pm meet outside at 533 W 57th Street right under where
  it says 533 on the side of the building. This meeting time is strict 
 so please arrive on time.\n\n\n\nFor more information visit http://njy
 p.org/events/nate-berkus-show-in-nyc
DTSTART;TZID=America/New_York:20101118T124500
DTEND;TZID=America/New_York:20101118T164500
CATEGORIES:"hudson county", social, educational
LOCATION:Meet Outside
WEBSITE:http://www.thenateshow.com/
URL:http://www.thenateshow.com/
CONTACT:
ORGANIZER;CN="Brian and Mike":http://njyp.org/profile/BrianMike
ATTACH;FMTTYPE="image/jpeg":http://storage.ning.com/topology/rest/1.0/
 file/get/1088653131?profile=original
ATTENDEE;ROLE=REQ-PARTICIPANT;PARTSTAT=ACCEPTED;RSVP=TRUE;CN="Brian an
 d Mike":http://njyp.org/profile/BrianMike
ATTENDEE;ROLE=REQ-PARTICIPANT;PARTSTAT=TENTATIVE;RSVP=TRUE;CN="Lynn Ad
 amo":http://njyp.org/profile/LynnAdamo
ATTENDEE;ROLE=REQ-PARTICIPANT;PARTSTAT=TENTATIVE;RSVP=TRUE;CN="Jennife
 r Redmond":http://njyp.org/profile/JenniferRedmond
ATTENDEE;ROLE=REQ-PARTICIPANT;PARTSTAT=TENTATIVE;RSVP=TRUE;CN=Vincenza
 :http://njyp.org/profile/Vincenza
END:VEVENT
END:VCALENDAR
