BEGIN:VCALENDAR
PRODID:NingEventWidget-v1
VERSION:2.0
METHOD:PUBLISH
BEGIN:VTIMEZONE
TZID:America/New_York
X-LIC-LOCATION:America/New_York
BEGIN:DAYLIGHT
TZOFFSETFROM:-0500
TZOFFSETTO:-0400
TZNAME:EDT
DTSTART:19700308T020000
RRULE:FREQ=YEARLY;BYMONTH=3;BYDAY=2SU
END:DAYLIGHT
BEGIN:STANDARD
TZOFFSETFROM:-0400
TZOFFSETTO:-0500
TZNAME:EST
DTSTART:19701101T020000
RRULE:FREQ=YEARLY;BYMONTH=11;BYDAY=1SU
END:STANDARD
END:VTIMEZONE
BEGIN:VEVENT
UID:2938326:Event:707492
DTSTAMP:20260420T013728Z
SUMMARY:Naughty and Nice Holiday Party in New Brunswick
DESCRIPTION:Update: 65 attendees!Â \nMember Cost:Â $8 early bird onlin
 e (until 12/12) $10 online (12/13-12/19); $15 at the door\nNon-Member 
 Cost:Â $20 online and at the door.\nSpecials:Â Something Naughty and N
 ice! All night: $6 Mint Kiss Martiniâ€™s, $4 Domestics  Until 9PM: $5 
 mixed drinksÂ \nJoin us for some holidayÂ cheerÂ at our annualÂ Naught
 y and NiceÂ Holiday Party â€“ because who says you canâ€™t be both? Th
 ere will be festiveÂ cocktails, sweetÂ treatsÂ and bigÂ crowdÂ of YPs,
  so come ready to eat, drink, and be merry! Women, don yourÂ best holi
 day dress, and men, follow suit in a handsomeÂ tieÂ orÂ blazer. As the
  lights get low and theÂ musicÂ is turned up, we will fill theÂ danceÂ
  floor withÂ naughty and nice and everything in between.\nÂ \nWho Can 
 Attend:Â Single and married Members of NJYP and their guests. This is 
 a private event that is not open to the public.\n\nDress Code:Â Women-
  Party dresses or dark wash jeans paired with a trendy top and cute sh
 oes. Men- Collared shirts are a must. Pair it with a tie or a blazer (
 or wear both).\n\nFinding us:Â We will have the entire club to ourselv
 es.\n\nDirections/Parking:Â Public Parking Garages and Lots. http://ww
 w.perlenj.com/contact/\n\n\nFor more information visit http://njyp.org
 /events/naughty-and-nice-holiday-party-in-new-brunswick
DTSTART;TZID=America/New_York:20151219T200000
DTEND;TZID=America/New_York:20151219T220000
CATEGORIES:"middlesex county", social, holiday
LOCATION:Perle
WEBSITE:http://www.perlenj.com/
URL:http://www.perlenj.com/
CONTACT:Brian Melnick
ORGANIZER;CN="Michael Park":http://njyp.org/profile/MichaelPark
ATTACH;FMTTYPE="image/jpeg":http://storage.ning.com/topology/rest/1.0/
 file/get/1089025790?profile=original
ATTENDEE;ROLE=REQ-PARTICIPANT;PARTSTAT=ACCEPTED;RSVP=TRUE;CN=Joseph:ht
 tp://njyp.org/profile/JosephTakach
ATTENDEE;ROLE=REQ-PARTICIPANT;PARTSTAT=ACCEPTED;RSVP=TRUE;CN="Daniel L
 ouis Masiello":http://njyp.org/profile/Dan339
ATTENDEE;ROLE=REQ-PARTICIPANT;PARTSTAT=ACCEPTED;RSVP=TRUE;CN="Rashee V
 asudeva":http://njyp.org/profile/RasheeVasudeva
ATTENDEE;ROLE=REQ-PARTICIPANT;PARTSTAT=ACCEPTED;RSVP=TRUE;CN=Jonathan:
 http://njyp.org/profile/Jonathan590
ATTENDEE;ROLE=REQ-PARTICIPANT;PARTSTAT=ACCEPTED;RSVP=TRUE;CN=Anthony:h
 ttp://njyp.org/profile/Anthony194
ATTENDEE;ROLE=REQ-PARTICIPANT;PARTSTAT=ACCEPTED;RSVP=TRUE;CN="Brian Me
 lnick":http://njyp.org/profile/Brian1218
ATTENDEE;ROLE=REQ-PARTICIPANT;PARTSTAT=ACCEPTED;RSVP=TRUE;CN=Mike:http
 ://njyp.org/profile/Mike568
ATTENDEE;ROLE=REQ-PARTICIPANT;PARTSTAT=ACCEPTED;RSVP=TRUE;CN=KEVIN:htt
 p://njyp.org/profile/KEVIN511
ATTENDEE;ROLE=REQ-PARTICIPANT;PARTSTAT=ACCEPTED;RSVP=TRUE;CN=Jerome:ht
 tp://njyp.org/profile/Jerome
ATTENDEE;ROLE=REQ-PARTICIPANT;PARTSTAT=ACCEPTED;RSVP=TRUE;CN=Bhunita:h
 ttp://njyp.org/profile/Bhunita
ATTENDEE;ROLE=REQ-PARTICIPANT;PARTSTAT=ACCEPTED;RSVP=TRUE;CN="Thomas R
 ietzl":http://njyp.org/profile/ThomasRietzl
ATTENDEE;ROLE=REQ-PARTICIPANT;PARTSTAT=ACCEPTED;RSVP=TRUE;CN=Imran:htt
 p://njyp.org/profile/Imran939
ATTENDEE;ROLE=REQ-PARTICIPANT;PARTSTAT=ACCEPTED;RSVP=TRUE;CN=Jason:htt
 p://njyp.org/profile/Jasonnn
ATTENDEE;ROLE=REQ-PARTICIPANT;PARTSTAT=ACCEPTED;RSVP=TRUE;CN=Nana:http
 ://njyp.org/profile/Ama
ATTENDEE;ROLE=REQ-PARTICIPANT;PARTSTAT=ACCEPTED;RSVP=TRUE;CN="Jeffrey 
 Key":http://njyp.org/profile/JeffreyKey
ATTENDEE;ROLE=REQ-PARTICIPANT;PARTSTAT=ACCEPTED;RSVP=TRUE;CN=Tiffany:h
 ttp://njyp.org/profile/Tiffany903
ATTENDEE;ROLE=REQ-PARTICIPANT;PARTSTAT=ACCEPTED;RSVP=TRUE;CN=Jeannette
 :http://njyp.org/profile/Jeannette
ATTENDEE;ROLE=REQ-PARTICIPANT;PARTSTAT=ACCEPTED;RSVP=TRUE;CN=Katie:htt
 p://njyp.org/profile/Katie950
ATTENDEE;ROLE=REQ-PARTICIPANT;PARTSTAT=ACCEPTED;RSVP=TRUE;CN=Deep:http
 ://njyp.org/profile/Deep
ATTENDEE;ROLE=REQ-PARTICIPANT;PARTSTAT=ACCEPTED;RSVP=TRUE;CN=Anjali:ht
 tp://njyp.org/profile/Anjali841
ATTENDEE;ROLE=REQ-PARTICIPANT;PARTSTAT=ACCEPTED;RSVP=TRUE;CN="Chintan 
 Kamdar":http://njyp.org/profile/Chintan
ATTENDEE;ROLE=REQ-PARTICIPANT;PARTSTAT=ACCEPTED;RSVP=TRUE;CN=Ashley:ht
 tp://njyp.org/profile/Ashley546
ATTENDEE;ROLE=REQ-PARTICIPANT;PARTSTAT=ACCEPTED;RSVP=TRUE;CN="Michael 
 Park":http://njyp.org/profile/MichaelPark
ATTENDEE;ROLE=REQ-PARTICIPANT;PARTSTAT=TENTATIVE;RSVP=TRUE;CN=Jennie:h
 ttp://njyp.org/profile/junglebunnie
ATTENDEE;ROLE=REQ-PARTICIPANT;PARTSTAT=TENTATIVE;RSVP=TRUE;CN=Heather:
 http://njyp.org/profile/Heather463
ATTENDEE;ROLE=REQ-PARTICIPANT;PARTSTAT=TENTATIVE;RSVP=TRUE;CN=Meg:http
 ://njyp.org/profile/Meg427
ATTENDEE;ROLE=REQ-PARTICIPANT;PARTSTAT=TENTATIVE;RSVP=TRUE;CN=Tim:http
 ://njyp.org/profile/Tim297
ATTENDEE;ROLE=REQ-PARTICIPANT;PARTSTAT=TENTATIVE;RSVP=TRUE;CN=Tony:htt
 p://njyp.org/profile/Tony609
ATTENDEE;ROLE=REQ-PARTICIPANT;PARTSTAT=TENTATIVE;RSVP=TRUE;CN="Janet S
 tevens":http://njyp.org/profile/JanetStevens
ATTENDEE;ROLE=REQ-PARTICIPANT;PARTSTAT=TENTATIVE;RSVP=TRUE;CN=Kevin:ht
 tp://njyp.org/profile/Kevin164
ATTENDEE;ROLE=REQ-PARTICIPANT;PARTSTAT=TENTATIVE;RSVP=TRUE;CN="Kevin H
 aughwout":http://njyp.org/profile/KevinHaughwout
ATTENDEE;ROLE=REQ-PARTICIPANT;PARTSTAT=TENTATIVE;RSVP=TRUE;CN=Megs:htt
 p://njyp.org/profile/Megs
END:VEVENT
END:VCALENDAR
