BEGIN:VCALENDAR
PRODID:NingEventWidget-v1
VERSION:2.0
METHOD:PUBLISH
BEGIN:VTIMEZONE
TZID:America/New_York
X-LIC-LOCATION:America/New_York
BEGIN:DAYLIGHT
TZOFFSETFROM:-0500
TZOFFSETTO:-0400
TZNAME:EDT
DTSTART:19700308T020000
RRULE:FREQ=YEARLY;BYMONTH=3;BYDAY=2SU
END:DAYLIGHT
BEGIN:STANDARD
TZOFFSETFROM:-0400
TZOFFSETTO:-0500
TZNAME:EST
DTSTART:19701101T020000
RRULE:FREQ=YEARLY;BYMONTH=11;BYDAY=1SU
END:STANDARD
END:VTIMEZONE
BEGIN:VEVENT
UID:2938326:Event:736849
DTSTAMP:20260420T133948Z
SUMMARY:Single Mingle in New Brunswick
DESCRIPTION:\r\nSingle Mingles bring together those who are YOUNG, P
 ROFESSIONAL, and, most importantly, UNATTACHED. This event runs on yo
 ur charm and finesse, so come out ready to impress! Make new friends, 
 exchange a few numbers, and stay out late.\r\nCome for a night of grea
 t drink and appetizer specials at Kasai!\r\nMember Cost: $5 vs. $10 at
  the door\r\nNon-Member Cost: $10 vs. $15 at the door\r\n\r\nDrink Spe
 cials: $5 House mixed drinks, $3 domestic beer, $4 import beer, $5 h
 ouse wine.  Who can attend: Young professionals, single, who are 21-39
  years of age.  Tickets: There are a limited number of Tickets for sal
 e. Tickets are not mailed, but your name will be kept at the door. All
  sales are final.\r\nFinding us: We will be in the private area upsta
 irs.\n\nFor more information visit http://njyp.org/events/nb06222018si
 nglemingle
DTSTART;TZID=America/New_York:20180622T200000
DTEND;TZID=America/New_York:20180622T220000
CATEGORIES:"morris county", social, winter, feel, good, friday, mingle
 , party
LOCATION:Kasai Restaurant, Sushi, Ultralounge
WEBSITE:
URL:
CONTACT:
ORGANIZER;CN="Brian Melnick":http://njyp.org/profile/Brian1218
ATTACH;FMTTYPE="image/jpeg":http://storage.ning.com/topology/rest/1.0/
 file/get/1089166704?profile=original
ATTENDEE;ROLE=REQ-PARTICIPANT;PARTSTAT=ACCEPTED;RSVP=TRUE;CN=Anjali:ht
 tp://njyp.org/profile/Anjali841
ATTENDEE;ROLE=REQ-PARTICIPANT;PARTSTAT=ACCEPTED;RSVP=TRUE;CN=John:http
 ://njyp.org/profile/John91
ATTENDEE;ROLE=REQ-PARTICIPANT;PARTSTAT=ACCEPTED;RSVP=TRUE;CN=Kristen:h
 ttp://njyp.org/profile/Kristen256
ATTENDEE;ROLE=REQ-PARTICIPANT;PARTSTAT=ACCEPTED;RSVP=TRUE;CN="Brian Me
 lnick":http://njyp.org/profile/Brian1218
ATTENDEE;ROLE=REQ-PARTICIPANT;PARTSTAT=ACCEPTED;RSVP=TRUE;CN=Atish:htt
 p://njyp.org/profile/Atish
ATTENDEE;ROLE=REQ-PARTICIPANT;PARTSTAT=TENTATIVE;RSVP=TRUE;CN=Suresh:h
 ttp://njyp.org/profile/Suresh20
ATTENDEE;ROLE=REQ-PARTICIPANT;PARTSTAT=TENTATIVE;RSVP=TRUE;CN=Devraj:h
 ttp://njyp.org/profile/Devraj
END:VEVENT
END:VCALENDAR
