BEGIN:VCALENDAR
PRODID:NingEventWidget-v1
VERSION:2.0
METHOD:PUBLISH
BEGIN:VTIMEZONE
TZID:America/New_York
X-LIC-LOCATION:America/New_York
BEGIN:DAYLIGHT
TZOFFSETFROM:-0500
TZOFFSETTO:-0400
TZNAME:EDT
DTSTART:19700308T020000
RRULE:FREQ=YEARLY;BYMONTH=3;BYDAY=2SU
END:DAYLIGHT
BEGIN:STANDARD
TZOFFSETFROM:-0400
TZOFFSETTO:-0500
TZNAME:EST
DTSTART:19701101T020000
RRULE:FREQ=YEARLY;BYMONTH=11;BYDAY=1SU
END:STANDARD
END:VTIMEZONE
BEGIN:VEVENT
UID:2938326:Event:44414
DTSTAMP:20260421T043529Z
SUMMARY:Networking Dinner for Marketing Pros
DESCRIPTION:If you work in marketing you shouldn't miss our next netwo
 rking dinner. Come together with others to discuss what is happening i
 n the industry, projects, sales, ideas, outsourcing, partnerships, fre
 elancers, jobs, and much more. You are almost guaranteed to walk away 
 with new contacts and a new perspective by the end of the night.\n\nWh
 o Can Attend:\nThis will be a Members only event, aka you paid your Me
 mbership Dues.\nTickets are NOT required but you MUST print out a copy
  of your NJYP profile page as proof that you paid your dues. In lieu o
 f printing you can also pull up your profile on your smart phone (book
 mark your URL).\nYou must also be a MARKETING PROFESSIONAL.\n\nRegistr
 ation:\nPlease RSVP (to the right) to register for this event. If you 
 wish to bring a guest they must be a Member and they must RSVP themsel
 ves.\nYou will only need to pay for the cost of your meal, please brin
 g cash.\n\nWhat to Bring:\nBusiness cards, pen and paper, samples of y
 our work.\n\nNJYP Host:\nPaul Kiesche is the owner of Breadcrumb Marke
 ting (breadcrumbmarketing.com) and Paul Kiesche Design, LLC. (paulkies
 chedesign.com). To get in contact with Paul call him at 908-867-7182 o
 r email him at paul@paulkiesche.com.\n\nSchedule:\n6:30 to 7:30 Meet a
 nd Greet and Mingle in the bar area\n7:30 Dinner as a Group in the bac
 k party room\n9:00 More Open Networking\n\nHow to Find the Group:\nLoo
 k for signs. Paul will grab some tables by the bar once he arrives.\n\
 nParking/Directions:\nStreet parking and there is a lot behind the ven
 ue.\nhttp://www.justjakes.com/\n\nPlease note that the Members of NJPr
 ofessionals have also been invited to attend.\n\nFor more information 
 visit http://njyp.org/events/networking-dinner-for-1
DTSTART;TZID=America/New_York:20100302T183000
DTEND;TZID=America/New_York:20100302T210000
CATEGORIES:"essex county", networking
LOCATION:Just Jakes
WEBSITE:http://www.justjakes.com/
URL:http://www.justjakes.com/
CONTACT:
ORGANIZER;CN="Brian and Mike":http://njyp.org/profile/BrianMike
ATTACH;FMTTYPE="image/jpeg":http://storage.ning.com/topology/rest/1.0/
 file/get/1088597350?profile=original
ATTENDEE;ROLE=REQ-PARTICIPANT;PARTSTAT=ACCEPTED;RSVP=TRUE;CN=Pam:http:
 //njyp.org/profile/PamStomel
ATTENDEE;ROLE=REQ-PARTICIPANT;PARTSTAT=ACCEPTED;RSVP=TRUE;CN="Kevin Ha
 ughwout":http://njyp.org/profile/KevinHaughwout
ATTENDEE;ROLE=REQ-PARTICIPANT;PARTSTAT=ACCEPTED;RSVP=TRUE;CN="Isaac Be
 arg":http://njyp.org/profile/IsaacBearg
ATTENDEE;ROLE=REQ-PARTICIPANT;PARTSTAT=ACCEPTED;RSVP=TRUE;CN="Alix Fos
 ter":http://njyp.org/profile/AlixFoster
ATTENDEE;ROLE=REQ-PARTICIPANT;PARTSTAT=ACCEPTED;RSVP=TRUE;CN=Nita:http
 ://njyp.org/profile/NitaSilimkhan
ATTENDEE;ROLE=REQ-PARTICIPANT;PARTSTAT=ACCEPTED;RSVP=TRUE;CN="Stephani
 e Novick":http://njyp.org/profile/StephanieNovick
ATTENDEE;ROLE=REQ-PARTICIPANT;PARTSTAT=ACCEPTED;RSVP=TRUE;CN="Lauren S
 wern":http://njyp.org/profile/LaurenSwern
ATTENDEE;ROLE=REQ-PARTICIPANT;PARTSTAT=ACCEPTED;RSVP=TRUE;CN=Katrina:h
 ttp://njyp.org/profile/KatrinaN
ATTENDEE;ROLE=REQ-PARTICIPANT;PARTSTAT=ACCEPTED;RSVP=TRUE;CN="Steve Br
 own":http://njyp.org/profile/SteveBrown
ATTENDEE;ROLE=REQ-PARTICIPANT;PARTSTAT=ACCEPTED;RSVP=TRUE;CN="Paul Kie
 sche":http://njyp.org/profile/PaulKiesche
ATTENDEE;ROLE=REQ-PARTICIPANT;PARTSTAT=TENTATIVE;RSVP=TRUE;CN="Joanna 
 N. Garcia":http://njyp.org/profile/JoannaNGarcia
ATTENDEE;ROLE=REQ-PARTICIPANT;PARTSTAT=TENTATIVE;RSVP=TRUE;CN="Cristin
 a Bonaldes":http://njyp.org/profile/CristinaBonaldes
ATTENDEE;ROLE=REQ-PARTICIPANT;PARTSTAT=TENTATIVE;RSVP=TRUE;CN="Cavaugh
 n Noel":http://njyp.org/profile/Cavaughn
ATTENDEE;ROLE=REQ-PARTICIPANT;PARTSTAT=TENTATIVE;RSVP=TRUE;CN="rachel 
 irene":http://njyp.org/profile/rachel_irene
END:VEVENT
END:VCALENDAR
