BEGIN:VCALENDAR
PRODID:NingEventWidget-v1
VERSION:2.0
METHOD:PUBLISH
BEGIN:VTIMEZONE
TZID:America/New_York
X-LIC-LOCATION:America/New_York
BEGIN:DAYLIGHT
TZOFFSETFROM:-0500
TZOFFSETTO:-0400
TZNAME:EDT
DTSTART:19700308T020000
RRULE:FREQ=YEARLY;BYMONTH=3;BYDAY=2SU
END:DAYLIGHT
BEGIN:STANDARD
TZOFFSETFROM:-0400
TZOFFSETTO:-0500
TZNAME:EST
DTSTART:19701101T020000
RRULE:FREQ=YEARLY;BYMONTH=11;BYDAY=1SU
END:STANDARD
END:VTIMEZONE
BEGIN:VEVENT
UID:2938326:Event:28589
DTSTAMP:20260420T201726Z
SUMMARY:Networking Dinner for Marketing Pros
DESCRIPTION:If you work in marketing you shouldn't miss our next netwo
 rking dinner. Come together with others to discuss what is happening i
 n the industry, projects, sales, ideas, outsourcing, partnerships, fre
 elancers, jobs, and much more. You are almost guaranteed to walk away 
 with new contacts and a new perspective by the end of the night.\n\nWh
 o Can Attend:\nThis is a “Members Only” event.\nYou must be an NYJ
 P Member (aka paid the Membership Dues).\nYou must also be a MARKETING
  PROFESSIONAL.\n\nRegistration:\nPlease RSVP (to the right) to registe
 r for this event. If you wish to bring a guest they must be a Member a
 nd they must RSVP themselves.\nYou will only need to pay for the cost 
 of your meal, please bring cash.\n\nWhat to Bring:\nBusiness cards, pe
 n and paper, samples of your work.\n\nNJYP Host:\nPaul K will be hosti
 ng this event.\n\nSchedule:\n6:30 to 7:30 Meet and Greet and Mingle\n7
 :30 Dinner as a Group\n9:00 More Open Networking\n\nHow to Find the Gr
 oup:\nLook for signs. Paul will grab some tables in the dining area by
  the bar once he arrives.\n\nParking/Directions:\nTons of free parking
 !\nVanderbilts is inside the Hamilton Park Hotel, http://www.hamiltonp
 arkhotel.com/vanderbilts.php\n\nFor more information visit http://njyp
 .org/events/networking-dinner-for
DTSTART;TZID=America/New_York:20100105T183000
DTEND;TZID=America/New_York:20100105T213000
CATEGORIES:"morris county", networking
LOCATION:Vanderbilts (Hamilton Park Hote)
WEBSITE:http://www.hamiltonparkhotel.com/vanderbilts.php
URL:http://www.hamiltonparkhotel.com/vanderbilts.php
CONTACT:
ORGANIZER;CN="Brian and Mike":http://njyp.org/profile/BrianMike
ATTACH;FMTTYPE="image/jpeg":http://storage.ning.com/topology/rest/1.0/
 file/get/1088577060?profile=original
ATTENDEE;ROLE=REQ-PARTICIPANT;PARTSTAT=ACCEPTED;RSVP=TRUE;CN="Joanna N
 . Garcia":http://njyp.org/profile/JoannaNGarcia
ATTENDEE;ROLE=REQ-PARTICIPANT;PARTSTAT=ACCEPTED;RSVP=TRUE;CN=Kelley:ht
 tp://njyp.org/profile/KelleyBoyle
ATTENDEE;ROLE=REQ-PARTICIPANT;PARTSTAT=ACCEPTED;RSVP=TRUE;CN="Susan Ve
 rnnicek":http://njyp.org/profile/SusanVernnicek
ATTENDEE;ROLE=REQ-PARTICIPANT;PARTSTAT=ACCEPTED;RSVP=TRUE;CN="Isaac Be
 arg":http://njyp.org/profile/IsaacBearg
ATTENDEE;ROLE=REQ-PARTICIPANT;PARTSTAT=ACCEPTED;RSVP=TRUE;CN=Pam:http:
 //njyp.org/profile/PamStomel
ATTENDEE;ROLE=REQ-PARTICIPANT;PARTSTAT=ACCEPTED;RSVP=TRUE;CN="Richard 
 Kin":http://njyp.org/profile/RichardKin
ATTENDEE;ROLE=REQ-PARTICIPANT;PARTSTAT=ACCEPTED;RSVP=TRUE;CN="Julie Mu
 ckleroy":http://njyp.org/profile/JulieMuckleroy
ATTENDEE;ROLE=REQ-PARTICIPANT;PARTSTAT=ACCEPTED;RSVP=TRUE;CN="Laura Si
 lvius":http://njyp.org/profile/LauraSilvius
ATTENDEE;ROLE=REQ-PARTICIPANT;PARTSTAT=ACCEPTED;RSVP=TRUE;CN=Anne:http
 ://njyp.org/profile/AnneMinkoff
ATTENDEE;ROLE=REQ-PARTICIPANT;PARTSTAT=ACCEPTED;RSVP=TRUE;CN="Steve Br
 own":http://njyp.org/profile/SteveBrown
ATTENDEE;ROLE=REQ-PARTICIPANT;PARTSTAT=ACCEPTED;RSVP=TRUE;CN="rachel i
 rene":http://njyp.org/profile/rachel_irene
ATTENDEE;ROLE=REQ-PARTICIPANT;PARTSTAT=ACCEPTED;RSVP=TRUE;CN="Paul Kie
 sche":http://njyp.org/profile/PaulKiesche
ATTENDEE;ROLE=REQ-PARTICIPANT;PARTSTAT=TENTATIVE;RSVP=TRUE;CN=Dan:http
 ://njyp.org/profile/DanD
ATTENDEE;ROLE=REQ-PARTICIPANT;PARTSTAT=TENTATIVE;RSVP=TRUE;CN=Franco:h
 ttp://njyp.org/profile/Franco
ATTENDEE;ROLE=REQ-PARTICIPANT;PARTSTAT=TENTATIVE;RSVP=TRUE;CN=Sherry:h
 ttp://njyp.org/profile/Sherry
ATTENDEE;ROLE=REQ-PARTICIPANT;PARTSTAT=TENTATIVE;RSVP=TRUE;CN="Christo
 pher Huynh":http://njyp.org/profile/Chris145
ATTENDEE;ROLE=REQ-PARTICIPANT;PARTSTAT=TENTATIVE;RSVP=TRUE;CN=David:ht
 tp://njyp.org/profile/DavidKuhn
ATTENDEE;ROLE=REQ-PARTICIPANT;PARTSTAT=TENTATIVE;RSVP=TRUE;CN="Brian a
 nd Mike":http://njyp.org/profile/BrianMike
END:VEVENT
END:VCALENDAR
