BEGIN:VCALENDAR
PRODID:NingEventWidget-v1
VERSION:2.0
METHOD:PUBLISH
BEGIN:VTIMEZONE
TZID:America/New_York
X-LIC-LOCATION:America/New_York
BEGIN:DAYLIGHT
TZOFFSETFROM:-0500
TZOFFSETTO:-0400
TZNAME:EDT
DTSTART:19700308T020000
RRULE:FREQ=YEARLY;BYMONTH=3;BYDAY=2SU
END:DAYLIGHT
BEGIN:STANDARD
TZOFFSETFROM:-0400
TZOFFSETTO:-0500
TZNAME:EST
DTSTART:19701101T020000
RRULE:FREQ=YEARLY;BYMONTH=11;BYDAY=1SU
END:STANDARD
END:VTIMEZONE
BEGIN:VEVENT
UID:2938326:Event:712780
DTSTAMP:20260419T190320Z
SUMMARY:Networking Happy Hour in Bridgewater
DESCRIPTION:Enjoy a Networking Happy Hour at Maggiano's Little Italy!\
 nBreak the ice over ice cold, handcrafted cocktails with dozens of you
 ng professionals. \nEvent fee gives you a guaranteed good crowd to mi
 x with in our reserved area, plus NJYP-only Drink and Food Specials: 
 \nSpecials TBA soon!!\n \nMember Cost: $3 online, $5 at the door\nNon-
 Member Cost: $5 online, $7 at the door\n Who can attend: Young profes
 sionals, single or married, who are 21-39 years of age.  Tickets: All
  sales are final. A limited number of tickets will be sold. This event
  is rain or shine.  How to get there: Maggiano's Little Italy is conv
 eniently located at the Bridgewater Commons. There is ample parking in
  the restaurant's lot.\n How to find the group: We will meet in a sem
 i-private area in the bar/lounge. There will be signs.\n\n\nFor more i
 nformation visit http://njyp.org/events/networking-happy-hour-in-bridg
 ewater
DTSTART;TZID=America/New_York:20160128T180000
DTEND;TZID=America/New_York:20160128T200000
CATEGORIES:"somerset county", social, networking, happy, hour, party, 
 private, specials
LOCATION:Maggiano's Little Italy
WEBSITE:http://www.maggianos.com/
URL:http://www.maggianos.com/
CONTACT:
ORGANIZER;CN="Brian Melnick":http://njyp.org/profile/Brian1218
ATTACH;FMTTYPE="image/jpeg":http://storage.ning.com/topology/rest/1.0/
 file/get/1089086250?profile=original
ATTENDEE;ROLE=REQ-PARTICIPANT;PARTSTAT=ACCEPTED;RSVP=TRUE;CN=Christine
 :http://njyp.org/profile/Christine4
ATTENDEE;ROLE=REQ-PARTICIPANT;PARTSTAT=ACCEPTED;RSVP=TRUE;CN=Dylan:htt
 p://njyp.org/profile/Dylan580
ATTENDEE;ROLE=REQ-PARTICIPANT;PARTSTAT=ACCEPTED;RSVP=TRUE;CN="AnnMarie
  Gervasio":http://njyp.org/profile/AnnMarieGervasio
ATTENDEE;ROLE=REQ-PARTICIPANT;PARTSTAT=ACCEPTED;RSVP=TRUE;CN="Jeffrey 
 Lazu":http://njyp.org/profile/JeffreyLazu
ATTENDEE;ROLE=REQ-PARTICIPANT;PARTSTAT=ACCEPTED;RSVP=TRUE;CN="Brian an
 d Mike":http://njyp.org/profile/BrianMike
ATTENDEE;ROLE=REQ-PARTICIPANT;PARTSTAT=ACCEPTED;RSVP=TRUE;CN="Brian Me
 lnick":http://njyp.org/profile/Brian1218
ATTENDEE;ROLE=REQ-PARTICIPANT;PARTSTAT=ACCEPTED;RSVP=TRUE;CN="Fatima L
 atif":http://njyp.org/profile/FatimaLatif
ATTENDEE;ROLE=REQ-PARTICIPANT;PARTSTAT=ACCEPTED;RSVP=TRUE;CN=Keith:htt
 p://njyp.org/profile/Keith873
ATTENDEE;ROLE=REQ-PARTICIPANT;PARTSTAT=ACCEPTED;RSVP=TRUE;CN="Michael 
 Park":http://njyp.org/profile/MichaelPark
ATTENDEE;ROLE=REQ-PARTICIPANT;PARTSTAT=ACCEPTED;RSVP=TRUE;CN=Lauren:ht
 tp://njyp.org/profile/Lauren91
ATTENDEE;ROLE=REQ-PARTICIPANT;PARTSTAT=TENTATIVE;RSVP=TRUE;CN=Olivia:h
 ttp://njyp.org/profile/Olivia178
ATTENDEE;ROLE=REQ-PARTICIPANT;PARTSTAT=TENTATIVE;RSVP=TRUE;CN=Mike:htt
 p://njyp.org/profile/Mike284
ATTENDEE;ROLE=REQ-PARTICIPANT;PARTSTAT=TENTATIVE;RSVP=TRUE;CN=Nikki:ht
 tp://njyp.org/profile/Nikki700
ATTENDEE;ROLE=REQ-PARTICIPANT;PARTSTAT=TENTATIVE;RSVP=TRUE;CN="Robert 
 F Farley":http://njyp.org/profile/RobertFFarley
END:VEVENT
END:VCALENDAR
