BEGIN:VCALENDAR
PRODID:NingEventWidget-v1
VERSION:2.0
METHOD:PUBLISH
BEGIN:VTIMEZONE
TZID:America/New_York
X-LIC-LOCATION:America/New_York
BEGIN:DAYLIGHT
TZOFFSETFROM:-0500
TZOFFSETTO:-0400
TZNAME:EDT
DTSTART:19700308T020000
RRULE:FREQ=YEARLY;BYMONTH=3;BYDAY=2SU
END:DAYLIGHT
BEGIN:STANDARD
TZOFFSETFROM:-0400
TZOFFSETTO:-0500
TZNAME:EST
DTSTART:19701101T020000
RRULE:FREQ=YEARLY;BYMONTH=11;BYDAY=1SU
END:STANDARD
END:VTIMEZONE
BEGIN:VEVENT
UID:2938326:Event:537553
DTSTAMP:20260419T210312Z
SUMMARY:New Jersey Spring Wine Festival (sponsored)
DESCRIPTION:\n\nNew Jersey Spring Wine Festival Friday, May 9, 2014| 7
 -10PM Enjoy 150+ Wines from the Wine Library!\n • Taste a wide varie
 ty of different wines • Cleanse your palate with delicious hors d’
 oeuvres and enjoy artisan fare at special sampling tables  • Get tas
 ting tips directly from the experts at each tasting table  • Learn a
 bout wine and food pairings, finding great values, and selecting the r
 ight vintage • Optional wine class: Interact with top wine connoisse
 urs at an informative private class during the event • Enjoy LIVE wo
 rld class jazz, adding to the fun, festive atmosphere (NOTE: You must 
 be 21 or older to attend this event.)\n\nNew Jersey Wine Festivals is 
 pleased to invite you to the 7th Annual Spring Wine Festival on Friday
 , May 9, at the Hilton Short Hills, New Jersey’s Premier Urban Resor
 t.\n WINE & FOOD: The connoisseurs from The Wine Library will once aga
 in select over 150 wines for every palate’s pleasure. To accompany t
 he wine, the Hilton's AAA Four Diamond award winning culinary experts 
 will provide a first class selection of hors d'oeuvres, antipasto, che
 ese, breads and pasta.\n\nMUSIC: Enjoy the stellar contemporary jazz m
 usic of acclaimed guitarist Matt Marshak and his band, performing live
  throughout the evening\n\nWINE CLASSES: Two (2) exclusive wine classe
 s will be conducted in our VIP Tasting Area. Times: 7:30pm and 8:30pm.
  (NOTE: An additional $25 per ticket applies.) The instructor will con
 duct a side-by-side tasting of 5 special wines, explaining grape varie
 tal origins and providing tasting notes for each. Advance reservations
  must be made during time of ticket purchase. Classes are 30-40 minute
 . Class space is limited, reserve now!\n\nDISCOUNT HOTEL ROOMS: Enjoy 
 an overnight stay at a discounted rate of $159/night. Use promo code 
 SWF” when calling (973) 379-0100 or 1-800-HILTONS (1-800-445-8667)
  to reserve\n Cost:\n10% off the prices below – USE CODE: NJYP when 
 purchasing your ticket\nStandard: $79 Final Week: $89\n Tickets: http
 ://tinyurl.com/lrqosbj Or purchase by phone: 866-811-4111\n\nDirectio
 ns/Parking: http://www1.hilton.com/en_US/hi/hotel/EWRSHHH-Hilton-Short
 -Hills-New-Jersey/\n\nHow to Find NJYP: This is NOT a group event per 
 se. If you wish to attend please organize your own way to meet up with
  friends and fellow Members.\n\nQuestions? Email info@newjerseywinefes
 tivals.com\n\nFor more information visit http://njyp.org/events/new-je
 rsey-spring-wine-festival-sponsored
DTSTART;TZID=America/New_York:20140509T190000
DTEND;TZID=America/New_York:20140509T220000
CATEGORIES:"essex county", social, "promo code"
LOCATION:Hilton Short Hills
WEBSITE:http://tinyurl.com/lrqosbj
URL:http://tinyurl.com/lrqosbj
CONTACT:
ORGANIZER;CN="Brian and Mike":http://njyp.org/profile/BrianMike
ATTACH;FMTTYPE="image/jpeg":http://storage.ning.com/topology/rest/1.0/
 file/get/1088950710?profile=original
ATTENDEE;ROLE=REQ-PARTICIPANT;PARTSTAT=ACCEPTED;RSVP=TRUE;CN=Michael:h
 ttp://njyp.org/profile/Michael95
ATTENDEE;ROLE=REQ-PARTICIPANT;PARTSTAT=ACCEPTED;RSVP=TRUE;CN=Erika:htt
 p://njyp.org/profile/Erika778
ATTENDEE;ROLE=REQ-PARTICIPANT;PARTSTAT=ACCEPTED;RSVP=TRUE;CN=Patty:htt
 p://njyp.org/profile/Patty727
ATTENDEE;ROLE=REQ-PARTICIPANT;PARTSTAT=ACCEPTED;RSVP=TRUE;CN="Brian an
 d Mike":http://njyp.org/profile/BrianMike
ATTENDEE;ROLE=REQ-PARTICIPANT;PARTSTAT=TENTATIVE;RSVP=TRUE;CN="Jason W
 . Fuchs":http://njyp.org/profile/JasonWFuchs
ATTENDEE;ROLE=REQ-PARTICIPANT;PARTSTAT=TENTATIVE;RSVP=TRUE;CN=Kevin:ht
 tp://njyp.org/profile/Kevin164
ATTENDEE;ROLE=REQ-PARTICIPANT;PARTSTAT=TENTATIVE;RSVP=TRUE;CN=Francisc
 o:http://njyp.org/profile/Francisco110
ATTENDEE;ROLE=REQ-PARTICIPANT;PARTSTAT=TENTATIVE;RSVP=TRUE;CN="Gina An
 drade":http://njyp.org/profile/Gina900
ATTENDEE;ROLE=REQ-PARTICIPANT;PARTSTAT=TENTATIVE;RSVP=TRUE;CN=Jentora:
 http://njyp.org/profile/Jentora
ATTENDEE;ROLE=REQ-PARTICIPANT;PARTSTAT=TENTATIVE;RSVP=TRUE;CN=Larry:ht
 tp://njyp.org/profile/LarryYang
ATTENDEE;ROLE=REQ-PARTICIPANT;PARTSTAT=TENTATIVE;RSVP=TRUE;CN=Walter:h
 ttp://njyp.org/profile/Walter
ATTENDEE;ROLE=REQ-PARTICIPANT;PARTSTAT=TENTATIVE;RSVP=TRUE;CN="Janet S
 tevens":http://njyp.org/profile/JanetStevens
ATTENDEE;ROLE=REQ-PARTICIPANT;PARTSTAT=TENTATIVE;RSVP=TRUE;CN=Karen:ht
 tp://njyp.org/profile/KarenCerone
END:VEVENT
END:VCALENDAR
